BEGIN:VCALENDAR
VERSION:2.0
PRODID:-//Cambridge Radio - ECPv5.7.0//NONSGML v1.0//EN
CALSCALE:GREGORIAN
METHOD:PUBLISH
X-WR-CALNAME:Cambridge Radio
X-ORIGINAL-URL:https://cambridge105.co.uk
X-WR-CALDESC:Events for Cambridge Radio
BEGIN:VTIMEZONE
TZID:Europe/London
BEGIN:DAYLIGHT
TZOFFSETFROM:+0000
TZOFFSETTO:+0100
TZNAME:BST
DTSTART:20240331T010000
END:DAYLIGHT
BEGIN:STANDARD
TZOFFSETFROM:+0100
TZOFFSETTO:+0000
TZNAME:GMT
DTSTART:20241027T010000
END:STANDARD
END:VTIMEZONE
BEGIN:VEVENT
DTSTART;VALUE=DATE:20240419
DTEND;VALUE=DATE:20240419
DTSTAMP:20260420T174056
CREATED:20240303T075021Z
LAST-MODIFIED:20240303T075221Z
UID:90825-1713484800-1713571199@cambridge105.co.uk
SUMMARY:The Fiver - April
DESCRIPTION:The Fiver is a longstanding Cambridge Junction event offering emerging bands the opportunity to play on the J1 stage and take part in Fiver Fest. \nThis month’s line-up is Headcheck\, Christian Smith and The Heretics\, Gabby Rivers\, Lay/Bye\, Vintage Rec.\, and Cleen \nTickets – £7.50 \nDoors open at 6:45pm\, Last entry at 10pm \nTaking place in J1 (Standing) \nUnder 14s must be accompanied b an adult. \nFor info go to https://www.junction.co.uk/events/the-fiver-april/
URL:https://cambridge105.co.uk/event/the-fiver-april-2/
LOCATION:J1 at Cambridge Junction\, Clifton Way\, Cambridge\, CB1 7GX
END:VEVENT
BEGIN:VEVENT
DTSTART;VALUE=DATE:20240419
DTEND;VALUE=DATE:20240421
DTSTAMP:20260420T174056
CREATED:20240301T084344Z
LAST-MODIFIED:20240301T084344Z
UID:90767-1713484800-1713743999@cambridge105.co.uk
SUMMARY:The Lion Inside
DESCRIPTION:No matter your size\, we all have a mouse and a lion inside.’ \nA heart-warming tale about confidence\, self-esteem\, and a shy little mouse who sets out on a journey to find his roar. \nIn a dry dusty place where the sand sparkled gold\, stood a mighty flat rock\, all craggy and old. And under that rock in a tinyful house\, lived the littlest\, quietest\, meekest brown mouse. \nFed up of being ignored and forgotten by the other animals\, Mouse wishes he could roar like Lion. But\, as he discovers\, even the biggest\, bossiest people are scared sometimes … and even the smallest creatures can have the heart of a lion! \nBased on the best-selling story by Rachel Bright & Jim Field\, this brand new stage adaptation is directed by Sarah Punshon (The Jungle Book)\, with music and lyrics by Eamonn O’Dwyer (Brief Encounter). \nAge Guidance – + (but all ages welcome) \nFriday: 1.30pm & 4.30pm/Saturday: 11am & 2pm/Sunday: 11am & 2pm \nAll tickets: £18.00. All ticket prices include a £3 per ticket booking fe. \nFor info go to https://www.cambridgeartstheatre.com/whats-on/lion-inside
URL:https://cambridge105.co.uk/event/the-lion-inside/
LOCATION:Cambridge Art Salon\, 1 Thrifts Walk\, Cambridge\, CB4 1NR
END:VEVENT
BEGIN:VEVENT
DTSTART;VALUE=DATE:20240417
DTEND;VALUE=DATE:20240421
DTSTAMP:20260420T174056
CREATED:20240128T075003Z
LAST-MODIFIED:20240216T111726Z
UID:90297-1713312000-1713743999@cambridge105.co.uk
SUMMARY:Cambridge Literary Festival - Spring Festival 2024
DESCRIPTION:A packed programme of talks and presentations by current authors\, including Andrew O’Hagan (Caledonian Road)\, Francis Pryor (A Fenland Garden)\, Christian Lewis (From Hildasay to Home)\, a Literary Lunch with Ellie Griffiths and Val McDermid. \nFor full details go to  https://www.cambridgeliteraryfestival.com/whats-on/spring-festival-2024/ \nHeld at various central locations around Cambridge.
URL:https://cambridge105.co.uk/event/cambridge-literary-society-spring-festival/
LOCATION:Various\, Cambridge\, Cambridgeshire
END:VEVENT
END:VCALENDAR