BEGIN:VCALENDAR
VERSION:2.0
PRODID:-//Cambridge Radio - ECPv5.7.0//NONSGML v1.0//EN
CALSCALE:GREGORIAN
METHOD:PUBLISH
X-WR-CALNAME:Cambridge Radio
X-ORIGINAL-URL:https://cambridge105.co.uk
X-WR-CALDESC:Events for Cambridge Radio
BEGIN:VTIMEZONE
TZID:Europe/London
BEGIN:DAYLIGHT
TZOFFSETFROM:+0000
TZOFFSETTO:+0100
TZNAME:BST
DTSTART:20240331T010000
END:DAYLIGHT
BEGIN:STANDARD
TZOFFSETFROM:+0100
TZOFFSETTO:+0000
TZNAME:GMT
DTSTART:20241027T010000
END:STANDARD
END:VTIMEZONE
BEGIN:VEVENT
DTSTART;VALUE=DATE:20240503
DTEND;VALUE=DATE:20240503
DTSTAMP:20260424T153513
CREATED:20240503T095523Z
LAST-MODIFIED:20240503T095641Z
UID:91757-1714694400-1714780799@cambridge105.co.uk
SUMMARY:Classical Concert - Roy Howat\, Pianist
DESCRIPTION:Roy Howat performs – \nFryderyk Chopin – Nocturne in E flat\, op 55 no 2 \nMaurice Ravel – Oiseaux tristes; À la manière de Borodine; La vallée des cloches; À la manière de Chabrier \nEmmanuel Chabrier – Ballabile; Improvisation\, Idylle & Scherzo-valse (from Pièces pittoresques) \nGabriel Fauré – 5 Pièces brèves\, op. 84 (nos. 1\, 2\, 5\, 4 & 7) \nChopin – Étude in E\, op 10 no 3; Waltz in A flat\, op 42 \nRoy Howat enjoys an international career as concert pianist and scholar\, with particular renown in the field of French music. A graduate of King’s College\, Cambridge\, he made a special study of French music in Paris with Vlado Perlemuter\, and is repeatedly invited to teach and play French music at major French-speaking Conservatoires and on French radio. \n\nDoors & bar 6:00pm | Concert 7:45pm\, ends 9:00pm\, no interval \nTickets £24 / £12 (under 25). \nFor info go to Roy Howat\, piano (staplefordgranary.org.uk)
URL:https://cambridge105.co.uk/event/classical-concert-roy-howat-pianist/
LOCATION:Stapleford Granary\, Bury Road\, Stapleford\, CB22 5BP
END:VEVENT
BEGIN:VEVENT
DTSTART;VALUE=DATE:20240503
DTEND;VALUE=DATE:20240503
DTSTAMP:20260424T153513
CREATED:20240503T094734Z
LAST-MODIFIED:20240503T094845Z
UID:91755-1714694400-1714780799@cambridge105.co.uk
SUMMARY:Frankie - The Concert
DESCRIPTION:Frankie The Concert celebrates the outstanding career of one of the biggest pop acts in the world\, Frankie Valli\, recreating the powerful falsetto of the 60s & 70s icon with absolute perfection! \nFeaturing a spectacular eight piece band\, Frankie The Concert takes you on a breath taking journey and reminds you why Frankie Valli and The Four Seasons sold more than 100 million records worldwide. \nExperience the energy and stunning vocals of songs such as ‘Can’t Take My Eyes Off You’\, Walk Like a Man’\, ‘Sherry’\, Big Girls Don’t Cry’\, ‘Oh\, What a Night’ and many more. \nPutting their own spin on timeless classics with incredible harmonies and a genuine admiration for the music this show is a powerhouse not to be missed! \nTickets – £29.00\, All tickets include a £3 booking fee. \nFor info go to https://www.cambridgelive.org.uk/cornex/events/frankie-%E2%80%93-concert
URL:https://cambridge105.co.uk/event/frankie-the-concert/
LOCATION:Cambridge Corn Exchange\, 2 Wheeler Street\, Cambridge\, Cambridgeshire\, CB2 3QB\, United Kingdom
END:VEVENT
BEGIN:VEVENT
DTSTART;VALUE=DATE:20240501
DTEND;VALUE=DATE:20240501
DTSTAMP:20260424T153513
CREATED:20240328T081224Z
LAST-MODIFIED:20240328T081359Z
UID:91264-1714521600-1714607999@cambridge105.co.uk
SUMMARY:May Day Morris Dance at Wandlebury
DESCRIPTION:From  5am-6am \nAs the summer sun rises above the Wandlebury woodlands the Devil’s Dyke Morris Men dance to greet it. This traditional English dancing event takes place in the same beautiful spot on May Day each year.  \nMeet on the picnic field at Wandlebury Country Park (signposted from entrance)\, dancing starts at approx. 5.29am.  \nFree event – donations welcome. Hot drinks & snacks available.  \nFor info go to May Day Morris Dance | Cambridge Past\, Present and Future (cambridgeppf.org) \n 
URL:https://cambridge105.co.uk/event/may-day-morris-dance-at-wandlebury-2/
LOCATION:Wandlebury Country Park\,  Cambridge\, Cambridgeshire\, CB22 3AE\, United Kingdom
END:VEVENT
BEGIN:VEVENT
DTSTART;VALUE=DATE:20240430
DTEND;VALUE=DATE:20240430
DTSTAMP:20260424T153513
CREATED:20240428T063147Z
LAST-MODIFIED:20240428T063250Z
UID:91677-1714435200-1714521599@cambridge105.co.uk
SUMMARY:Henry Winkler\, The Fonz\, at Cambridge Corn Exchange
DESCRIPTION:Join the legendary Henry Winkler as he shares stories of his life on the 50th anniversary of his time in Hollywood.\n\n\n\n\n\n\n\nTold he would never achieve\, the Emmy-award winning actor\, bestselling author\, director and producer treads the boards with his heartwarming story of success to celebrate his memoir\, Being Henry.\n\n\nLaunched into stardom as “The Fonz” in the beloved sitcom Happy Days\, Henry has transcended the role that defined a generation of cool. In the enduring glory of that fame\, Henry has endeared himself to new generations of fans with iconic roles in shows such as Arrested Development\, Parks and Recreation\, and Barry.\n\n\nAs if that isn’t enough\, add to the mix a story about his dogs and a live audience Q&A!\n\n\n\n\n\nTickets: £48\, £43\, £38.  Tickets include a £3 booking fee. \n\nFor info go to HENRY WINKLER: The Fonz and Beyond | Cambridge Live
URL:https://cambridge105.co.uk/event/henry-winkler-the-fonz-at-cambridge-corn-exchange/
LOCATION:Cambridge Corn Exchange\, 2 Wheeler Street\, Cambridge\, Cambridgeshire\, CB2 3QB\, United Kingdom
END:VEVENT
BEGIN:VEVENT
DTSTART;VALUE=DATE:20240430
DTEND;VALUE=DATE:20240430
DTSTAMP:20260424T153513
CREATED:20240428T062445Z
LAST-MODIFIED:20240428T062445Z
UID:91675-1714435200-1714521599@cambridge105.co.uk
SUMMARY:Well Beings: James Riley in conversation with Rod Mengham.
DESCRIPTION:Heffers Bookshop\, Cambridge\,  Tuesday\, April 30\, 6 – 7pm. \nCome along to Heffers to celebrate the launch of James Riley’s new book\, ‘Well Beings: How the Seventies Lost its Mind and Taught Us to Find Ourselves’. \nConcepts such as wellness and self-care may feel like distinctly twenty-first century ideas\, but they first gained traction as part of the New Age health movements that began to flourish in the wake of the 1960s. In ‘Well Beings’ Riley – author of the cult hit ‘The Bad Trip: Dark Omens\, New Worlds and the End of the Sixties’ – dives deep into this strange and hypnotic world of panoramic coastal retreats and darkened floatation tanks\, blending a page-turning narrative with illuminating explorations of the era’s music\, film\, art and literature. \n‘There will be a Q+A and a book signing after the event (along with some refreshments!). Copies of the book will be available to purchase. \n\nAll welcome. Tickets available here: https://www.eventbrite.co.uk/e/meet-james-riley-well-beings-tickets-876710985157.
URL:https://cambridge105.co.uk/event/well-beings-james-riley-in-conversation-with-rod-mengham/
LOCATION:Heffers\, 20 Trinity Street\, Cambridge\, Cambridgeshire\, CB2 1TY\, United Kingdom
END:VEVENT
BEGIN:VEVENT
DTSTART;VALUE=DATE:20240428
DTEND;VALUE=DATE:20240428
DTSTAMP:20260424T153513
CREATED:20240301T084909Z
LAST-MODIFIED:20240301T084909Z
UID:90769-1714262400-1714348799@cambridge105.co.uk
SUMMARY:Sir Tim Rice\, My Life in Musicals - I Know HIm So Well
DESCRIPTION:Sir Tim Rice\, the multi award-winning and internationally renowned lyricist\, visits Cambridge with a very special live musical theatre event My Life in Musicals – I Know Him So Well. \nReflecting on his illustrious career\, Tim will share anecdotes behind his songs\, the hits and misses along with stories of his life and live performances from a wonderful catalogue of songs. \nPacked full of hit musical numbers including Don’t Cry For Me Argentina\, Any Dream Will Do\, A Whole New World\, Can You Feel The Love Tonight\, Circle of Life\, Hakuna Matata\, I Know Him So Well and One Night In Bangkok\, My Life in Musicals is an absolute must for fans of musical theatre. \nSunday 28 April\, 7.30pm: £42.00. All ticket prices include a £3 per ticket booking fee. \nFor info go to https://www.cambridgeartstheatre.com/whats-on/tim-rice-my-life-musicals-i-know-him-so-well
URL:https://cambridge105.co.uk/event/sir-tim-rice-my-life-in-musicals-i-know-him-so-well/
LOCATION:Cambridge Arts Theatre\, 6 St Edward's Passage\, Cambridge \, Cambridgeshire\, CB2 3PJ\, United Kingdom
END:VEVENT
BEGIN:VEVENT
DTSTART;VALUE=DATE:20240428
DTEND;VALUE=DATE:20240428
DTSTAMP:20260424T153513
CREATED:20240114T084512Z
LAST-MODIFIED:20240114T084512Z
UID:90098-1714262400-1714348799@cambridge105.co.uk
SUMMARY:Record and CD Fair
DESCRIPTION:Record and CD Fair – thousands of Vinyl LPs and singles\, 12″\, 10″\, 7″\, 33s\, 45s\, Shellac 78s and CDs – rarities and specialties as well as bargains to be had! \n11.00 – 16.00\nEarly Entry at 10.30h = £4/ Entry after 11.00h = £2/ entry after 15.00h = £1 \nSTALLS COST £20 PER TABLE \n(Number is limited so book now! – load in from 9.00 from behind the hall and then find street parking in the area – free on a Sunday) \ncontact Greg Butler e-mail greg@cambridge105.co.uk to book stalls or call on 07866 241 428 for more details
URL:https://cambridge105.co.uk/event/record-and-cd-fair/
LOCATION:NCI Sports and Social Club\, 1 Holland Street\, Cambridge\,  CB4 3DL
END:VEVENT
BEGIN:VEVENT
DTSTART;VALUE=DATE:20240426
DTEND;VALUE=DATE:20240426
DTSTAMP:20260424T153513
CREATED:20240303T080048Z
LAST-MODIFIED:20240423T091736Z
UID:90829-1714089600-1714175999@cambridge105.co.uk
SUMMARY:The Cambridge Band Competition – Grand Final
DESCRIPTION:The Grand Final of the Cambridge Band Competition will be held at Cambridge Junction J1 on Friday 26th April. \nThere are a number of cash\, performance and artist development prizes up for grabs including the prestigious ‘Kimberley Rew Songwriting Prize’\, and all finalists will get to play at Strawberry Fair 2024 on Saturday 1st June! \n\nHistory \nFirst launched in 1985 at Cambridge’s Guildhall\, the competition picked up immediate national attention thanks to Trevor Dann and The Old Grey Whistle Test. Infamously\, Colonel Gomez caused a national controversy with their performance on that show\, controversy that even led to questions being asked in Parliament about the incident! More was to come though\, with the ‘debatable’ decision to award the first prize to The Detective – a decision that caused consternation amongst some as\, although they made the tapes themselves\, The Detective performed on stage to a backing track! \nIn the last 30 years the Cambridge Band Competition has produced some great winners\, and stars who have gone on to do bigger things! \n\n\n7:00 pm taking place in J1 (Standing)\n\n\n\nTickets – £ 10.00 – £ 13.00.\n\nUnder 14s must be accompanied by an adult.\n\n\nFor info go to Cambridge Band Competition Final | Cambridge Junction
URL:https://cambridge105.co.uk/event/the-cambridge-band-competition-grand-final/
LOCATION:J1 at Cambridge Junction\, Clifton Way\, Cambridge\, CB1 7GX
END:VEVENT
BEGIN:VEVENT
DTSTART;VALUE=DATE:20240425
DTEND;VALUE=DATE:20240425
DTSTAMP:20260424T153513
CREATED:20240225T085318Z
LAST-MODIFIED:20240225T085318Z
UID:90699-1714003200-1714089599@cambridge105.co.uk
SUMMARY:Boyzlife at Cambridge Corn Exchange
DESCRIPTION:Get ready to be blown away as Keith and Brian\, take to the stage with their massive hits from Westlife and Boyzone.\nBoyzlife brings together members of two of the biggest boy-bands in history\, Boyzone and Westlife\, to perform a whole host of their biggest chart hits. The boys perform a mixture of both Westlife’s and Boyzone’s biggest hits. \nBrian McFadden enjoyed 12 UK and Ireland number ones as a member of Westlife\, including a record breaking seven top spots in a row. T \nWith Boyzone\, Keith Duffy has enjoyed similar success\, including six UK number one singles and 16 out of 17 of their first single releases making the top five. With five number one albums also to their credit\, \nExpect renditions of Flying Without Wings\, No Matter What\, I Love The Way You Love Me\, Swear It Again\, Love Me For A Reason\, Mandy\, Baby Can I Hold You\, Queen Of My Heart\, You Needed Me\, Unbreakable\, Words\, Fool Again\, How Will I Know\, Picture Of you and World Of Our Own. \nTickets – £47.50\, £39.50\, £35.50\, £33\, Meet & Greet ticket £153\, All tickets include a £3 booking fee. \nFor info go to https://www.cambridgelive.org.uk/cornex/events/boyzlife-4
URL:https://cambridge105.co.uk/event/boyzlife-at-cambridge-corn-exchange/
LOCATION:Cambridge Corn Exchange\, 2 Wheeler Street\, Cambridge\, Cambridgeshire\, CB2 3QB\, United Kingdom
END:VEVENT
BEGIN:VEVENT
DTSTART;VALUE=DATE:20240423
DTEND;VALUE=DATE:20240427
DTSTAMP:20260424T153513
CREATED:20240229T093255Z
LAST-MODIFIED:20240229T093255Z
UID:90752-1713830400-1714262399@cambridge105.co.uk
SUMMARY:Made In Dagenham - The Musical
DESCRIPTION:Inspired by a true story and based on the hit film\, Made in Dagenham is the uplifting musical comedy about friendship\, love and the importance of fighting for what’s right. \nEssex\, 1968. When Ford’s Dagenham car plant drops female workers’ pay\, mum Rita leads her friends in a battle against the mighty company and the corrupted union supposed to protect them. As the women’s journey grows\, so does the pressure. Can Rita keep up the fight and the happy home she’s built? \nFunny\, touching and timeless\, Made in Dagenham shows how ordinary people can do extraordinary things when they stand together. \nThis production is suitable for ages 12 and over. \nNightly performances at 7.45 pm with a matinee at 2.30 pm on Saturday. \nTUE–THU £13.50-£17\, FRI–SAT £15.50-£19 \nFor info go to https://www.adctheatre.com/whats-on/musical/made-in-dagenham-the-musical/ \n 
URL:https://cambridge105.co.uk/event/made-in-dagenham-the-musical/
LOCATION:ADC  Theatre\, Park Street\, Cambridge\,  CB5 8AS
END:VEVENT
END:VCALENDAR