BEGIN:VCALENDAR
VERSION:2.0
PRODID:-//Cambridge Radio - ECPv5.7.0//NONSGML v1.0//EN
CALSCALE:GREGORIAN
METHOD:PUBLISH
X-WR-CALNAME:Cambridge Radio
X-ORIGINAL-URL:https://cambridge105.co.uk
X-WR-CALDESC:Events for Cambridge Radio
BEGIN:VTIMEZONE
TZID:Europe/London
BEGIN:DAYLIGHT
TZOFFSETFROM:+0000
TZOFFSETTO:+0100
TZNAME:BST
DTSTART:20240331T010000
END:DAYLIGHT
BEGIN:STANDARD
TZOFFSETFROM:+0100
TZOFFSETTO:+0000
TZNAME:GMT
DTSTART:20241027T010000
END:STANDARD
END:VTIMEZONE
BEGIN:VEVENT
DTSTART;VALUE=DATE:20240425
DTEND;VALUE=DATE:20240425
DTSTAMP:20260425T152851
CREATED:20240225T085318Z
LAST-MODIFIED:20240225T085318Z
UID:90699-1714003200-1714089599@cambridge105.co.uk
SUMMARY:Boyzlife at Cambridge Corn Exchange
DESCRIPTION:Get ready to be blown away as Keith and Brian\, take to the stage with their massive hits from Westlife and Boyzone.\nBoyzlife brings together members of two of the biggest boy-bands in history\, Boyzone and Westlife\, to perform a whole host of their biggest chart hits. The boys perform a mixture of both Westlife’s and Boyzone’s biggest hits. \nBrian McFadden enjoyed 12 UK and Ireland number ones as a member of Westlife\, including a record breaking seven top spots in a row. T \nWith Boyzone\, Keith Duffy has enjoyed similar success\, including six UK number one singles and 16 out of 17 of their first single releases making the top five. With five number one albums also to their credit\, \nExpect renditions of Flying Without Wings\, No Matter What\, I Love The Way You Love Me\, Swear It Again\, Love Me For A Reason\, Mandy\, Baby Can I Hold You\, Queen Of My Heart\, You Needed Me\, Unbreakable\, Words\, Fool Again\, How Will I Know\, Picture Of you and World Of Our Own. \nTickets – £47.50\, £39.50\, £35.50\, £33\, Meet & Greet ticket £153\, All tickets include a £3 booking fee. \nFor info go to https://www.cambridgelive.org.uk/cornex/events/boyzlife-4
URL:https://cambridge105.co.uk/event/boyzlife-at-cambridge-corn-exchange/
LOCATION:Cambridge Corn Exchange\, 2 Wheeler Street\, Cambridge\, Cambridgeshire\, CB2 3QB\, United Kingdom
END:VEVENT
BEGIN:VEVENT
DTSTART;VALUE=DATE:20240423
DTEND;VALUE=DATE:20240427
DTSTAMP:20260425T152851
CREATED:20240229T093255Z
LAST-MODIFIED:20240229T093255Z
UID:90752-1713830400-1714262399@cambridge105.co.uk
SUMMARY:Made In Dagenham - The Musical
DESCRIPTION:Inspired by a true story and based on the hit film\, Made in Dagenham is the uplifting musical comedy about friendship\, love and the importance of fighting for what’s right. \nEssex\, 1968. When Ford’s Dagenham car plant drops female workers’ pay\, mum Rita leads her friends in a battle against the mighty company and the corrupted union supposed to protect them. As the women’s journey grows\, so does the pressure. Can Rita keep up the fight and the happy home she’s built? \nFunny\, touching and timeless\, Made in Dagenham shows how ordinary people can do extraordinary things when they stand together. \nThis production is suitable for ages 12 and over. \nNightly performances at 7.45 pm with a matinee at 2.30 pm on Saturday. \nTUE–THU £13.50-£17\, FRI–SAT £15.50-£19 \nFor info go to https://www.adctheatre.com/whats-on/musical/made-in-dagenham-the-musical/ \n 
URL:https://cambridge105.co.uk/event/made-in-dagenham-the-musical/
LOCATION:ADC  Theatre\, Park Street\, Cambridge\,  CB5 8AS
END:VEVENT
END:VCALENDAR