BEGIN:VCALENDAR
VERSION:2.0
PRODID:-//Cambridge Radio - ECPv5.7.0//NONSGML v1.0//EN
CALSCALE:GREGORIAN
METHOD:PUBLISH
X-WR-CALNAME:Cambridge Radio
X-ORIGINAL-URL:https://cambridge105.co.uk
X-WR-CALDESC:Events for Cambridge Radio
BEGIN:VTIMEZONE
TZID:Europe/London
BEGIN:DAYLIGHT
TZOFFSETFROM:+0000
TZOFFSETTO:+0100
TZNAME:BST
DTSTART:20260329T010000
END:DAYLIGHT
BEGIN:STANDARD
TZOFFSETFROM:+0100
TZOFFSETTO:+0000
TZNAME:GMT
DTSTART:20261025T010000
END:STANDARD
END:VTIMEZONE
BEGIN:VEVENT
DTSTART;VALUE=DATE:20260121
DTEND;VALUE=DATE:20260227
DTSTAMP:20260422T190330
CREATED:20251220T080725Z
LAST-MODIFIED:20251220T080725Z
UID:100243-1768957200-1772067599@cambridge105.co.uk
SUMMARY:Author Events at Waterstones Book Shop
DESCRIPTION:On Wednesday 21 January from 6pm\, join Nick Bradley\, author\, translator and creative writing tutor at the University of Cambridge\, as he discusses the process of translating a new version of Natsume Sōseki’s classic I Am a Cat for Vintage Classics. Nick will also talk generally about Japanese literature\, cats\, Japan\, and writing. \nWednesday 28 January from 6pm  Medieval historian and YA author Finn Longman discuss their adult fantasy debut The Wolf and His King.  Steeped in the texture of its source material and rendered with a precision of language that feels intimate and timeless\, this novel will transport you. \nOn Wednesday 25 February from 6pm Waterstones Cambridge is delighted to welcome Sunday Times bestselling author Harriet Tyce as she discusses her new novel Witch Trial – an extraordinary thriller which follows two teenage girls and a murdered classmate for a modern-day witch trial that divides the nation. \nTickets are £8 for General Admission\, £5 for Waterstones Loyalty Cardholders\, and book and ticket options are available. Tickets are available to purchase in store and on the website\, www.waterstones.com
URL:https://cambridge105.co.uk/event/author-events-at-waterstones-book-shop/
LOCATION:Waterstones Book Shop\, 22 Sidney Street\, Cambridge\, CB2 3HG
END:VEVENT
BEGIN:VEVENT
DTSTART;VALUE=DATE:20260209
DTEND;VALUE=DATE:20260220
DTSTAMP:20260422T190330
CREATED:20260125T110149Z
LAST-MODIFIED:20260125T110149Z
UID:100707-1770598800-1771462799@cambridge105.co.uk
SUMMARY:Cambridge Arts Festival
DESCRIPTION:The return of the Cambridge Arts Festival is here\, taking place from the 9th February to 18th February 2026. With an exciting programme of multi-disciplinary arts\, culture and community events and initiatives across the city\, there’s something for everyone. \nDelivered by Cambridge BID\, the festival will celebrate the vibrant arts scene\, encourage residents and visitors to discover new creative experiences\, and design events that allow city-centre businesses to contribute to the city’s cultural life. \nEvents include: A Stage in Time: Celebrating 150 Years of the Corn Exchange (Tuesday 17 February and Wednesday 18 February)\, Art Makers Fair (Saturday 14 February)\, Cocktails and calligraphy workshop at The Lab (Friday 13 February) and Ekphrastic Poetry Workshop at the Fitzwilliam Museum (Wednesday 11 February).
URL:https://cambridge105.co.uk/event/cambridge-arts-festival-2/
LOCATION:Cambridgeshire
END:VEVENT
BEGIN:VEVENT
DTSTART;VALUE=DATE:20260211
DTEND;VALUE=DATE:20260216
DTSTAMP:20260422T190330
CREATED:20251231T085855Z
LAST-MODIFIED:20251231T085855Z
UID:100395-1770771600-1771117199@cambridge105.co.uk
SUMMARY:Noel Coward's  Private Lives
DESCRIPTION:Elyot and Amanda are happily married; just not to each other. Five years after their tempestuous divorce\, they find themselves in adjoining hotel suites on their honeymoons with their new\, significantly younger spouses\, Sibyl and Victor. \nThe setup is a recipe for disaster: Elyot and Amanda’s three-year marriage was as passionate as it was explosive\, ending in tragedy. Now\, their unsuspecting new partners\, already uneasy about their spouses’ pasts\, find themselves caught in the crossfire. \nBeneath the haze of cigarette smoke\, the sparkle of champagne\, and its razor-sharp wit\, Private Lives charts the thin line between love and hate\, pleasure and pain. Noël Coward’s classic comedy of manners remains as dazzling\, biting\, and absurdly relatable as ever: a portrait of two people who can’t live with or without each other. \nThis production is suitable for ages 16 and over. \nNightly performances at 7.45 pm with a matinee at 2.30 on the Saturday \nTickets – £10.00 to £17.50 \nFor info go to https://www.adctheatre.com/whats-on/play/private-lives/
URL:https://cambridge105.co.uk/event/noel-cowards-private-lives/
LOCATION:ADC  Theatre\, Park Street\, Cambridge\,  CB5 8AS
END:VEVENT
END:VCALENDAR