BEGIN:VCALENDAR
VERSION:2.0
PRODID:-//Cambridge Radio - ECPv5.7.0//NONSGML v1.0//EN
CALSCALE:GREGORIAN
METHOD:PUBLISH
X-WR-CALNAME:Cambridge Radio
X-ORIGINAL-URL:https://cambridge105.co.uk
X-WR-CALDESC:Events for Cambridge Radio
BEGIN:VTIMEZONE
TZID:Europe/London
BEGIN:DAYLIGHT
TZOFFSETFROM:+0000
TZOFFSETTO:+0100
TZNAME:BST
DTSTART:20250330T010000
END:DAYLIGHT
BEGIN:STANDARD
TZOFFSETFROM:+0100
TZOFFSETTO:+0000
TZNAME:GMT
DTSTART:20251026T010000
END:STANDARD
BEGIN:DAYLIGHT
TZOFFSETFROM:+0000
TZOFFSETTO:+0100
TZNAME:BST
DTSTART:20260329T010000
END:DAYLIGHT
BEGIN:STANDARD
TZOFFSETFROM:+0100
TZOFFSETTO:+0000
TZNAME:GMT
DTSTART:20261025T010000
END:STANDARD
END:VTIMEZONE
BEGIN:VEVENT
DTSTART;VALUE=DATE:20251206
DTEND;VALUE=DATE:20260202
DTSTAMP:20260423T074151
CREATED:20251207T092216Z
LAST-MODIFIED:20251207T092625Z
UID:100090-1764982800-1769907599@cambridge105.co.uk
SUMMARY:Mini Exhibition - Geno Washington
DESCRIPTION:A new mini exhibition at Cambridge Central Library is showcasing five striking portrait photographs of ‘60s soul music legend and former USAF airman\, Geno Washington\, taken by leading photographer John Ferguson. The photographs will be on display until 31 January 2026. (USAF is the acronym for United States Air Force.) \nVisitors can find it on the third floor of Cambridge Central Library\, Lion Yard\, Cambridge\, CB2 3QD. Admission is free. The exhibition will be signposted. \nThe display is part of the Black USAF: Cultural Connections in Cold War East Anglia project — a pioneering heritage initiative uncovering the hidden cultural stories of African American US Air Force personnel stationed in East Anglia from the 1950s to the 1990s. \nFor more information about the project\, visit www.blackusaf.org
URL:https://cambridge105.co.uk/event/mini-exhibition-geno-washington/
LOCATION:Cambridge Library\, Lion Yard\, Cambridge
END:VEVENT
BEGIN:VEVENT
DTSTART;VALUE=DATE:20260121
DTEND;VALUE=DATE:20260227
DTSTAMP:20260423T074151
CREATED:20251220T080725Z
LAST-MODIFIED:20251220T080725Z
UID:100243-1768957200-1772067599@cambridge105.co.uk
SUMMARY:Author Events at Waterstones Book Shop
DESCRIPTION:On Wednesday 21 January from 6pm\, join Nick Bradley\, author\, translator and creative writing tutor at the University of Cambridge\, as he discusses the process of translating a new version of Natsume Sōseki’s classic I Am a Cat for Vintage Classics. Nick will also talk generally about Japanese literature\, cats\, Japan\, and writing. \nWednesday 28 January from 6pm  Medieval historian and YA author Finn Longman discuss their adult fantasy debut The Wolf and His King.  Steeped in the texture of its source material and rendered with a precision of language that feels intimate and timeless\, this novel will transport you. \nOn Wednesday 25 February from 6pm Waterstones Cambridge is delighted to welcome Sunday Times bestselling author Harriet Tyce as she discusses her new novel Witch Trial – an extraordinary thriller which follows two teenage girls and a murdered classmate for a modern-day witch trial that divides the nation. \nTickets are £8 for General Admission\, £5 for Waterstones Loyalty Cardholders\, and book and ticket options are available. Tickets are available to purchase in store and on the website\, www.waterstones.com
URL:https://cambridge105.co.uk/event/author-events-at-waterstones-book-shop/
LOCATION:Waterstones Book Shop\, 22 Sidney Street\, Cambridge\, CB2 3HG
END:VEVENT
BEGIN:VEVENT
DTSTART;VALUE=DATE:20260127
DTEND;VALUE=DATE:20260202
DTSTAMP:20260423T074151
CREATED:20251130T085808Z
LAST-MODIFIED:20251130T085808Z
UID:99995-1769475600-1769907599@cambridge105.co.uk
SUMMARY:Noises Off
DESCRIPTION:Join the cast and crew of “Nothing On” as they embark on a nationwide tour of their new farce! While the dress run was a little shaky\, the doors on the set don’t quite open and interpersonal conflict is at an all-time high\, they open in under a day so the show will have to go on… \nNot so much a peek behind the curtain as a slap behind it\, Noises Off is Michael Frayn’s hilarious and classic romp through the trials of (semi) professional theatre. \nThis production is suitable for ages 12 and over. \nTimes – evening performances at 7.45 pm with a matinee on Saturday at 2.30 pm. \nTickets – £10.00 to £17.50. \nFor info go to https://www.adctheatre.com/whats-on/play/noises-off/
URL:https://cambridge105.co.uk/event/noises-off/
LOCATION:ADC  Theatre\, Park Street\, Cambridge\,  CB5 8AS
END:VEVENT
BEGIN:VEVENT
DTSTART;VALUE=DATE:20260127
DTEND;VALUE=DATE:20260129
DTSTAMP:20260423T074151
CREATED:20251130T092216Z
LAST-MODIFIED:20251130T092216Z
UID:99999-1769475600-1769561999@cambridge105.co.uk
SUMMARY:Robin Ince - The Universe and the Neurodiverse
DESCRIPTION:The Universe and the Neurodiverse is a journey from the outermost planets to our innermost thoughts. \nRobin Ince has spent 15 years hosting the multi award winning The Infinite Monkey Cage with Professor Brian Cox and been at the forefront of the renaissance in science communication. Always keen to explore new avenues of communication\, he has also recently been exploring poetry and was officially given his Poetic License at the 2024 Morecambe Poetry Festival. Combining poetry\, stories\, jokes and music\, this show explores what it is to be human and the incredible diversity of our minds. It is a show about Jane Goodall and chimpanzees\, about Apollo 8 and the Earthrise image\, about our environment\, about climate change\, about neurodiversity and it is about finding joy and inspiration. It is a show created to empower and activate. \nPrice – £ 19.50 \nAge – Under 14s must be accompanied by an adult \nFor info go to https://www.junction.co.uk/events/robin-ince-the-universe-and-the-neurodiverse/
URL:https://cambridge105.co.uk/event/robin-ince-the-universe-and-the-neurodiverse/
LOCATION:Cambridge Junction (J2)\, Clifton Way\, Cambridge\, Cambridgeshire\,  CB1 7GX\, United Kingdom
END:VEVENT
BEGIN:VEVENT
DTSTART;VALUE=DATE:20260127
DTEND;VALUE=DATE:20260129
DTSTAMP:20260423T074151
CREATED:20251201T152835Z
LAST-MODIFIED:20251201T152835Z
UID:100046-1769475600-1769561999@cambridge105.co.uk
SUMMARY:Volunteer Work Party at Wandlebury Country Park
DESCRIPTION:10.30am – 1.30pm \nGet outdoors\, get active\, and make a difference! Come along for a rewarding morning helping to care for Wandlebury’s beautiful green spaces and the wildlife that calls them home. Under the guidance of  knowledgeable wardens\, you’ll spend three hours learning new skills\, meeting like-minded people\, and giving something back to nature. \nWhat to expect: All tools\, equipment and instruction provided/ A friendly\, supportive atmosphere – everyone welcome (over 18s only)/ A chance to enjoy the fresh air while helping to maintain our much-loved park \nWhat to bring: Packed lunch and a mug for refreshments/ Tough clothes and sturdy footwear/ Enthusiasm and a love for the outdoors! \nMeeting point: Notice board\, Wandlebury Country Park \nBooking: Please reserve your free ticket to confirm your place and provide contact details. \nFor info go to https://cambridgeppf.org/etn/volunteer-work-party-16/ \n 
URL:https://cambridge105.co.uk/event/volunteer-work-party-at-wandlebury-country-park-2/
LOCATION:Wandlebury Country Park\,  Cambridge\, Cambridgeshire\, CB22 3AE\, United Kingdom
END:VEVENT
END:VCALENDAR