BEGIN:VCALENDAR
VERSION:2.0
PRODID:-//Cambridge Radio - ECPv5.7.0//NONSGML v1.0//EN
CALSCALE:GREGORIAN
METHOD:PUBLISH
X-WR-CALNAME:Cambridge Radio
X-ORIGINAL-URL:https://cambridge105.co.uk
X-WR-CALDESC:Events for Cambridge Radio
BEGIN:VTIMEZONE
TZID:Europe/London
BEGIN:DAYLIGHT
TZOFFSETFROM:+0000
TZOFFSETTO:+0100
TZNAME:BST
DTSTART:20250330T010000
END:DAYLIGHT
BEGIN:STANDARD
TZOFFSETFROM:+0100
TZOFFSETTO:+0000
TZNAME:GMT
DTSTART:20251026T010000
END:STANDARD
BEGIN:DAYLIGHT
TZOFFSETFROM:+0000
TZOFFSETTO:+0100
TZNAME:BST
DTSTART:20260329T010000
END:DAYLIGHT
BEGIN:STANDARD
TZOFFSETFROM:+0100
TZOFFSETTO:+0000
TZNAME:GMT
DTSTART:20261025T010000
END:STANDARD
END:VTIMEZONE
BEGIN:VEVENT
DTSTART;VALUE=DATE:20251206
DTEND;VALUE=DATE:20260202
DTSTAMP:20260423T080340
CREATED:20251207T092216Z
LAST-MODIFIED:20251207T092625Z
UID:100090-1764982800-1769907599@cambridge105.co.uk
SUMMARY:Mini Exhibition - Geno Washington
DESCRIPTION:A new mini exhibition at Cambridge Central Library is showcasing five striking portrait photographs of ‘60s soul music legend and former USAF airman\, Geno Washington\, taken by leading photographer John Ferguson. The photographs will be on display until 31 January 2026. (USAF is the acronym for United States Air Force.) \nVisitors can find it on the third floor of Cambridge Central Library\, Lion Yard\, Cambridge\, CB2 3QD. Admission is free. The exhibition will be signposted. \nThe display is part of the Black USAF: Cultural Connections in Cold War East Anglia project — a pioneering heritage initiative uncovering the hidden cultural stories of African American US Air Force personnel stationed in East Anglia from the 1950s to the 1990s. \nFor more information about the project\, visit www.blackusaf.org
URL:https://cambridge105.co.uk/event/mini-exhibition-geno-washington/
LOCATION:Cambridge Library\, Lion Yard\, Cambridge
END:VEVENT
BEGIN:VEVENT
DTSTART;VALUE=DATE:20260114
DTEND;VALUE=DATE:20260119
DTSTAMP:20260423T080340
CREATED:20251128T134528Z
LAST-MODIFIED:20251128T134621Z
UID:99985-1768352400-1768697999@cambridge105.co.uk
SUMMARY:Guys and Dolls
DESCRIPTION:Smooth-talking gamblers\, earnest missionaries\, and dazzling showgirls are hilariously intertwined in this timeless musical. Lovable rogue Nathan Detroit seeks a venue for his illicit craps game while the charming Sky Masterson makes a bet that he can win the heart of Sarah Brown\, a determined sergeant at the Save-a-Soul Mission. \nYou’ll find yourself singing all the way home with iconic musical numbers like Luck Be a Lady and Sit Down\, You’re Rockin’ the Boat. \nTickets – From £20.50 \nFor info go to https://www.artstheatre.co.uk/whats-on/guys-and-dolls/
URL:https://cambridge105.co.uk/event/guys-and-dolls/
LOCATION:Cambridge Arts Theatre\, 6 St Edward's Passage\, Cambridge \, Cambridgeshire\, CB2 3PJ\, United Kingdom
END:VEVENT
BEGIN:VEVENT
DTSTART;VALUE=DATE:20260115
DTEND;VALUE=DATE:20260117
DTSTAMP:20260423T080340
CREATED:20260112T091748Z
LAST-MODIFIED:20260112T091748Z
UID:100590-1768438800-1768525199@cambridge105.co.uk
SUMMARY:Bridge City Collective - From The Roots Up
DESCRIPTION:Presented by Bridge City Collective \nFrom the Roots Up is a show championing and providing a platform for talented music artists in Cambridge ranging from spoken word\, folk to hip hop and R&B. Come down on January 15th for a night of spectacular performance\, and who knows\, you might be witnessing the birth of a star! \nMeet the collective building a community across genres. \nSupported by Cambridge Junction\, Youth Music\, Lyrix Organix\, Romsey Mill\, YMCA Cambridge & Anglia Ruskin University. \nVenue – J2 (Standing) \nPrice – Pay What You Feel from £5 \nAges 14+ \nFor info go to https://www.junction.co.uk/events/bridge-city-collective-presents-from-the-roots-up/
URL:https://cambridge105.co.uk/event/bridge-city-collective-from-the-roots-up/
LOCATION:Cambridge Junction (J2)\, Clifton Way\, Cambridge\, Cambridgeshire\,  CB1 7GX\, United Kingdom
END:VEVENT
END:VCALENDAR