BEGIN:VCALENDAR
VERSION:2.0
PRODID:-//Cambridge Radio - ECPv5.7.0//NONSGML v1.0//EN
CALSCALE:GREGORIAN
METHOD:PUBLISH
X-WR-CALNAME:Cambridge Radio
X-ORIGINAL-URL:https://cambridge105.co.uk
X-WR-CALDESC:Events for Cambridge Radio
BEGIN:VTIMEZONE
TZID:Europe/London
BEGIN:DAYLIGHT
TZOFFSETFROM:+0000
TZOFFSETTO:+0100
TZNAME:BST
DTSTART:20250330T010000
END:DAYLIGHT
BEGIN:STANDARD
TZOFFSETFROM:+0100
TZOFFSETTO:+0000
TZNAME:GMT
DTSTART:20251026T010000
END:STANDARD
BEGIN:DAYLIGHT
TZOFFSETFROM:+0000
TZOFFSETTO:+0100
TZNAME:BST
DTSTART:20260329T010000
END:DAYLIGHT
BEGIN:STANDARD
TZOFFSETFROM:+0100
TZOFFSETTO:+0000
TZNAME:GMT
DTSTART:20261025T010000
END:STANDARD
END:VTIMEZONE
BEGIN:VEVENT
DTSTART;VALUE=DATE:20251206
DTEND;VALUE=DATE:20260202
DTSTAMP:20260423T034928
CREATED:20251207T092216Z
LAST-MODIFIED:20251207T092625Z
UID:100090-1764982800-1769907599@cambridge105.co.uk
SUMMARY:Mini Exhibition - Geno Washington
DESCRIPTION:A new mini exhibition at Cambridge Central Library is showcasing five striking portrait photographs of ‘60s soul music legend and former USAF airman\, Geno Washington\, taken by leading photographer John Ferguson. The photographs will be on display until 31 January 2026. (USAF is the acronym for United States Air Force.) \nVisitors can find it on the third floor of Cambridge Central Library\, Lion Yard\, Cambridge\, CB2 3QD. Admission is free. The exhibition will be signposted. \nThe display is part of the Black USAF: Cultural Connections in Cold War East Anglia project — a pioneering heritage initiative uncovering the hidden cultural stories of African American US Air Force personnel stationed in East Anglia from the 1950s to the 1990s. \nFor more information about the project\, visit www.blackusaf.org
URL:https://cambridge105.co.uk/event/mini-exhibition-geno-washington/
LOCATION:Cambridge Library\, Lion Yard\, Cambridge
END:VEVENT
BEGIN:VEVENT
DTSTART;VALUE=DATE:20260113
DTEND;VALUE=DATE:20260115
DTSTAMP:20260423T034928
CREATED:20251128T101324Z
LAST-MODIFIED:20251128T101546Z
UID:99978-1768266000-1768352399@cambridge105.co.uk
SUMMARY:An Evening with Damon Hill in conversation with Tom Clarkson
DESCRIPTION:The 1996 FIA Formula 1 World Drivers’ Champion Damon Hill is one of the sport’s most respected figures\, remembered for his thrilling battles with Michael Schumacher and for partnering the late Ayrton Senna at Williams in 1994. \nIn conversation with Tom Clarkson—acclaimed host of the official F1 podcast Beyond The Grid—Damon will share stories from his remarkable Formula 1 journey\, from his unconventional late entry into the sport at 32 to becoming the first son of a champion to claim the title himself. \nHear first-hand what it was like to pilot those legendary Williams cars\, the inside stories from his battles with Schumacher\, and what it truly means to carry a champion’s name while forging your own path. \nBut this isn’t just a trip down memory lane. Damon will also turn his expert eye to the present\, reflecting on the dramatic 2025 season. What were the defining moments? Which drivers impressed him most? And as we look ahead to what promises to be another thrilling year in 2026\, what can we expect from the upcoming campaign? Plus\, he’ll be taking your questions—so come prepared to quiz one of F1’s most insightful voices. \nDamon remains a symbol of authenticity in motorsport\, proof that champions can be both fierce competitors and true gentlemen. Join us for an evening that celebrates both F1’s golden past and its exciting future. \nM&G tickets available! Includes an intimate 30-minute pre-show chat with Damon\, with a personal signing and the opportunity for a selfie. Exact timings will be communicated a week before the show. \nCost – £38.00 – £163.00 (Including booking fee) \nFor info go to https://www.cornex.co.uk/events/an-evening-with-damon-hill
URL:https://cambridge105.co.uk/event/an-evening-with-damon-hill-in-conversation-with-tom-clarkson/
LOCATION:Cambridge Corn Exchange\, 2 Wheeler Street\, Cambridge\, Cambridgeshire\, CB2 3QB\, United Kingdom
END:VEVENT
BEGIN:VEVENT
DTSTART;VALUE=DATE:20260113
DTEND;VALUE=DATE:20260115
DTSTAMP:20260423T034928
CREATED:20251201T152316Z
LAST-MODIFIED:20251201T152316Z
UID:100044-1768266000-1768352399@cambridge105.co.uk
SUMMARY:Winter Tree ID
DESCRIPTION:10am – 12pm at Wandlebury County Park \nFree guided walk to learn how to identify tree species in winter.  Come along  for a gentle walk to learn how to identify native trees using bark\, buds\, shape and form (and leaves or seeds when available!). \nMeet at the noticeboard in the car park. Please wear footwear and clothing for being outdoors. \nFree event\, suggested donation £3.00. You can book here\, or feel free to just turn up. \nThis is a free event – donations welcome\, but please pay for your car parking on arrival. \nFor info go to https://cambridgeppf.org/etn/winter-tree-id/ \n 
URL:https://cambridge105.co.uk/event/winter-tree-id/
LOCATION:Wandlebury Country Park\,  Cambridge\, Cambridgeshire\, CB22 3AE\, United Kingdom
END:VEVENT
END:VCALENDAR