BEGIN:VCALENDAR
VERSION:2.0
PRODID:-//Cambridge Radio - ECPv5.7.0//NONSGML v1.0//EN
CALSCALE:GREGORIAN
METHOD:PUBLISH
X-WR-CALNAME:Cambridge Radio
X-ORIGINAL-URL:https://cambridge105.co.uk
X-WR-CALDESC:Events for Cambridge Radio
BEGIN:VTIMEZONE
TZID:Europe/London
BEGIN:DAYLIGHT
TZOFFSETFROM:+0000
TZOFFSETTO:+0100
TZNAME:BST
DTSTART:20250330T010000
END:DAYLIGHT
BEGIN:STANDARD
TZOFFSETFROM:+0100
TZOFFSETTO:+0000
TZNAME:GMT
DTSTART:20251026T010000
END:STANDARD
BEGIN:DAYLIGHT
TZOFFSETFROM:+0000
TZOFFSETTO:+0100
TZNAME:BST
DTSTART:20260329T010000
END:DAYLIGHT
BEGIN:STANDARD
TZOFFSETFROM:+0100
TZOFFSETTO:+0000
TZNAME:GMT
DTSTART:20261025T010000
END:STANDARD
END:VTIMEZONE
BEGIN:VEVENT
DTSTART;VALUE=DATE:20251113
DTEND;VALUE=DATE:20260102
DTSTAMP:20260423T002117
CREATED:20251009T061030Z
LAST-MODIFIED:20251207T101103Z
UID:99351-1762995600-1767229199@cambridge105.co.uk
SUMMARY:Christmas Cheer on Parker's Piece
DESCRIPTION:Christmas in Cambridge is back to spread festive cheer on Parker’s Piece! \nDates : 13th November until December 31st \nWander through the sparkling Christmas Market at Parker’s Piece\, glide across Cambridge’s open air ice rink\, lose yourself in the twinkling Christmas Tree Maze\, then rise above the lights on the Big Wheel. Settle in with friends at the cosy Alpine Lodge or book a spot on the Après Terrace to try your hand at curling. With seasonal street food\, warming drinks and magical moments around every corner\, Christmas in Cambridge is the perfect way to celebrate the season in the heart of the city. \n• Where | Parker’s Piece\, Cambridge CB1 1NA. Directions and travel tips: https://www.christmasincambridge.co.uk/directions \n 
URL:https://cambridge105.co.uk/event/christmas-cheer-on-parkers-piece/
LOCATION:Parkers Piece\, Parkside\, Cambridge\, Cambridgeshire\, CB2 1AA\, United Kingdom
END:VEVENT
BEGIN:VEVENT
DTSTART;VALUE=DATE:20251127
DTEND;VALUE=DATE:20260106
DTSTAMP:20260423T002117
CREATED:20251024T114857Z
LAST-MODIFIED:20251207T101312Z
UID:99540-1764205200-1767574799@cambridge105.co.uk
SUMMARY:Sleeping Beauty
DESCRIPTION:Following an extensive refurbishment\, you are invited to attend a grand reawakening… as The Arts Theatre presents a dazzling new production of Sleeping Beauty. \nCambridge’s favourite dame Matt Crosby celebrates his twentieth year on The Arts Theatre stage\, and will be joined by UK Pantomime Award-winning Steven Roberts. \nIn an enchanted kingdom Princess Rose is cursed on the day of her christening by the wicked Carabosse. The Princess is destined to prick her finger on a spinning wheel before her eighteenth birthday\, falling into a deep slumber for 100 years unless awakened by true love’s kiss. \nFor her own protection Rose is sent to live deep within the Botanic Gardens\, only returning to Trumpington Castle on the eve of her eighteenth birthday. However Carabosse has other ideas… Who will take the perilous journey to save the kingdom from the evil fairy’s spell\, once and for all? \nTickets and more information can be found here
URL:https://cambridge105.co.uk/event/sleeping-beauty/
LOCATION:Cambridge Arts Theatre\, 6 St Edward's Passage\, Cambridge \, Cambridgeshire\, CB2 3PJ\, United Kingdom
END:VEVENT
BEGIN:VEVENT
DTSTART;VALUE=DATE:20251206
DTEND;VALUE=DATE:20260202
DTSTAMP:20260423T002117
CREATED:20251207T092216Z
LAST-MODIFIED:20251207T092625Z
UID:100090-1764982800-1769907599@cambridge105.co.uk
SUMMARY:Mini Exhibition - Geno Washington
DESCRIPTION:A new mini exhibition at Cambridge Central Library is showcasing five striking portrait photographs of ‘60s soul music legend and former USAF airman\, Geno Washington\, taken by leading photographer John Ferguson. The photographs will be on display until 31 January 2026. (USAF is the acronym for United States Air Force.) \nVisitors can find it on the third floor of Cambridge Central Library\, Lion Yard\, Cambridge\, CB2 3QD. Admission is free. The exhibition will be signposted. \nThe display is part of the Black USAF: Cultural Connections in Cold War East Anglia project — a pioneering heritage initiative uncovering the hidden cultural stories of African American US Air Force personnel stationed in East Anglia from the 1950s to the 1990s. \nFor more information about the project\, visit www.blackusaf.org
URL:https://cambridge105.co.uk/event/mini-exhibition-geno-washington/
LOCATION:Cambridge Library\, Lion Yard\, Cambridge
END:VEVENT
BEGIN:VEVENT
DTSTART;VALUE=DATE:20251227
DTEND;VALUE=DATE:20251230
DTSTAMP:20260423T002117
CREATED:20251023T065725Z
LAST-MODIFIED:20251023T065725Z
UID:99538-1766797200-1766969999@cambridge105.co.uk
SUMMARY:Swan Lake at Cambridge Corn Exchange
DESCRIPTION:Lose yourself in the magic of classical ballet this new year. \nSwan Lake is arguably the world’s most popular ballet\, and a timeless tale. Prince Siegfried falls in love with Odette\, Queen of the Swans\, only to be tricked into betraying her by the wicked von Rothbart and his daughter Odile. The thrilling sight of a company of swans dancing in perfect harmony is one of the true delights of classical ballet. \nA live orchestra performing Tchaikovsky’s splendid score adds the finishing touch to this spectacular performance\, a treat for ballet lovers and newcomers alike. \nHaving delighted audiences on previous UK tours\, Mergaliyev Classical Ballet returns with a company of international dancers brought together by Artistic Directors Yassaui and Sophie Mergaliyev. \n£23.00 – £46.50 (including booking fee). \nFor info go to https://www.cornex.co.uk/events
URL:https://cambridge105.co.uk/event/swan-lake-at-cambridge-corn-exchange/
LOCATION:Cambridge Corn Exchange\, 2 Wheeler Street\, Cambridge\, Cambridgeshire\, CB2 3QB\, United Kingdom
END:VEVENT
END:VCALENDAR