BEGIN:VCALENDAR
VERSION:2.0
PRODID:-//Cambridge Radio - ECPv5.7.0//NONSGML v1.0//EN
CALSCALE:GREGORIAN
METHOD:PUBLISH
X-WR-CALNAME:Cambridge Radio
X-ORIGINAL-URL:https://cambridge105.co.uk
X-WR-CALDESC:Events for Cambridge Radio
BEGIN:VTIMEZONE
TZID:Europe/London
BEGIN:DAYLIGHT
TZOFFSETFROM:+0000
TZOFFSETTO:+0100
TZNAME:BST
DTSTART:20250330T010000
END:DAYLIGHT
BEGIN:STANDARD
TZOFFSETFROM:+0100
TZOFFSETTO:+0000
TZNAME:GMT
DTSTART:20251026T010000
END:STANDARD
END:VTIMEZONE
BEGIN:VEVENT
DTSTART;VALUE=DATE:20250319
DTEND;VALUE=DATE:20250404
DTSTAMP:20260424T233045
CREATED:20250217T080002Z
LAST-MODIFIED:20250217T080228Z
UID:95872-1742346000-1743811199@cambridge105.co.uk
SUMMARY:Cambridge Festival
DESCRIPTION:Free talks\, films\, exhibitions\, walks and family events. \nWhat is the Cambridge Festival? \nThe Cambridge Festival is a mixture of online\, on-demand and in-person events covering all aspects of the world-leading research happening at Cambridge. Meet some of the researchers and thought-leaders working in some of the pioneering fields that will impact us all. \nSign up for Cambridge Festival updates and special features\, and be the first to know about what to expect in 2025. \nBrowse events by theme – Discovery\, Environment\, Health and Society. \nFor info go to https://www.festival.cam.ac.uk
URL:https://cambridge105.co.uk/event/cambridge-festival-2/
LOCATION:Various
END:VEVENT
BEGIN:VEVENT
DTSTART;VALUE=DATE:20250401
DTEND;VALUE=DATE:20250405
DTSTAMP:20260424T233045
CREATED:20250323T180843Z
LAST-MODIFIED:20250323T182103Z
UID:96544-1743465600-1743897599@cambridge105.co.uk
SUMMARY:Amélie: The Musical at ADC Theatre
DESCRIPTION:Based on the motion picture Amélie written by Jean-Pierre Jeanette and Guillaume Laurant \nAmélie is an extraordinary young woman who lives quietly in the world but loudly in her mind. She covertly improvises small but surprising acts of kindness that bring joy and mayhem. But when a chance at love comes her way\, Amélie realizes that to find happiness she’ll have to risk everything and say what’s in her heart. With a romantic score\, colourful characters\, and a world of fantastical fun\, Amélie is a beautiful tale for the dreamers in everyone. \nThis amateur production of Amélie: The Musical is presented by arrangement with Concord Theatricals Ltd. \nThis production is suitable for ages 8 and over. Content warning – some mild sexual references. \nBook by Craig Lucas\nMusic by Daniel Messé\nLyrics by Nathan Tyson and Daniel Messé \nNightly performances at 7.45pm with a matinee on Saturday at 2.30pm\, tickets from £14.00 – £20.00.
URL:https://cambridge105.co.uk/event/amelie-the-music/
LOCATION:ADC  Theatre\, Park Street\, Cambridge\,  CB5 8AS
END:VEVENT
BEGIN:VEVENT
DTSTART;VALUE=DATE:20250403
DTEND;VALUE=DATE:20250430
DTSTAMP:20260424T233045
CREATED:20250403T063319Z
LAST-MODIFIED:20250403T063319Z
UID:96810-1743638400-1746057599@cambridge105.co.uk
SUMMARY:Easter Punt and Hunt
DESCRIPTION:Easter Punt and Hunt at Punting\, Landing Stage\, Thompsons Lane\, Cambridge CB5 8AQ \nIf you are looking for something a little different to do and don’t mind spending a bit more money as a treat\, the Traditional Punting Company is doing a Easter Punt and Hunt event throughout April. If you book a private or shared chauffeured punt\, you can add on the Easter scavenger hunt and activity booklet for an extra £2.50 per child. \nThe first part of the scavenger hunt is to be completed during the 50 minute punting tour with many Easter-themed activities to complete. The second half will take children around the city in search of clues and Easter eggs. \nAfter children have finished the Easter scavenger hunt\, they can pick up a sweet treat from Hardy’s sweet shop. \nFor info go to Punting Cambridge | Cambridge Punting Tours
URL:https://cambridge105.co.uk/event/easter-punt-and-hunt/
LOCATION:Thompsons Lane\, Cambridge
END:VEVENT
BEGIN:VEVENT
DTSTART;VALUE=DATE:20250404
DTEND;VALUE=DATE:20250404
DTSTAMP:20260424T233045
CREATED:20250210T101243Z
LAST-MODIFIED:20250210T101310Z
UID:95761-1743724800-1743811199@cambridge105.co.uk
SUMMARY:Cambridge Comedy Store
DESCRIPTION:With nearly 40 years’ experience in the business and as the premier name in comedy\, The Comedy Store is renowned as a breeding ground for new comedy talent\, and remains the place to see tomorrow’s stars today. The likes of Eddie Izzard\, John Bishop\, Jimmy Carr\, Rhod Gilbert and Sarah Millican\, have all cut their comedy teeth with them. \nThey bring you “The Best In Stand Up” from around the globe\, showcasing the brightest names in comedy today. \nSimply the funniest show you’ll see all year! \nStrictly 18+ \nVenue – J2 (Unreserved Seating) at 7.30 pm \nPrice – £ 21.00 \nFor info go to https://www.junction.co.uk/events/the-comedy-store-cambridge/
URL:https://cambridge105.co.uk/event/cambridge-comedy-club/
LOCATION:Cambridge Junction (J2)\, Clifton Way\, Cambridge\, Cambridgeshire\,  CB1 7GX\, United Kingdom
END:VEVENT
BEGIN:VEVENT
DTSTART;VALUE=DATE:20250404
DTEND;VALUE=DATE:20250404
DTSTAMP:20260424T233045
CREATED:20250210T101823Z
LAST-MODIFIED:20250210T101823Z
UID:95764-1743724800-1743811199@cambridge105.co.uk
SUMMARY:One Night in Nashville
DESCRIPTION:Inspired by today’s Nashville music scene\, expect an authentic slice of the buzzing Honky Tonk Experience here in the UK. \nThe show features the biggest Modern Country Hits from Chris Stapleton\, Luke Combs\, Carrie Underwood\, Kacey Musgraves and more\, alongside an iconic tribute to their idols\, Dolly Parton\, Johnny Cash and Glen Campbell. \nTransporting the audience to the heart of Nashville today\, the show is led by UK Country/Americana Artist Maria Jordan. \nHer band is made up of the finest multi-instrumentalists\, songwriters and musicians in the Country/Americana scene. \nFollowing a song writing trip to Nashville\, she wanted to bring the soul of Nashville & the music that inspired her songs to UK audiences. \nMake no mistake that this is no typical Country Show\, music lovers will truly have “One Night In Nashville”! \n\nVenue – J1 (Standing)/Time -7:00 PM\n\n\nTickets -£ 29.00.\n\n\nAge – Under 14s must be\n\n\nFor info go to https://www.junction.co.uk/events/one-night-in-nashville/
URL:https://cambridge105.co.uk/event/one-night-in-nashville/
LOCATION:J1 at Cambridge Junction\, Clifton Way\, Cambridge\, CB1 7GX
END:VEVENT
BEGIN:VEVENT
DTSTART;VALUE=DATE:20250404
DTEND;VALUE=DATE:20250404
DTSTAMP:20260424T233045
CREATED:20250217T075326Z
LAST-MODIFIED:20250217T075326Z
UID:95869-1743724800-1743811199@cambridge105.co.uk
SUMMARY:Fen Drayton 10k Race and 2.5k Fun Run
DESCRIPTION:Time: 10k – 10am; 2.5k fun run – 12:30pm\nLocation: Cootes Lane\, Fen Drayton\, CB24 4SL \nFen Drayton is once again hosting its annual 10k race and 2.5k Fun Run in and around the beautiful Fen Drayton Lakes nature reserve. Whether you’re seriously into running\, building your fitness up or want a fun time with family and friends\, this multi terrain event has it all! \nYou can enter now for the 10k race (16 years and upwards) and/or the Fun Run (2.5k – for all ages) by visiting our website at www.fendrayton10k.org \nRaising much needed funds for the local primary school (Fen Drayton Primary School)\, as well as local charities supporting people in the community and across East Anglia. \nFor info e-mail info@fendrayton10k.org
URL:https://cambridge105.co.uk/event/fen-drayton-10k-race-and-2-5k-fun-run/
LOCATION:Cootes Lane\, Fen Drayton\, CB24 4SL
END:VEVENT
END:VCALENDAR