BEGIN:VCALENDAR
VERSION:2.0
PRODID:-//Cambridge Radio - ECPv5.7.0//NONSGML v1.0//EN
CALSCALE:GREGORIAN
METHOD:PUBLISH
X-WR-CALNAME:Cambridge Radio
X-ORIGINAL-URL:https://cambridge105.co.uk
X-WR-CALDESC:Events for Cambridge Radio
BEGIN:VTIMEZONE
TZID:Europe/London
BEGIN:DAYLIGHT
TZOFFSETFROM:+0000
TZOFFSETTO:+0100
TZNAME:BST
DTSTART:20250330T010000
END:DAYLIGHT
BEGIN:STANDARD
TZOFFSETFROM:+0100
TZOFFSETTO:+0000
TZNAME:GMT
DTSTART:20251026T010000
END:STANDARD
END:VTIMEZONE
BEGIN:VEVENT
DTSTART;VALUE=DATE:20250319
DTEND;VALUE=DATE:20250404
DTSTAMP:20260425T111859
CREATED:20250217T080002Z
LAST-MODIFIED:20250217T080228Z
UID:95872-1742346000-1743811199@cambridge105.co.uk
SUMMARY:Cambridge Festival
DESCRIPTION:Free talks\, films\, exhibitions\, walks and family events. \nWhat is the Cambridge Festival? \nThe Cambridge Festival is a mixture of online\, on-demand and in-person events covering all aspects of the world-leading research happening at Cambridge. Meet some of the researchers and thought-leaders working in some of the pioneering fields that will impact us all. \nSign up for Cambridge Festival updates and special features\, and be the first to know about what to expect in 2025. \nBrowse events by theme – Discovery\, Environment\, Health and Society. \nFor info go to https://www.festival.cam.ac.uk
URL:https://cambridge105.co.uk/event/cambridge-festival-2/
LOCATION:Various
END:VEVENT
BEGIN:VEVENT
DTSTART;VALUE=DATE:20250401
DTEND;VALUE=DATE:20250405
DTSTAMP:20260425T111859
CREATED:20250323T180843Z
LAST-MODIFIED:20250323T182103Z
UID:96544-1743465600-1743897599@cambridge105.co.uk
SUMMARY:Amélie: The Musical at ADC Theatre
DESCRIPTION:Based on the motion picture Amélie written by Jean-Pierre Jeanette and Guillaume Laurant \nAmélie is an extraordinary young woman who lives quietly in the world but loudly in her mind. She covertly improvises small but surprising acts of kindness that bring joy and mayhem. But when a chance at love comes her way\, Amélie realizes that to find happiness she’ll have to risk everything and say what’s in her heart. With a romantic score\, colourful characters\, and a world of fantastical fun\, Amélie is a beautiful tale for the dreamers in everyone. \nThis amateur production of Amélie: The Musical is presented by arrangement with Concord Theatricals Ltd. \nThis production is suitable for ages 8 and over. Content warning – some mild sexual references. \nBook by Craig Lucas\nMusic by Daniel Messé\nLyrics by Nathan Tyson and Daniel Messé \nNightly performances at 7.45pm with a matinee on Saturday at 2.30pm\, tickets from £14.00 – £20.00.
URL:https://cambridge105.co.uk/event/amelie-the-music/
LOCATION:ADC  Theatre\, Park Street\, Cambridge\,  CB5 8AS
END:VEVENT
END:VCALENDAR