BEGIN:VCALENDAR
VERSION:2.0
PRODID:-//Cambridge Radio - ECPv5.7.0//NONSGML v1.0//EN
CALSCALE:GREGORIAN
METHOD:PUBLISH
X-WR-CALNAME:Cambridge Radio
X-ORIGINAL-URL:https://cambridge105.co.uk
X-WR-CALDESC:Events for Cambridge Radio
BEGIN:VTIMEZONE
TZID:Europe/London
BEGIN:DAYLIGHT
TZOFFSETFROM:+0000
TZOFFSETTO:+0100
TZNAME:BST
DTSTART:20250330T010000
END:DAYLIGHT
BEGIN:STANDARD
TZOFFSETFROM:+0100
TZOFFSETTO:+0000
TZNAME:GMT
DTSTART:20251026T010000
END:STANDARD
END:VTIMEZONE
BEGIN:VEVENT
DTSTART;VALUE=DATE:20250224
DTEND;VALUE=DATE:20250319
DTSTAMP:20260424T233127
CREATED:20250223T082609Z
LAST-MODIFIED:20250223T082609Z
UID:95924-1740358800-1742259599@cambridge105.co.uk
SUMMARY:4 Week Art Taster Course
DESCRIPTION:Well-being shout out for listeners. Four week art course. \nOver the four weeks you will learn basic art techniques. Try your hand at pottery using terracotta clay you will make a vessel and piece of your choice with ceramist Georgie Field. Learn how to make a landscape collage with local artist Shelford Chandler. Design and make a piece of artwork for your home looking at nature’s patterns in water\, trees\, flowers\, lichen and more with local artist Gail Hoban. Lastly\, continue to explore clay handling techniques with a step by step guide to make your own fun character\, animal\, creature and anything of your choice. \nPrice of entry £25 per session. All proceeds to Arts and Minds\, a local arts mental health charity that delivers art projects to support cambridge residents. \nFor info go to https://www.eventbrite.co.uk/e/art-taster-4-week-course-tickets-1256433720079?aff=oddtdtcreator \nDate Monday 24th Feb\, 3rd March\, 10th March\, 17th March \nVenue: Rowan\, 40 Humberstone Rd\, CB4 1JG (Community art space) \nTime 6.30-9pm \n 
URL:https://cambridge105.co.uk/event/4-week-art-taster-course/
LOCATION:Rowan Charity\, 40 Humberstone Road\, Cambridge\, CB4 1JG
END:VEVENT
BEGIN:VEVENT
DTSTART;VALUE=DATE:20250301
DTEND;VALUE=DATE:20250330
DTSTAMP:20260424T233127
CREATED:20250218T083215Z
LAST-MODIFIED:20250224T071218Z
UID:95888-1740790800-1743296399@cambridge105.co.uk
SUMMARY:Cambridge Band Competition
DESCRIPTION:The competition begins with the Under 18s Competition from mid day followed by the adult competition from 7.00 pm. \nAdult groups competing will be Vince Too Tall Taylor\, Moonshine Coyote\, Wrenway\, Intermission and Black Carrot. \nTickets – £5.00 to £7.00. \nDetails of the bands playing at the second\, third\, fourth and fifth heats on 8th\, 18th\, 22nd\, and 29th are not available on the Portland Arms web site yet.  The Uner 18s final will take place at the 5th heat on the 29th. \nFor info go to  https://theportlandarms.co.uk/
URL:https://cambridge105.co.uk/event/cambridge-band-competition/
LOCATION:The Portland Arms\, 129 Chesterton Road\, Cambridge\, Cambridgeshire\, CB4 3BA\, United Kingdom
END:VEVENT
BEGIN:VEVENT
DTSTART;VALUE=DATE:20250304
DTEND;VALUE=DATE:20250310
DTSTAMP:20260424T233127
CREATED:20250113T094227Z
LAST-MODIFIED:20250113T094417Z
UID:95328-1741050000-1741481999@cambridge105.co.uk
SUMMARY:By The Way\, Meet Vera Stark
DESCRIPTION:The Golden Age of Hollywood sparkled with both legends and forgotten gems. Meet Vera Stark\, a determined actress who begins her journey into film while working as a maid to star Gloria Mitchell. When both women are cast in the hit Southern drama ‘The Belle of New Orleans\,’ it seems Vera’s dreams of stardom might finally come true – but her path through Hollywood’s complex landscape reveals unexpected turns. \nThis clever satire blends screwball comedy with thoughtful commentary on the entertainment industry’s shifting tides and unwritten rules. Vera’s character draws inspiration from Theresa Harris who performed in classics like Baby Face (1933)\, Jezebel (1938)\, and Miracle on 34th Street (1947). Though her name may have faded from marquee lights\, through one woman’s story\, we glimpse an entire era of Hollywood history\, with all its glitter and shadows. \nThis production is suitable for ages 16 and over. \nNightly performances at 7.45 pm. \nTickets – TUE £10-£14\, WED-THU £11.50-£15\, FRI-SAT £13.50-£17 \nFor info go to https://www.adctheatre.com/whats-on/play/by-the-way-meet-vera-stark/
URL:https://cambridge105.co.uk/event/meet-vera-stark/
LOCATION:ADC  Theatre\, Park Street\, Cambridge\,  CB5 8AS
END:VEVENT
END:VCALENDAR