BEGIN:VCALENDAR
VERSION:2.0
PRODID:-//Cambridge Radio - ECPv5.7.0//NONSGML v1.0//EN
CALSCALE:GREGORIAN
METHOD:PUBLISH
X-WR-CALNAME:Cambridge Radio
X-ORIGINAL-URL:https://cambridge105.co.uk
X-WR-CALDESC:Events for Cambridge Radio
BEGIN:VTIMEZONE
TZID:Europe/London
BEGIN:DAYLIGHT
TZOFFSETFROM:+0000
TZOFFSETTO:+0100
TZNAME:BST
DTSTART:20250330T010000
END:DAYLIGHT
BEGIN:STANDARD
TZOFFSETFROM:+0100
TZOFFSETTO:+0000
TZNAME:GMT
DTSTART:20251026T010000
END:STANDARD
END:VTIMEZONE
BEGIN:VEVENT
DTSTART;VALUE=DATE:20250218
DTEND;VALUE=DATE:20250224
DTSTAMP:20260424T214939
CREATED:20241230T085504Z
LAST-MODIFIED:20241230T085504Z
UID:95153-1739840400-1740272399@cambridge105.co.uk
SUMMARY:Lady Windermere's Fan
DESCRIPTION:Lady Windermere is hosting a birthday ball\, when rumours of her husband’s unfaithfulness begin to circulate. The mysterious Mrs Erlynne has been receiving payments from him for months\, much to the shock and horror of Lady Windermere. No one would have ever expected that Lord Windermere would actually invite Mrs Erlynne to the ball! \nLove\, gossip\, and drama sweep through the ballroom as proposals and scandal wreak havoc upon the partygoers. As Mrs Erlynne charms her fellow guests\, Lady Windermere becomes increasingly upset and decides to run away. Hiding a secret\, Mrs Erlynne convinces Lady Windermere that she is doing the wrong thing and confirms that Lord Windermere does love his wife very much. As Mrs Erlynne leaves with her new fiancé\, Lady Windermere is left with a new sense of morality\, and is none the wiser as to who the mysterious Mrs Erlynne truly is… \nThis production is suitable for ages 8 and over. \nPerformances at 7.45 pm with a matinee at 2.30 pm on Saturday. \nTickets – £10.00 to £17.00. \nFor info go to https://www.adctheatre.com/whats-on/play/lady-windermeres-fan/
URL:https://cambridge105.co.uk/event/lady-windermeres-fan/
LOCATION:ADC  Theatre\, Park Street\, Cambridge\,  CB5 8AS
END:VEVENT
BEGIN:VEVENT
DTSTART;VALUE=DATE:20250222
DTEND;VALUE=DATE:20250224
DTSTAMP:20260424T214939
CREATED:20241230T083252Z
LAST-MODIFIED:20241230T083252Z
UID:95145-1740186000-1740272399@cambridge105.co.uk
SUMMARY:Shostakovich Anniversary Concert
DESCRIPTION:Cambridge musicians come together to celebrate the music of the great composer Shostakovich on the 50th anniversary of his death. The Cambridge University Orchestra joins forces with conductor Alpesh Chauhan – a noted interpreter of Shostakovich’s music – in a programme exploring different aspects of the composer’s orchestral output. \nShostakovich expert and Cambridge Faculty of Music member Prof Marina Frolova-Walker gives a free pre-concert talk. \nBooking via Saffron Hall Box Office. Priority Booking from 10-13 January\, general release from 14 January.\nTickes: £25\, £18\, £12 | Concessions: £22.50\, £16\, £10 | Students and under-18s: £5 \nFor info go to https://www.westroad.org/whats-on/cuo-22feb25
URL:https://cambridge105.co.uk/event/shostakovich-anniversary-concert/
LOCATION:West Road Concert Hall\, 11 West Road\, Cambridge\, Cambridgeshire\, CB3 9DP\, United Kingdom
END:VEVENT
BEGIN:VEVENT
DTSTART;VALUE=DATE:20250222
DTEND;VALUE=DATE:20250224
DTSTAMP:20260424T214939
CREATED:20241230T084351Z
LAST-MODIFIED:20241230T084351Z
UID:95149-1740186000-1740272399@cambridge105.co.uk
SUMMARY:Jazz Concert - Empirical Quartet at Stapleford Granary
DESCRIPTION:Nathaniel Facey\, also saxophone | Tom Farmer\, double bass | Lewis Wright\, vibraphone | Shaney Forbes\, drums \nReturning to the Granary following their sold-out concert in 2023\, the multi award-winning Empirical Quartet are among the most admired and individual-sounding bands in contemporary jazz. Renowned for their unbridled creativity\, dazzling improvisatory melodies\, energy and virtuosity\, they have maintained a reputation for over 15 years as ‘a reliable touchstone of contemporary British jazz at its most sophisticated’ (Jazzwise 2022). \nDoors & bar 6:00pm | Concert 7:45pm\, ends 9:00pm\, no interval \nTickets £24 / £12 (under 25) \nFor info go to https://www.staplefordgranary.org.uk/whats-on/events/empirical-quartet-2
URL:https://cambridge105.co.uk/event/jazz-concert-empirical-quartet-at-stapleford-granary/
LOCATION:Stapleford Granary\, Bury Road\, Stapleford\, CB22 5BP
END:VEVENT
END:VCALENDAR