BEGIN:VCALENDAR
VERSION:2.0
PRODID:-//Cambridge Radio - ECPv5.7.0//NONSGML v1.0//EN
CALSCALE:GREGORIAN
METHOD:PUBLISH
X-WR-CALNAME:Cambridge Radio
X-ORIGINAL-URL:https://cambridge105.co.uk
X-WR-CALDESC:Events for Cambridge Radio
BEGIN:VTIMEZONE
TZID:Europe/London
BEGIN:DAYLIGHT
TZOFFSETFROM:+0000
TZOFFSETTO:+0100
TZNAME:BST
DTSTART:20250330T010000
END:DAYLIGHT
BEGIN:STANDARD
TZOFFSETFROM:+0100
TZOFFSETTO:+0000
TZNAME:GMT
DTSTART:20251026T010000
END:STANDARD
END:VTIMEZONE
BEGIN:VEVENT
DTSTART;VALUE=DATE:20250213
DTEND;VALUE=DATE:20250217
DTSTAMP:20260424T214936
CREATED:20241230T080440Z
LAST-MODIFIED:20241230T080440Z
UID:95143-1739408400-1739667599@cambridge105.co.uk
SUMMARY:Patience
DESCRIPTION:Swept up in the aestheticism movement\, all of the well-to-do ladies in the village are vying for the attention of the two contrasting aesthetic village poets. Alas\, their efforts are to no avail as both poets’ hearts are set on Patience\, the village milk-maid. \nPatience\, who claims to have never loved a soul\, is too embroiled in her own endeavours to be interested. However\, this all changes when an old childhood friend reappears… \nThe Cambridge University Gilbert and Sullivan Society exists to put on high quality productions. \nTickets available soon. \nFor info go to Patience | West Road Concert Hall
URL:https://cambridge105.co.uk/event/patience/
LOCATION:West Road Concert Hall\, 11 West Road\, Cambridge\, Cambridgeshire\, CB3 9DP\, United Kingdom
END:VEVENT
BEGIN:VEVENT
DTSTART;VALUE=DATE:20250215
DTEND;VALUE=DATE:20250217
DTSTAMP:20260424T214936
CREATED:20241224T092648Z
LAST-MODIFIED:20241224T092648Z
UID:95041-1739581200-1739667599@cambridge105.co.uk
SUMMARY:Nashville At Heart
DESCRIPTION:After two sold out tours in 2023 and Winter 2024\, Nashville At Heart are back! \nAs the Modern Country Music craze continues to spread across the globe\, ‘Nashville At Heart’ are a band that celebrate the music of some of modern country music’s giants including Luke Combs\, Brad Paisley\, Rascal Flatts\, Taylor Swift\, Keith Urban\, Darius Rucker\, Chris Stapleton\, Carrie Underwood\, Shania Twain & many others. \nBacked by some of the finest session musicians that the UK has seen for a generation\, the show’s male and female vocalists’ prowess is second to none with every nuance of the Nashville sound reproduced in this stunning live spectacle. \nTime –19:30\n\nTickets – £25.50 (Including booking fee). \nFor info go to https://www.cornex.co.uk/events/nashville-at-heart
URL:https://cambridge105.co.uk/event/nashville-at-heart/
LOCATION:Cambridge Corn Exchange\, 2 Wheeler Street\, Cambridge\, Cambridgeshire\, CB2 3QB\, United Kingdom
END:VEVENT
BEGIN:VEVENT
DTSTART;VALUE=DATE:20250215
DTEND;VALUE=DATE:20250217
DTSTAMP:20260424T214936
CREATED:20250101T070618Z
LAST-MODIFIED:20250101T070733Z
UID:95191-1739581200-1739667599@cambridge105.co.uk
SUMMARY:Upwood Ukulele Orchestra
DESCRIPTION:Haslingfield Village Society are hosting a performance of the Upwood Ukulele Orchestra in the Haslingfield Village Hall. \nThe orchestra raises funds for the Magpas Air Ambulance and this event is no exception. All profits will go to MAGPAS. https://magpas.org.uk/ \nTime 6.30pm for a 7pm start. \nTicket Price £18 (in advance only) which includes a substantial Ploughman’s Supper and a dessert. Bring your own drinks. \nPlease contact Maria Stringer for full details at stringerhasfield@aol.com or ring 01223 8671256 \n 
URL:https://cambridge105.co.uk/event/upwood-ukulele-orchestra/
LOCATION:Haslingfield Village Hall\, New Road\, Haslingfield\, CB23 1JP
END:VEVENT
END:VCALENDAR