BEGIN:VCALENDAR
VERSION:2.0
PRODID:-//Cambridge Radio - ECPv5.7.0//NONSGML v1.0//EN
CALSCALE:GREGORIAN
METHOD:PUBLISH
X-WR-CALNAME:Cambridge Radio
X-ORIGINAL-URL:https://cambridge105.co.uk
X-WR-CALDESC:Events for Cambridge Radio
BEGIN:VTIMEZONE
TZID:Europe/London
BEGIN:DAYLIGHT
TZOFFSETFROM:+0000
TZOFFSETTO:+0100
TZNAME:BST
DTSTART:20250330T010000
END:DAYLIGHT
BEGIN:STANDARD
TZOFFSETFROM:+0100
TZOFFSETTO:+0000
TZNAME:GMT
DTSTART:20251026T010000
END:STANDARD
END:VTIMEZONE
BEGIN:VEVENT
DTSTART;VALUE=DATE:20250213
DTEND;VALUE=DATE:20250217
DTSTAMP:20260424T215055
CREATED:20241230T080440Z
LAST-MODIFIED:20241230T080440Z
UID:95143-1739408400-1739667599@cambridge105.co.uk
SUMMARY:Patience
DESCRIPTION:Swept up in the aestheticism movement\, all of the well-to-do ladies in the village are vying for the attention of the two contrasting aesthetic village poets. Alas\, their efforts are to no avail as both poets’ hearts are set on Patience\, the village milk-maid. \nPatience\, who claims to have never loved a soul\, is too embroiled in her own endeavours to be interested. However\, this all changes when an old childhood friend reappears… \nThe Cambridge University Gilbert and Sullivan Society exists to put on high quality productions. \nTickets available soon. \nFor info go to Patience | West Road Concert Hall
URL:https://cambridge105.co.uk/event/patience/
LOCATION:West Road Concert Hall\, 11 West Road\, Cambridge\, Cambridgeshire\, CB3 9DP\, United Kingdom
END:VEVENT
BEGIN:VEVENT
DTSTART;VALUE=DATE:20250214
DTEND;VALUE=DATE:20250216
DTSTAMP:20260424T215055
CREATED:20241230T083916Z
LAST-MODIFIED:20241230T083916Z
UID:95147-1739494800-1739581199@cambridge105.co.uk
SUMMARY:Folk Concert - Rachel Newton at Stapleford Granary
DESCRIPTION:Rachel Newton\, harp and vocals \nSinger\, harpist and composer Rachel Newton draws on old poems and ballads to create a rich\, original contemporary sound. Previously awarded Musician of the Year at both the BBC Radio 2 Folk Award and the Scots Trad Music Award\, Rachel has been shortlisted in the Scottish Album of the Year Award for two of her albums. She is also the recipient of a Critics Award for Theatre in Scotland for Best Use of Music and Sound. \nDoors & bar 6:00pm | Concert 7:45pm\, ends 9:00pm\, no interval \nTickets £24 / £12 (under 25). \nFor info go to https://www.staplefordgranary.org.uk/whats-on/events/rachel-newton-harp
URL:https://cambridge105.co.uk/event/folk-concert-rachel-newton-at-stapleford-granary/
LOCATION:Stapleford Granary\, Bury Road\, Stapleford\, CB22 5BP
END:VEVENT
BEGIN:VEVENT
DTSTART;TZID=Europe/London:20250214T150000
DTEND;TZID=Europe/London:20250214T160000
DTSTAMP:20260424T215055
CREATED:20241231T093153Z
LAST-MODIFIED:20241231T093153Z
UID:95175-1739545200-1739548800@cambridge105.co.uk
SUMMARY:Mindfulness-in-Nature Wellness Walk
DESCRIPTION:The theme will be the deep regenerative wisdom of winter’s decay\, allowing the necessary hibernating pause that leads to spring’s rebirth. This season invites the natural mood of melancholy\, deep reflection and the appreciation of time to regenerate our human batteries during the long dark nights. There will be an invitation to consider how we might engage with nature walks to help us heal from illness and recover from life’s shocks and losses. \nThe walk concludes at the pop-up cafe\, where you can share experiences and make new friends. \n£12 per walk – or discretionary concessionary rate for those on low incomes of £8 – to book naturallymindfulnow@gmail.com \nMeet at Car park noticeboard. \nPlease pay for your car parking on arrival. \nFor info go to https://www.cambridgeppf.org/Event/mindfulness-in-nature-wellness-walk-14feb25
URL:https://cambridge105.co.uk/event/mindfulness-in-nature-wellness-walk-5/
LOCATION:Wandlebury Country Park\,  Cambridge\, Cambridgeshire\, CB22 3AE\, United Kingdom
END:VEVENT
END:VCALENDAR