BEGIN:VCALENDAR
VERSION:2.0
PRODID:-//Cambridge Radio - ECPv5.7.0//NONSGML v1.0//EN
CALSCALE:GREGORIAN
METHOD:PUBLISH
X-WR-CALNAME:Cambridge Radio
X-ORIGINAL-URL:https://cambridge105.co.uk
X-WR-CALDESC:Events for Cambridge Radio
BEGIN:VTIMEZONE
TZID:Europe/London
BEGIN:DAYLIGHT
TZOFFSETFROM:+0000
TZOFFSETTO:+0100
TZNAME:BST
DTSTART:20240331T010000
END:DAYLIGHT
BEGIN:STANDARD
TZOFFSETFROM:+0100
TZOFFSETTO:+0000
TZNAME:GMT
DTSTART:20241027T010000
END:STANDARD
BEGIN:DAYLIGHT
TZOFFSETFROM:+0000
TZOFFSETTO:+0100
TZNAME:BST
DTSTART:20250330T010000
END:DAYLIGHT
BEGIN:STANDARD
TZOFFSETFROM:+0100
TZOFFSETTO:+0000
TZNAME:GMT
DTSTART:20251026T010000
END:STANDARD
END:VTIMEZONE
BEGIN:VEVENT
DTSTART;VALUE=DATE:20241124
DTEND;VALUE=DATE:20250203
DTSTAMP:20260424T150751
CREATED:20241116T075542Z
LAST-MODIFIED:20250112T105530Z
UID:94404-1732410000-1738457999@cambridge105.co.uk
SUMMARY:British Pop Art Exhibition
DESCRIPTION:The acclaimed Goldmark Gallery has teamed up with Cambridge Charity ArtSpace 5-7 Portugal Place. Together they will stage an exciting exhibition of trailblazing British Pop Art at the city’s iconic modernist building and exhibition space. \nThe show will feature vibrant pieces from renowned British artists such as Eduardo Paolozzi\, Patrick Caulfield\, Joe Tilson\, Peter Blake\, Richard Hamilton\, Allen Jones\, RB Kitaj\, and Michael Rothenstein. The exhibition opens to the public on Sunday 24 November and will then run on Thursdays and Saturdays thereafter and by appointment into February. Admission is free. Those bowled over by British Pop will be able to buy the works by visiting the gallery in person or going online at goldmarkart.com/britishpop \nAt the heart of the exhibition is an extraordinary collection of works by Eduardo Paolozzi\, one of the original Pop Artists\, and members of the 1950’s Independent Group. \nSundays and Thursdays. \nFree admission.
URL:https://cambridge105.co.uk/event/british-pop-art-exhibition/
LOCATION:ArtSpace\, 5 - 7 Portugal Place\, Cambridge
END:VEVENT
BEGIN:VEVENT
DTSTART;VALUE=DATE:20250201
DTEND;VALUE=DATE:20250203
DTSTAMP:20260424T150751
CREATED:20241224T091728Z
LAST-MODIFIED:20241224T091829Z
UID:95038-1738371600-1738457999@cambridge105.co.uk
SUMMARY:The Limelight Orchestra
DESCRIPTION:Get ready for an electrifying night as Limelight’s stunning 40-piece orchestra and powerhouse vocalists perform iconic dance\, trance\, and club hits from the ’90s to now. \nPerforming reimagined classics including\, The Chemical Brothers’ Hey Boy Hey Girl* \, Faithless *Insomnia*\, Fatboy Slim *Right Here\, Right Now*\, RoRobert Miles’ Children* and more; this is your chance to dance to orchestral versions of your favourite anthems\, set against a jaw-dropping laser show\, transforming this breathtaking venue into a high-energy club atmosphere. \nWarm up with the pre-show set from DJ Leccy (Lovezoo\, Woodland Disco Festival) at 4pm before the main event kicks off at 5pm. \nThis is a safe\, welcoming event for music lovers of all ages 14 and over* – a perfect chance to introduce friends and family to the captivating world of dance\, trance\, and club music. Don’t miss this unforgettable night! \nTime – 16:00 \nTickets – £36.00 – £47.00 (Including booking fee) \nFor info go to https://www.cornex.co.uk/events/the-limelight-orchestra
URL:https://cambridge105.co.uk/event/the-limelight-orchestra/
LOCATION:Cambridge Corn Exchange\, 2 Wheeler Street\, Cambridge\, Cambridgeshire\, CB2 3QB\, United Kingdom
END:VEVENT
BEGIN:VEVENT
DTSTART;VALUE=DATE:20250201
DTEND;VALUE=DATE:20250203
DTSTAMP:20260424T150751
CREATED:20250107T092301Z
LAST-MODIFIED:20250107T092301Z
UID:95215-1738371600-1738457999@cambridge105.co.uk
SUMMARY:Beats and Rhymes at The Portland Arms
DESCRIPTION:After a successful series of events in 2024\, Beats & Rhymes relaunches at the Portland Arms! \nSaturday 1st February kicks the series off with rap artists from Cambridgeshire and surrounding counties: \nSamuel & Harvs Le Toad/ JDRLY (Savage Streets Records)/ Steljay/ Saint Black/ J Cliff & Mr B (4 The Culture Records)/ Trizzle (appearing on BBC Radio 1Xtra)/ Mr Melta (Runt Life Records)/ SK The Villain/ Mixdat Squad (DJ set). \nOpen-mic cypher hosted by One Wish \nRaising funds for CamSkate\, who are running The Warehouse\, Cambridge’s first indoor skate park\, run by the community\, for the community! \n£1 from each ticket will be donated to CamSkate. \n7:00 pm – 11:00 pm \nCost: £14.30 adv including fees. \nFor info go to https://theportlandarms.co.uk/wp/event/beats-and-rhymes/?instance_id=11803
URL:https://cambridge105.co.uk/event/beats-and-rhymes-at-the-portland-arms/
LOCATION:The Portland Arms\, 129 Chesterton Road\, Cambridge\, Cambridgeshire\, CB4 3BA\, United Kingdom
END:VEVENT
END:VCALENDAR