BEGIN:VCALENDAR
VERSION:2.0
PRODID:-//Cambridge Radio - ECPv5.7.0//NONSGML v1.0//EN
CALSCALE:GREGORIAN
METHOD:PUBLISH
X-WR-CALNAME:Cambridge Radio
X-ORIGINAL-URL:https://cambridge105.co.uk
X-WR-CALDESC:Events for Cambridge Radio
BEGIN:VTIMEZONE
TZID:Europe/London
BEGIN:DAYLIGHT
TZOFFSETFROM:+0000
TZOFFSETTO:+0100
TZNAME:BST
DTSTART:20240331T010000
END:DAYLIGHT
BEGIN:STANDARD
TZOFFSETFROM:+0100
TZOFFSETTO:+0000
TZNAME:GMT
DTSTART:20241027T010000
END:STANDARD
BEGIN:DAYLIGHT
TZOFFSETFROM:+0000
TZOFFSETTO:+0100
TZNAME:BST
DTSTART:20250330T010000
END:DAYLIGHT
BEGIN:STANDARD
TZOFFSETFROM:+0100
TZOFFSETTO:+0000
TZNAME:GMT
DTSTART:20251026T010000
END:STANDARD
END:VTIMEZONE
BEGIN:VEVENT
DTSTART;VALUE=DATE:20241124
DTEND;VALUE=DATE:20250203
DTSTAMP:20260424T083509
CREATED:20241116T075542Z
LAST-MODIFIED:20250112T105530Z
UID:94404-1732410000-1738457999@cambridge105.co.uk
SUMMARY:British Pop Art Exhibition
DESCRIPTION:The acclaimed Goldmark Gallery has teamed up with Cambridge Charity ArtSpace 5-7 Portugal Place. Together they will stage an exciting exhibition of trailblazing British Pop Art at the city’s iconic modernist building and exhibition space. \nThe show will feature vibrant pieces from renowned British artists such as Eduardo Paolozzi\, Patrick Caulfield\, Joe Tilson\, Peter Blake\, Richard Hamilton\, Allen Jones\, RB Kitaj\, and Michael Rothenstein. The exhibition opens to the public on Sunday 24 November and will then run on Thursdays and Saturdays thereafter and by appointment into February. Admission is free. Those bowled over by British Pop will be able to buy the works by visiting the gallery in person or going online at goldmarkart.com/britishpop \nAt the heart of the exhibition is an extraordinary collection of works by Eduardo Paolozzi\, one of the original Pop Artists\, and members of the 1950’s Independent Group. \nSundays and Thursdays. \nFree admission.
URL:https://cambridge105.co.uk/event/british-pop-art-exhibition/
LOCATION:ArtSpace\, 5 - 7 Portugal Place\, Cambridge
END:VEVENT
BEGIN:VEVENT
DTSTART;VALUE=DATE:20250121
DTEND;VALUE=DATE:20250131
DTSTAMP:20260424T083509
CREATED:20241216T090922Z
LAST-MODIFIED:20250112T111428Z
UID:94907-1737421200-1738198799@cambridge105.co.uk
SUMMARY:Waterstones Book Shop Events
DESCRIPTION:Are you ready to brave the dark? Come to the bookshop on Tuesday\, 21 January at 6pm to celebrate the publication of Onyx Storm\, the latest instalment in the explosive\, scintillating\, bestselling romantasy series from Rebecca Yarros. Returning to the richly imagined world of Fourth Wing and Iron Flame\, Onyx Storm finds Violet venturing beyond the walls of Basgiath to seek allies to stand with Navarre. There will be brilliant bookchat\, yummy treats\, and fun activities. \nJoin prize-winning author Stuart Turton on Wednesday\, 22 January at 6pm to celebrate the paperback release of The Last Murder at the End of the World –a dystopian thriller revolving around a murder in an island paradise that holds what is left of the world. An ingenious puzzle\, an extraordinary backdrop\, an audacious solution. Stuart Turton’s debut novel\, The Seven Deaths of Evelyn Hardcastle\, won the Costa First Novel Award and the Books Are My Bag Readers Award for Best Novel\, and Waterstones Thriller of the Month for October 2018. The Last Murder at the End of the World is an outstanding new high concept murder mystery\, an atmospheric\, fiendishly clever race to survive. He will be in conversation with author C.J. Tudor. \nIt’s Veganuary! On Wednesday\, 29 January join activist and author Ed Winters as he discusses his new book How to Argue With a Meat Eater – a thought-provoking book which will teach you to not only become a skilled debater\, but it will arm you with powerful facts and insights that will give pause to even the most devout meat eater. Ed Winters is a compassionate activist\, best-selling author and vegan educator from the UK\, widely known for his award-winning viral online content. He is a prolific public speaker who has been invited to schools\, universities and businesses across the world. \nFor info e-mail Events.Cambridge@Waterstones.com
URL:https://cambridge105.co.uk/event/waterstones-book-shop-events/
LOCATION:Waterstones Book Shop\, 22 Sidney Street\, Cambridge\, CB2 3HG
END:VEVENT
END:VCALENDAR