BEGIN:VCALENDAR
VERSION:2.0
PRODID:-//Cambridge Radio - ECPv5.7.0//NONSGML v1.0//EN
CALSCALE:GREGORIAN
METHOD:PUBLISH
X-WR-CALNAME:Cambridge Radio
X-ORIGINAL-URL:https://cambridge105.co.uk
X-WR-CALDESC:Events for Cambridge Radio
BEGIN:VTIMEZONE
TZID:Europe/London
BEGIN:DAYLIGHT
TZOFFSETFROM:+0000
TZOFFSETTO:+0100
TZNAME:BST
DTSTART:20240331T010000
END:DAYLIGHT
BEGIN:STANDARD
TZOFFSETFROM:+0100
TZOFFSETTO:+0000
TZNAME:GMT
DTSTART:20241027T010000
END:STANDARD
BEGIN:DAYLIGHT
TZOFFSETFROM:+0000
TZOFFSETTO:+0100
TZNAME:BST
DTSTART:20250330T010000
END:DAYLIGHT
BEGIN:STANDARD
TZOFFSETFROM:+0100
TZOFFSETTO:+0000
TZNAME:GMT
DTSTART:20251026T010000
END:STANDARD
END:VTIMEZONE
BEGIN:VEVENT
DTSTART;VALUE=DATE:20241116
DTEND;VALUE=DATE:20241210
DTSTAMP:20260424T035538
CREATED:20241125T091017Z
LAST-MODIFIED:20241125T091112Z
UID:94508-1731718800-1733705999@cambridge105.co.uk
SUMMARY:Anglian Potters Christmas Selling Exhibition
DESCRIPTION:Taking place at All Saints’ Church\, Jesus Lane\, Cambridge. \nA wonderful range of ceramic artwork perfect for presents or for your own use and with a traditional charity Christmas tree. \nFor info go to www.anglianpotters.org.uk
URL:https://cambridge105.co.uk/event/anglian-potters-christmas-selling-exhibition/
LOCATION:All Saints Church\, Pidley Cum Fenton\, nr St. Ives\, United Kingdom
END:VEVENT
BEGIN:VEVENT
DTSTART;VALUE=DATE:20241119
DTEND;VALUE=DATE:20250107
DTSTAMP:20260424T035538
CREATED:20240905T090348Z
LAST-MODIFIED:20240905T090523Z
UID:93371-1731978000-1736125199@cambridge105.co.uk
SUMMARY:Christmas Time Events at Anglesey Abbey
DESCRIPTION:Get ready for a memorable day out at the National Trust’s Anglesey Abbey in Cambridgeshire this Christmas with brand new experiences in the house and gardens. \nMeet Father Christmas as he stops off at Anglesey Abbey to deliver presents before his busiest day of the year. Children can enjoy a cosy story time with Father Christmas and have fun making and decorating a wish to hang on the Christmas tree with Pepper Mint the Elf.Anglesey Abbey is working with The Walking Theatre Company to put on this festive\, immersive Santa experience. Each session lasts for 45-minutes; tickets are £26 per child and an accompanying adult is included in the price. Children will receive a gift from Father Christmas and will have the opportunity to take photos together at the end. \nFather Christmas will be at Anglesey Abbey each Friday\, Saturday and Sunday from 29 November to Sunday 22 December\, with an added bonus of Monday 23 December! For more information and to book your tickets\, please head to the Anglesey Abbey website: nationaltrust.org.uk/angleseyabbey \nMeet Santa’s reindeer – For three days from 21 to 23 December\, come and meet some reindeer in the gardens at Anglesey Abbey and learn some fascinating facts about them. Visitors can chat to the reindeer handlers and enjoy taking photos. \nFor the first time this winter\, 10 beautifully painted bear sculptures will be displayed on a trail through the gardens at Anglesey Abbey. \nIn collaboration with Wild in Art and Walker Books\, the trail promises an enchanting journey through art and adventure\, inspired by the beloved children’s story We’re Going on a Bear Hunt by Michael Rosen\, illustrated by Helen Oxenbury. \nThe grounds are open daily from 9.30am – 4pm and the trail is free for National Trust members while normal admission charges apply for non-National Trust members. \nThe house at Anglesey Abbey will be beautifully decorated for the Christmas season\, with festive displays highlighting Lord Fairhaven’s vast and significant collection. Step inside to discover a treasure-trove of history and admire the themed Christmas decorations in each room. \nFor more information and to plan your visit: nationaltrust.org.uk/angleseyabbey
URL:https://cambridge105.co.uk/event/christmas-time-events-at-anglesey-abbet/
LOCATION:Anglesey Abbey\, Quy Road\, Lode\, Cambridge\, Cambridgeshire\, CB25 9EJ\, United Kingdom
END:VEVENT
BEGIN:VEVENT
DTSTART;VALUE=DATE:20241124
DTEND;VALUE=DATE:20250203
DTSTAMP:20260424T035538
CREATED:20241116T075542Z
LAST-MODIFIED:20250112T105530Z
UID:94404-1732410000-1738457999@cambridge105.co.uk
SUMMARY:British Pop Art Exhibition
DESCRIPTION:The acclaimed Goldmark Gallery has teamed up with Cambridge Charity ArtSpace 5-7 Portugal Place. Together they will stage an exciting exhibition of trailblazing British Pop Art at the city’s iconic modernist building and exhibition space. \nThe show will feature vibrant pieces from renowned British artists such as Eduardo Paolozzi\, Patrick Caulfield\, Joe Tilson\, Peter Blake\, Richard Hamilton\, Allen Jones\, RB Kitaj\, and Michael Rothenstein. The exhibition opens to the public on Sunday 24 November and will then run on Thursdays and Saturdays thereafter and by appointment into February. Admission is free. Those bowled over by British Pop will be able to buy the works by visiting the gallery in person or going online at goldmarkart.com/britishpop \nAt the heart of the exhibition is an extraordinary collection of works by Eduardo Paolozzi\, one of the original Pop Artists\, and members of the 1950’s Independent Group. \nSundays and Thursdays. \nFree admission.
URL:https://cambridge105.co.uk/event/british-pop-art-exhibition/
LOCATION:ArtSpace\, 5 - 7 Portugal Place\, Cambridge
END:VEVENT
BEGIN:VEVENT
DTSTART;VALUE=DATE:20241127
DTEND;VALUE=DATE:20241209
DTSTAMP:20260424T035538
CREATED:20240903T084011Z
LAST-MODIFIED:20240903T084227Z
UID:93332-1732669200-1733619599@cambridge105.co.uk
SUMMARY:Footlights Pantomime - Snow White
DESCRIPTION:A long time ago in a kingdom far far away\, Snow White is celebrating her eighteenth birthday surrounded by bags of dirty washing. With Dame Trudy Wench at her side\, she makes sure that the palace is spick and span for Queen Grismerelda and her handsome son Prince Charming. \nThat is until Snow is banished into the Fantasy Forest\, all thanks to the Magic Mirror\, with nowhere to go and no pennies to her name. Join her\, Trudy\, Grismerelda\, Prince Charming\, Hemingway the Huntsman and the Stardom Seven as the magical story unfolds in the fairest panto of them all! \nThis production will contain innuendo and political humour. While the content is suitable for all ages\, it may not be appropriate for younger audiences. Parental discretion is strongly encouraged. \nNightly performances at 7.45 pm\, with a matinee at 2.30 pm on Saturday\, 7 December. \nTickets – £11.50–£19.50  \nFor info go to https://www.adctheatre.com/whats-on/whatsonpanto/cuadcfootlights-pantomime-2024-snow-white/ \n 
URL:https://cambridge105.co.uk/event/footlights-pantomime-snow-white/
LOCATION:ADC  Theatre\, Park Street\, Cambridge\,  CB5 8AS
END:VEVENT
BEGIN:VEVENT
DTSTART;VALUE=DATE:20241128
DTEND;VALUE=DATE:20250107
DTSTAMP:20260424T035538
CREATED:20240907T082940Z
LAST-MODIFIED:20250109T221754Z
UID:93421-1732755600-1736125199@cambridge105.co.uk
SUMMARY:Arts Theatre Panto - Cinderella
DESCRIPTION:Your carriage awaits… The Arts Theatre’s spectacular family pantomime returns with the most magical rags-to-riches tale of all: Cinderella \nStarring Cambridge favourite Matt Crosby as the lovable Buttons\, expect side-splitting jokes\, sensational song and dance numbers and a sprinkling of glitter that the whole family can enjoy. Further casting to be announced! \nCinderella’s humdrum life is turned upside down after a surprise visit from her Fairy Godmother whisks her into a glittering world of glass slippers\, handsome princes and enchanted pumpkins. But magic just doesn’t happen to girls like Cinderella! Can she escape the evil schemes of her two cruel stepsisters and live happily ever after? \nAge Guidance – 0 – 101! \nTickets – £20.00 to £55.00. \nFor info go to https://www.cambridgeartstheatre.com/whats-on/cinderella-2024 \n 
URL:https://cambridge105.co.uk/event/arts-theatre-panto-cinderella/
LOCATION:Cambridge Arts Theatre\, 6 St. Andrews Passage\, Cambridge\, Cambridgeshire\, CB2 3PJ
END:VEVENT
BEGIN:VEVENT
DTSTART;VALUE=DATE:20241129
DTEND;VALUE=DATE:20241203
DTSTAMP:20260424T035538
CREATED:20240911T082135Z
LAST-MODIFIED:20240911T082135Z
UID:93516-1732842000-1733101199@cambridge105.co.uk
SUMMARY:Winter Wreath Making at Wandlebury
DESCRIPTION:Three sessions – Fri 29 Nov at 1-3pm/4-6pm/ Sat 30 Nov & Sun 1 Dec at 10am-12pm/1-3pm/4-6pm (adults/older teens) \nMake a beautiful wreath for your door\, made from 100% natural materials. \nEach workshop lasts for 2 hours. Starting at either 1pm or 4pm on Friday 29 Nov or 10am\, 1pm or 4pm on Sat/Sun. \nThe 4-6pm workshop on Sat 30 Nov & Sun 1 Dec is for adults/older teens. \n£40/wreath (up to 4 people per wreath). \nRefreshments provided. Takes place in the Stable Rooms. \nDelivered by Wild Thyme & Embers. \nTo book www.wildthymeandembers.co.uk \nFor info go to https://www.cambridgeppf.org/Event/winter-wreath-making-at-wandlebury-nov24
URL:https://cambridge105.co.uk/event/winter-wreath-making-at-wandlebury-2/
LOCATION:Wandlebury Country Park\,  Cambridge\, Cambridgeshire\, CB22 3AE\, United Kingdom
END:VEVENT
BEGIN:VEVENT
DTSTART;VALUE=DATE:20241129
DTEND;VALUE=DATE:20250102
DTSTAMP:20260424T035538
CREATED:20241031T092634Z
LAST-MODIFIED:20241031T092634Z
UID:94184-1732842000-1735693199@cambridge105.co.uk
SUMMARY:Winter Lights at The Botanic Garden
DESCRIPTION:Following the success of last year’s first ever lights trail in the Botanic Garden\, this year’s event will again bring the Garden to life after dark with spectacular displays and artistic interventions – creating a beautiful landscape for visitors to enjoy after dark. \nThe lights will highlight some of the Garden’s most beloved features\, such as the Fountain\, Lake and Glasshouse Range\, and create special experiences around the rest of the Landscape. There will be new\, original installations that are unique to the Garden\, as well as the return of some of last year’s most popular pieces such as the light tunnel and lilies on the Lake. \nThe Café will be on the route with warm offerings\, as well as food stalls halfway round the trail serving hot drinks and light bites to revive spirits and warm up any chilly fingers! \nTo book tickets – \nEmail: tickets@cambridge.gov.uk
URL:https://cambridge105.co.uk/event/winter-lights-at-the-botanic-garden/
LOCATION:University Botanic Garden\, No 1 Brookside\, Cambridge\, Cambridgeshire\, CB2 1JE
END:VEVENT
BEGIN:VEVENT
DTSTART;VALUE=DATE:20241130
DTEND;VALUE=DATE:20241202
DTSTAMP:20260424T035538
CREATED:20240911T082650Z
LAST-MODIFIED:20240911T082650Z
UID:93518-1732928400-1733014799@cambridge105.co.uk
SUMMARY:Fantastical Forest Exhibition
DESCRIPTION:10.30-3pm at Wandlebury Country Park \nFantastical Forest Exhibition 2024 – Celebrating Tree Charter Day \nThe natural cathedral made by the avenue of beech trees at Wandlebury is a wonderful place to experience the weather and the seasons – and it exemplifies all of the 10 principles of the Tree Charter. In its fourth year\, the avenue will host the ever-growing Fantastical Forest collection of hangings\, an extraordinary public art project created by arts and well-being charity Cambridge Curiosity and Imagination with communities across the county. We invite you to wander among this magical world of ideas and celebrate the creativity of our community. \nThe Fantastical Forest event is produced by Cambridge Curiosity & Imagination working with Cambridge Past\, Present & Future and Cambridge Canopy Project. \nFree\, donations welcome. Please pay for your car parking on arrival. \nThis event would be cancelled in the event of high winds\, so if it is very windy\, please check here on the day. \nFor info go to https://www.cambridgeppf.org/Event/fantastical-forest-exhibition-2024-celebrating-tree-charter-day \n 
URL:https://cambridge105.co.uk/event/fantastical-forest-exhibition/
LOCATION:Wandlebury Country Park\,  Cambridge\, Cambridgeshire\, CB22 3AE\, United Kingdom
END:VEVENT
BEGIN:VEVENT
DTSTART;VALUE=DATE:20241130
DTEND;VALUE=DATE:20241203
DTSTAMP:20260424T035538
CREATED:20241113T090830Z
LAST-MODIFIED:20241113T091257Z
UID:94352-1732928400-1733101199@cambridge105.co.uk
SUMMARY:Holy Trinity Parish Church - Christmas Tree Festival
DESCRIPTION:Taking place at North End\, Meldreth\, SG8 6NT \nSaturday 30th of November 11:00 am to 5.00pm \nSunday 1st of December 11:00 am to 4.30pm \nPlease note in your diaries the weekend of the Christmas Tree Festival. Free parking will be available and there is free admittance to the event. \nCome along and enjoy the wonderfully lit and individually decorated tree displays (around 40) which are quite inspirational and pick up the unusual Christmas gift or two from the craft and produce stalls. Buy a raffle ticket to win a wonderful hamper. Homemade soups and a delicious variety of homemade cakes will be available. Noah the Donkey will also be at the Church to greet visitors! \nSorry no dogs except Guide Dogs. \nFree parking in a field at the back of the Church or parking along the road. \nFor info e-mail sharondunford127@yahoo.com
URL:https://cambridge105.co.uk/event/holy-trinity-parish-church-christmas-tree-festival/
LOCATION:Holy Trinity Parish Church\, North End\, Meldreth
END:VEVENT
BEGIN:VEVENT
DTSTART;TZID=Europe/London:20241130T193000
DTEND;TZID=Europe/London:20241130T223000
DTSTAMP:20260424T035538
CREATED:20240924T213440Z
LAST-MODIFIED:20240930T154343Z
UID:93689-1732995000-1733005800@cambridge105.co.uk
SUMMARY:Big Burwell Quiz
DESCRIPTION:Our third in-person Burwell Quiz Night to raise money for the Carnival Fund which supports a large number of local community groups. \nIt is recommended that wherever possible you form teams of 6 and form a complete table. Alternatively you could book as a team of 2\, 3\, or 4 and share with another small team. \nThe quiz will run 8-10.30pm. \nHosted by Gavin Richards from Cambridge 105 Radio\, we are again striving to put together a quiz to test your general knowledge but with a healthy dose of curiosities\, fun and entertainment along the way. You are guaranteed to learn some things that you never knew you needed to know! \nIt is going to be a great night\, get a team together and join the fun. There will be a licensed bar available throughout the evening\, so what are you waiting for…. \nGet your tickets now by visiting The Burwell Carnival Box Office page
URL:https://cambridge105.co.uk/event/big-burwell-quiz/
LOCATION:Burwell Gardiner Memorial Hall\, High Street\, Burwell\, Cambridgeshire\, CB250HD\, United Kingdom
END:VEVENT
END:VCALENDAR