BEGIN:VCALENDAR
VERSION:2.0
PRODID:-//Cambridge Radio - ECPv5.7.0//NONSGML v1.0//EN
CALSCALE:GREGORIAN
METHOD:PUBLISH
X-WR-CALNAME:Cambridge Radio
X-ORIGINAL-URL:https://cambridge105.co.uk
X-WR-CALDESC:Events for Cambridge Radio
BEGIN:VTIMEZONE
TZID:Europe/London
BEGIN:DAYLIGHT
TZOFFSETFROM:+0000
TZOFFSETTO:+0100
TZNAME:BST
DTSTART:20240331T010000
END:DAYLIGHT
BEGIN:STANDARD
TZOFFSETFROM:+0100
TZOFFSETTO:+0000
TZNAME:GMT
DTSTART:20241027T010000
END:STANDARD
END:VTIMEZONE
BEGIN:VEVENT
DTSTART;VALUE=DATE:20241108
DTEND;VALUE=DATE:20241126
DTSTAMP:20260424T035537
CREATED:20241011T083624Z
LAST-MODIFIED:20241107T080521Z
UID:93899-1731027600-1732496399@cambridge105.co.uk
SUMMARY:Cambridge Jazz Festival
DESCRIPTION:Cambridge Jazz Festival is taking place from 8 to 24 November with many exciting groups at various venues around Cambridge. \nAmong the artists performing will be the Brand New Heavies\, Cambridge Jazz Festival Choir\, Schools Jazz Ensemble\, Pat Metheny\, Stella Cole\, Cambridge Funk Jam\, Upbeat Big Band + Linton Jazz Orchestra\, amongst others. \nFor full details go to cambridgejazzfestival.info/whats-on
URL:https://cambridge105.co.uk/event/cambridge-jazz-festival-2/
LOCATION:Various\, Cambridge\, Cambridgeshire
END:VEVENT
BEGIN:VEVENT
DTSTART;VALUE=DATE:20241112
DTEND;VALUE=DATE:20241118
DTSTAMP:20260424T035537
CREATED:20240913T085155Z
LAST-MODIFIED:20240913T085155Z
UID:93560-1731373200-1731805199@cambridge105.co.uk
SUMMARY:Terence Rattigan's Summer\, 1954.
DESCRIPTION:Summer\, 1954. The atmosphere at The Beauregard Private Hotel\, Bournemouth is one of repressed emotions and post-war gentility. In this world of hushed conversations and quiet anonymity\, an unlikely friendship develops between a shy spinster and a retired Army officer. But when a newspaper threatens to reveal the Major’s long-held secret\, will the other residents cast him out for good? \nMeanwhile\, in the heart of the Midlands\, a long-serving teacher is on the verge of retirement from his distinguished public school. Diminished by poor health\, a crumbling marriage\, the distain of his colleagues and the derision of his pupils\, he is given cause to re-examine his life when a young student offers an unexpected gesture of kindness. \nBritain is changing. Nothing will ever be the same again. Terence Rattigan’s one act masterpieces Table Number Seven (from Separate Tables) and The Browning Version are paired for the first time\, capturing one quietly momentous evening seventy years ago. \nStage and screen stars Nathaniel Parker and Dame Siân Phillips lead an ensemble cast\, directed by Olivier Award winner James Dacre\, in this double bill from one of Britain’s most popular 20th century playwrights.\nRunning Time \nTuesday – Saturday\, 7.30pm/ and Thursday & Saturday\, 2.30pm: \nTickdetsw – £25/£35/£40/£45  All ticket prices include a £3 per ticket booking fee \nFor info go to https://www.cambridgeartstheatre.com/whats-on/terence-rattigans-summer-1954
URL:https://cambridge105.co.uk/event/terence-rattigans-summer-1954/
LOCATION:Cambridge Arts Theatre\, 6 St Edward's Passage\, Cambridge \, Cambridgeshire\, CB2 3PJ\, United Kingdom
END:VEVENT
BEGIN:VEVENT
DTSTART;VALUE=DATE:20241116
DTEND;VALUE=DATE:20241119
DTSTAMP:20260424T035537
CREATED:20240911T081654Z
LAST-MODIFIED:20240911T081654Z
UID:93514-1731718800-1731891599@cambridge105.co.uk
SUMMARY:Willow Weaving Workshop
DESCRIPTION:For two days from  10am – 1pm\, 2pm – 5pm \nHave fun and be creative at this willow weaving workshop\, making lanterns and bird feeders. Using this beautiful material you will weave your own pieces to take home for your garden\, ready for the dark evenings and winter months. \nEach workshop lasts for 3 hours. Starting at 10am and 2pm. Please book in advance. Takes place in the Stable Rooms. \n£48 per workshop.  2 people per booking. \nNo experience required. Suitable for adults and older children age 12+ (accompanied). \nDelivered by Wild Thyme & Embers. \nTo book www.wildthymeandembers.co.uk \nPlease pay for your car parking on arrival. \nFor info go to https://www.cambridgeppf.org/Event/willow-weaving-nov2024 \n 
URL:https://cambridge105.co.uk/event/willow-weaving-workshop/
LOCATION:Wandlebury Country Park\,  Cambridge\, Cambridgeshire\, CB22 3AE\, United Kingdom
END:VEVENT
BEGIN:VEVENT
DTSTART;VALUE=DATE:20241116
DTEND;VALUE=DATE:20241118
DTSTAMP:20260424T035537
CREATED:20241111T082917Z
LAST-MODIFIED:20241111T083130Z
UID:94297-1731718800-1731805199@cambridge105.co.uk
SUMMARY:November Fayre
DESCRIPTION:November Fayre Saturday 16th November at Fenstanton United Reformed Church\, Chequer Street\,  Fenstanton\, \nFrom 10-00am -1-00pm. \nMany stalls wuth crafts\,  books\,  jigsaws\,  gifts\, cakes and jams and lots more. \nCome and support your local crafters.
URL:https://cambridge105.co.uk/event/november-fayre/
LOCATION:Fenstanton United Reform Chutch\, Chequer Street\, Fenstanton
END:VEVENT
BEGIN:VEVENT
DTSTART;VALUE=DATE:20241116
DTEND;VALUE=DATE:20241210
DTSTAMP:20260424T035537
CREATED:20241125T091017Z
LAST-MODIFIED:20241125T091112Z
UID:94508-1731718800-1733705999@cambridge105.co.uk
SUMMARY:Anglian Potters Christmas Selling Exhibition
DESCRIPTION:Taking place at All Saints’ Church\, Jesus Lane\, Cambridge. \nA wonderful range of ceramic artwork perfect for presents or for your own use and with a traditional charity Christmas tree. \nFor info go to www.anglianpotters.org.uk
URL:https://cambridge105.co.uk/event/anglian-potters-christmas-selling-exhibition/
LOCATION:All Saints Church\, Pidley Cum Fenton\, nr St. Ives\, United Kingdom
END:VEVENT
END:VCALENDAR