BEGIN:VCALENDAR
VERSION:2.0
PRODID:-//Cambridge Radio - ECPv5.7.0//NONSGML v1.0//EN
CALSCALE:GREGORIAN
METHOD:PUBLISH
X-WR-CALNAME:Cambridge Radio
X-ORIGINAL-URL:https://cambridge105.co.uk
X-WR-CALDESC:Events for Cambridge Radio
BEGIN:VTIMEZONE
TZID:Europe/London
BEGIN:DAYLIGHT
TZOFFSETFROM:+0000
TZOFFSETTO:+0100
TZNAME:BST
DTSTART:20240331T010000
END:DAYLIGHT
BEGIN:STANDARD
TZOFFSETFROM:+0100
TZOFFSETTO:+0000
TZNAME:GMT
DTSTART:20241027T010000
END:STANDARD
END:VTIMEZONE
BEGIN:VEVENT
DTSTART;VALUE=DATE:20241019
DTEND;VALUE=DATE:20241112
DTSTAMP:20260424T035546
CREATED:20241017T081502Z
LAST-MODIFIED:20241020T145654Z
UID:93989-1729296000-1731286799@cambridge105.co.uk
SUMMARY:Let's Go Circular at The Grand Arcade
DESCRIPTION:Held from 19 October – 10 November\, this event aims to teach attendees of the ways they can implement circular economic initiatives into their daily lives through various interactive\, entertaining and informative workshops and pop-ups\, which will populate the shopping centre for the duration of the event. \nWith events for music heads\, eco-enthusiasts\, fashionistas\, arts and crafts fanatics\, animal lovers\, and more\, the event offers the ideal October Half Term family day out. \nThe Grand Arcade will welcome back its award-winning sustainability event\, Let’s Go Circular\, for its third and most ambitious year. Following the success of the past two years\, which had sold out workshops\, this year’s event promises to be bigger and better\, with extended dates to accommodate an even broader range of fun-packed activities for visitors to engage in. \nLet’s Go Circular is Grand Arcade’s annual celebration of sustainability where organisations showcase the innovative and creative ways to embed circular economic initiatives into everyday lives through interactive workshops\, pop up stalls and exhibitions. Visitors are invited to take part in engaging workshops that teach valuable practices such as reducing food waste\, repairing and upcycling items\, extending the lifespan of clothing\, promoting wildlife regeneration at home\, and calculating personal carbon footprints. \nFor further details of the events\, click here.
URL:https://cambridge105.co.uk/event/lets-go-circular-at-the-grand-arcade/
LOCATION:The Grand Arade\, St Andrews Street\, Cambridge\, CB2 3BJ
END:VEVENT
BEGIN:VEVENT
DTSTART;VALUE=DATE:20241108
DTEND;VALUE=DATE:20241126
DTSTAMP:20260424T035546
CREATED:20241011T083624Z
LAST-MODIFIED:20241107T080521Z
UID:93899-1731027600-1732496399@cambridge105.co.uk
SUMMARY:Cambridge Jazz Festival
DESCRIPTION:Cambridge Jazz Festival is taking place from 8 to 24 November with many exciting groups at various venues around Cambridge. \nAmong the artists performing will be the Brand New Heavies\, Cambridge Jazz Festival Choir\, Schools Jazz Ensemble\, Pat Metheny\, Stella Cole\, Cambridge Funk Jam\, Upbeat Big Band + Linton Jazz Orchestra\, amongst others. \nFor full details go to cambridgejazzfestival.info/whats-on
URL:https://cambridge105.co.uk/event/cambridge-jazz-festival-2/
LOCATION:Various\, Cambridge\, Cambridgeshire
END:VEVENT
BEGIN:VEVENT
DTSTART;VALUE=DATE:20241108
DTEND;VALUE=DATE:20241110
DTSTAMP:20260424T035546
CREATED:20241101T081126Z
LAST-MODIFIED:20241107T080744Z
UID:94191-1731027600-1731113999@cambridge105.co.uk
SUMMARY:Sharp Class at The Portland Arms
DESCRIPTION:Presented by The Alley Club. \nSharp Class are a British power trio inspired by iconic artists like The Clash\, The Who and The Sipecials. Their music is a fusion of punk\, soul\, power-pop\, Britpop and rock’n’roll. \nWherever Sharp Class go they always deliver a exciting performance. \nTickets – £12.00 plus booking fee. \nFor info go to: The Portland Arms \n  \n 
URL:https://cambridge105.co.uk/event/sharp-class-at-the-portland-arms/
LOCATION:Cambridgeshire
END:VEVENT
END:VCALENDAR