BEGIN:VCALENDAR
VERSION:2.0
PRODID:-//Cambridge Radio - ECPv5.7.0//NONSGML v1.0//EN
CALSCALE:GREGORIAN
METHOD:PUBLISH
X-WR-CALNAME:Cambridge Radio
X-ORIGINAL-URL:https://cambridge105.co.uk
X-WR-CALDESC:Events for Cambridge Radio
BEGIN:VTIMEZONE
TZID:Europe/London
BEGIN:DAYLIGHT
TZOFFSETFROM:+0000
TZOFFSETTO:+0100
TZNAME:BST
DTSTART:20240331T010000
END:DAYLIGHT
BEGIN:STANDARD
TZOFFSETFROM:+0100
TZOFFSETTO:+0000
TZNAME:GMT
DTSTART:20241027T010000
END:STANDARD
END:VTIMEZONE
BEGIN:VEVENT
DTSTART;VALUE=DATE:20241005
DTEND;VALUE=DATE:20241103
DTSTAMP:20260423T151421
CREATED:20240920T112030Z
LAST-MODIFIED:20241020T144705Z
UID:93636-1728086400-1730509199@cambridge105.co.uk
SUMMARY:Exhibition by Ian Rawlinson
DESCRIPTION:REFRACTOR is an exploration of collective memory as seen through East Anglia’s military past\, an idea which grew out of Rawlinson’s memories of the area surrounding his childhood home in Cambridge\, where an abandoned World War II army depot was used as farmland. \nThe new work is inspired by connections to places and structures in North West Norfolk. Prints and collages reflect Rawlinson’s interest in the effect of decaying concrete and the buildings’ ability to retain the iconography of their former function despite their dereliction. He adds intrusions and abstractions to the images\, drawing out the notion that these places are portals where different timelines meet. \nThe work is presented at the Edge Café\, situated on the Brookfields Hospital site on Mill Road\, Cambridge. The Edge Café is a community café and social enterprise working as a hub for recovery and positive change in Cambridge. \nBorn in Cambridge\, Ian Rawlinson grew up in the city during the 1960s and 1970s. He studied art at Cambridge College of Art & Technology (now Anglia Ruskin University) and left Cambridge in 1982 to further his studies at Winchester School of Art and the Royal College of Art. Since 1985 he has lived and worked in London. To date his work has been shown in many group and solo exhibitions both in the UK and internationally and is held in public and private collections. He was recently elected an Associate Member of the Royal Society of Painter-Printmakers \nFor more info e-mail ian@ianrawlinson.com
URL:https://cambridge105.co.uk/event/exhibition-by-ian-rawlinson/
LOCATION:The Edge Cafe\, 351 Mill Road\, Cambridge\, CB1 3DF
END:VEVENT
BEGIN:VEVENT
DTSTART;VALUE=DATE:20241012
DTEND;VALUE=DATE:20241023
DTSTAMP:20260423T151421
CREATED:20241007T083102Z
LAST-MODIFIED:20241020T145330Z
UID:93799-1728691200-1729727999@cambridge105.co.uk
SUMMARY:Waterstones Book Evenings
DESCRIPTION:On Saturday\, 12 October at 6pm join author Bex Hogan as she celebrates the publication of Nettle – a haunting\, heart wrenching tale inspired by faery myth and folklore of a girl called Nettle in a dark\, foreboding faery kingdom.She will be in conversation with fellow YA fantasy author Holly Race. \nJoin Booker shortlisted author Daisy Johnson on Wednesday 16 October at 6pm as she discusses her highly-anticipated new collection of short stories\, The Hotel – a stunning triumph of contemporary horror set in the fens that will haunt you long after you turn the final page. . She will be in conversation with Megan Hunter\, author of The End We Start From (Waterstones Fiction Book of the Month May 2018; adapted for the screen starring Jodie Cromer) and The Harpy. \nAward-winning author of Small Pleasures Clare Chambers will be in the bookshop on Wednesday\, 23 October at 6pm to discuss her new\, captivating novel Shy Creatures – a life-affirming novel about all the different ways we can be confined\, the joy of freedom\, and the transformative power of kindness. Book signing to follow. \nThe events will take place at 6.00 pm Waterstones Cambridge\, 22 Sidney Street\, Cambridge\, CB2 3HG. Tickets are £8 for General Admission\, £5 for Waterstones Loyalty Cardholders\, book and ticket options are available. Tickets are available to purchase on the Waterstones website.
URL:https://cambridge105.co.uk/event/waterstones-book-evenings-2/
LOCATION:Waterstones Book Shop\, 22 Sidney Street\, Cambridge\, CB2 3HG
END:VEVENT
BEGIN:VEVENT
DTSTART;VALUE=DATE:20241019
DTEND;VALUE=DATE:20241102
DTSTAMP:20260423T151421
CREATED:20241001T081413Z
LAST-MODIFIED:20241020T145511Z
UID:93762-1729296000-1730422799@cambridge105.co.uk
SUMMARY:Pick Your Own Pumpkin Patch
DESCRIPTION:Come along to Pumpkin Jim’s patch in Ickleton\, Saffron Walden to pick the perfect pumpkin this Halloween.  Pumpkins of all shapes and sizes. \nAlso food trucks and a play area. \nOpen on the 19th\, 20th\, and 25th to 31st October. \nFor more info and to book tickets click here.
URL:https://cambridge105.co.uk/event/pick-your-own-pumpkin-patch/
LOCATION:Pumpkin Jim’s\, Grange Road\, Ickleton\, Saffron Walden\, CB10 1TA
END:VEVENT
BEGIN:VEVENT
DTSTART;VALUE=DATE:20241019
DTEND;VALUE=DATE:20241112
DTSTAMP:20260423T151421
CREATED:20241017T081502Z
LAST-MODIFIED:20241020T145654Z
UID:93989-1729296000-1731286799@cambridge105.co.uk
SUMMARY:Let's Go Circular at The Grand Arcade
DESCRIPTION:Held from 19 October – 10 November\, this event aims to teach attendees of the ways they can implement circular economic initiatives into their daily lives through various interactive\, entertaining and informative workshops and pop-ups\, which will populate the shopping centre for the duration of the event. \nWith events for music heads\, eco-enthusiasts\, fashionistas\, arts and crafts fanatics\, animal lovers\, and more\, the event offers the ideal October Half Term family day out. \nThe Grand Arcade will welcome back its award-winning sustainability event\, Let’s Go Circular\, for its third and most ambitious year. Following the success of the past two years\, which had sold out workshops\, this year’s event promises to be bigger and better\, with extended dates to accommodate an even broader range of fun-packed activities for visitors to engage in. \nLet’s Go Circular is Grand Arcade’s annual celebration of sustainability where organisations showcase the innovative and creative ways to embed circular economic initiatives into everyday lives through interactive workshops\, pop up stalls and exhibitions. Visitors are invited to take part in engaging workshops that teach valuable practices such as reducing food waste\, repairing and upcycling items\, extending the lifespan of clothing\, promoting wildlife regeneration at home\, and calculating personal carbon footprints. \nFor further details of the events\, click here.
URL:https://cambridge105.co.uk/event/lets-go-circular-at-the-grand-arcade/
LOCATION:The Grand Arade\, St Andrews Street\, Cambridge\, CB2 3BJ
END:VEVENT
BEGIN:VEVENT
DTSTART;VALUE=DATE:20241022
DTEND;VALUE=DATE:20241028
DTSTAMP:20260423T151421
CREATED:20240911T084124Z
LAST-MODIFIED:20241020T145915Z
UID:93522-1729555200-1729994399@cambridge105.co.uk
SUMMARY:A Comedy About a Priest
DESCRIPTION:Father John has chosen a life of tranquillity as a country vicar; or so he thinks. The Parish of St Anne’s quickly proves to be a minefield of warring matriarchs\, questionable scones\, and women who are much too excited by the prospect of a young priest. As Father John navigates his new domain\, there is one question on everyone’s mind: how long will he last? \nThis production is suitable for ages 16 and over. \nNightly performances at 7.00 pm at Corpus Playroom. \nTickets : TUE £7-£9\, WED/THU £8-£10\, FRI/SAT £10-£12 \nFor more info\, click here.
URL:https://cambridge105.co.uk/event/a-comedy-about-a-priest/
LOCATION:Corpus Playroom\, St. Edwards Passage\, Cambridge\, Cambridgeshire\, United Kingdom
END:VEVENT
END:VCALENDAR