BEGIN:VCALENDAR
VERSION:2.0
PRODID:-//Cambridge Radio - ECPv5.7.0//NONSGML v1.0//EN
CALSCALE:GREGORIAN
METHOD:PUBLISH
X-WR-CALNAME:Cambridge Radio
X-ORIGINAL-URL:https://cambridge105.co.uk
X-WR-CALDESC:Events for Cambridge Radio
BEGIN:VTIMEZONE
TZID:Europe/London
BEGIN:DAYLIGHT
TZOFFSETFROM:+0000
TZOFFSETTO:+0100
TZNAME:BST
DTSTART:20240331T010000
END:DAYLIGHT
BEGIN:STANDARD
TZOFFSETFROM:+0100
TZOFFSETTO:+0000
TZNAME:GMT
DTSTART:20241027T010000
END:STANDARD
END:VTIMEZONE
BEGIN:VEVENT
DTSTART;VALUE=DATE:20240927
DTEND;VALUE=DATE:20241006
DTSTAMP:20260423T074146
CREATED:20240831T081543Z
LAST-MODIFIED:20240924T215746Z
UID:93279-1727395200-1728259199@cambridge105.co.uk
SUMMARY:Art Works Exhibition at Cambridge Museum of Technology
DESCRIPTION:Free entry – to the exhibition located in the Gas Engine room entered via the Ticket Office. \nArt works done by Museum Volunteers – a wide variety of styles will be shown. \nNormal entry charges apply to the rest of the Museum \n10.30am to 4.00pm Friday 27 September\, Saturday 28 September and Sunday 29 September \n10.30am to 4.00pm Friday 4 October\, Saturday 5 October and Sunday 6 October \nFor info go to www.museumoftechnology.com
URL:https://cambridge105.co.uk/event/art-works-exhibition-at-cambridge-museum-of-technology/
LOCATION:Cambridgeshire
END:VEVENT
BEGIN:VEVENT
DTSTART;VALUE=DATE:20241001
DTEND;VALUE=DATE:20241005
DTSTAMP:20260423T074146
CREATED:20240828T070156Z
LAST-MODIFIED:20240924T215955Z
UID:93213-1727740800-1728172799@cambridge105.co.uk
SUMMARY:The History Boys
DESCRIPTION:20 years ago\, Alan Bennett’s The History Boys premiered at the National Theatre in London and immediately became a modern classic. \nA-Level results day. 1980s Sheffield. Eight unruly teenagers burst into adulthood with the best grades their school has ever seen\, but their sights are set on something higher: to study at the most famous academic institutions in the world – Oxford and Cambridge. But their teachers can’t agree how best to tutor them. There’s Hector\, the maverick English teacher who believes in culture for its own sake; Irwin – the shrewd supply teacher full of soundbites; Felix – the headmaster obsessed with league tables and Mrs Lintott – the History teacher who thinks her colleagues are all fools. \nThe History Boys follows this bright bunch of boys in pursuit of sex\, sport and a place at university\, lifting the lid on staffroom rivalries and the anarchy of adolescence. \nGeneral Guidance – Performance contains strong language and sexual references \nAge Guidance – 14+ \nTuesday – Saturday\, 7.30PM/and Wednesday\, Thursday & Saturday\, 2.30PM \nTickets – £25/£35/£40/£45/  All ticket prices include a £3 per ticket booking fee. \nFor info go to THE HISTORY BOYS | Cambridge Arts Theatre \n 
URL:https://cambridge105.co.uk/event/the-history-boys/
LOCATION:Cambridge Arts Theatre\, 6 St Edward's Passage\, Cambridge \, Cambridgeshire\, CB2 3PJ\, United Kingdom
END:VEVENT
BEGIN:VEVENT
DTSTART;TZID=Europe/London:20241004T193000
DTEND;TZID=Europe/London:20241004T213000
DTSTAMP:20260423T074146
CREATED:20240829T082611Z
LAST-MODIFIED:20240924T220309Z
UID:93239-1728070200-1728077400@cambridge105.co.uk
SUMMARY:The Royal Air Force in Concert
DESCRIPTION:The Royal Air Force Music Services is delighted to return to the West Road Concert Hall Cambridge with a special charity concert to celebrate the 20th anniversary of the Royal Air Force Music Charitable Trust. \nThe world-class musical talents of the full-time professional musicians of the Band of the Royal Air Force Regiment will bring to life the wonderful music of stage\, screen\, and traditional military band repertoire\, in what is sure to be a memorable concert performed by one of the finest military bands in the country. \nPrices from £20 (plus booking fee). \nFor booking and further info go to West Road Concert Hall Box Office
URL:https://cambridge105.co.uk/event/the-royal-air-force-in-concert/
LOCATION:West Road Concert Hall\, 11 West Road\, Cambridge\, Cambridgeshire\, CB3 9DP\, United Kingdom
END:VEVENT
END:VCALENDAR