BEGIN:VCALENDAR
VERSION:2.0
PRODID:-//Cambridge Radio - ECPv5.7.0//NONSGML v1.0//EN
CALSCALE:GREGORIAN
METHOD:PUBLISH
X-WR-CALNAME:Cambridge Radio
X-ORIGINAL-URL:https://cambridge105.co.uk
X-WR-CALDESC:Events for Cambridge Radio
BEGIN:VTIMEZONE
TZID:Europe/London
BEGIN:DAYLIGHT
TZOFFSETFROM:+0000
TZOFFSETTO:+0100
TZNAME:BST
DTSTART:20240331T010000
END:DAYLIGHT
BEGIN:STANDARD
TZOFFSETFROM:+0100
TZOFFSETTO:+0000
TZNAME:GMT
DTSTART:20241027T010000
END:STANDARD
END:VTIMEZONE
BEGIN:VEVENT
DTSTART;VALUE=DATE:20240927
DTEND;VALUE=DATE:20241006
DTSTAMP:20260423T074137
CREATED:20240831T081543Z
LAST-MODIFIED:20240924T215746Z
UID:93279-1727395200-1728259199@cambridge105.co.uk
SUMMARY:Art Works Exhibition at Cambridge Museum of Technology
DESCRIPTION:Free entry – to the exhibition located in the Gas Engine room entered via the Ticket Office. \nArt works done by Museum Volunteers – a wide variety of styles will be shown. \nNormal entry charges apply to the rest of the Museum \n10.30am to 4.00pm Friday 27 September\, Saturday 28 September and Sunday 29 September \n10.30am to 4.00pm Friday 4 October\, Saturday 5 October and Sunday 6 October \nFor info go to www.museumoftechnology.com
URL:https://cambridge105.co.uk/event/art-works-exhibition-at-cambridge-museum-of-technology/
LOCATION:Cambridgeshire
END:VEVENT
END:VCALENDAR