BEGIN:VCALENDAR
VERSION:2.0
PRODID:-//Cambridge Radio - ECPv5.7.0//NONSGML v1.0//EN
CALSCALE:GREGORIAN
METHOD:PUBLISH
X-WR-CALNAME:Cambridge Radio
X-ORIGINAL-URL:https://cambridge105.co.uk
X-WR-CALDESC:Events for Cambridge Radio
BEGIN:VTIMEZONE
TZID:Europe/London
BEGIN:DAYLIGHT
TZOFFSETFROM:+0000
TZOFFSETTO:+0100
TZNAME:BST
DTSTART:20260329T010000
END:DAYLIGHT
BEGIN:STANDARD
TZOFFSETFROM:+0100
TZOFFSETTO:+0000
TZNAME:GMT
DTSTART:20261025T010000
END:STANDARD
END:VTIMEZONE
BEGIN:VEVENT
DTSTART;VALUE=DATE:20260411
DTEND;VALUE=DATE:20260412
DTSTAMP:20260421T233654
CREATED:20260301T093524Z
LAST-MODIFIED:20260301T093524Z
UID:101144-1775865600-1776038399@cambridge105.co.uk
SUMMARY:Woodland and Craft Weekend at Wandlebury Country Park
DESCRIPTION:10.30am – 4pm \nA celebration of traditional crafts. \nCambridge Bodgers and friends will be demonstrating in the Stable Rooms and making items using some of the wood that is a by-product from our Woodland Restoration Project. \nGuided Woodland walks. The location will be signposted from the car park. \nFree\, donations welcome. No need to book. \nPlease pay for your car parking on arrival. \nFor info go to https://cambridgeppf.org/etn/woodland-and-craft-weekend/
URL:https://cambridge105.co.uk/event/woodland-and-craft-weekend-at-wandlebury-country-park/
LOCATION:Wandlebury Country Park\,  Cambridge\, Cambridgeshire\, CB22 3AE\, United Kingdom
END:VEVENT
END:VCALENDAR