BEGIN:VCALENDAR
VERSION:2.0
PRODID:-//Cambridge Radio - ECPv5.7.0//NONSGML v1.0//EN
CALSCALE:GREGORIAN
METHOD:PUBLISH
X-WR-CALNAME:Cambridge Radio
X-ORIGINAL-URL:https://cambridge105.co.uk
X-WR-CALDESC:Events for Cambridge Radio
BEGIN:VTIMEZONE
TZID:Europe/London
BEGIN:DAYLIGHT
TZOFFSETFROM:+0000
TZOFFSETTO:+0100
TZNAME:BST
DTSTART:20240331T010000
END:DAYLIGHT
BEGIN:STANDARD
TZOFFSETFROM:+0100
TZOFFSETTO:+0000
TZNAME:GMT
DTSTART:20241027T010000
END:STANDARD
BEGIN:DAYLIGHT
TZOFFSETFROM:+0000
TZOFFSETTO:+0100
TZNAME:BST
DTSTART:20250330T010000
END:DAYLIGHT
BEGIN:STANDARD
TZOFFSETFROM:+0100
TZOFFSETTO:+0000
TZNAME:GMT
DTSTART:20251026T010000
END:STANDARD
END:VTIMEZONE
BEGIN:VEVENT
DTSTART;VALUE=DATE:20241129
DTEND;VALUE=DATE:20250102
DTSTAMP:20260422T214754
CREATED:20241031T092634Z
LAST-MODIFIED:20241031T092634Z
UID:94184-1732842000-1735693199@cambridge105.co.uk
SUMMARY:Winter Lights at The Botanic Garden
DESCRIPTION:Following the success of last year’s first ever lights trail in the Botanic Garden\, this year’s event will again bring the Garden to life after dark with spectacular displays and artistic interventions – creating a beautiful landscape for visitors to enjoy after dark. \nThe lights will highlight some of the Garden’s most beloved features\, such as the Fountain\, Lake and Glasshouse Range\, and create special experiences around the rest of the Landscape. There will be new\, original installations that are unique to the Garden\, as well as the return of some of last year’s most popular pieces such as the light tunnel and lilies on the Lake. \nThe Café will be on the route with warm offerings\, as well as food stalls halfway round the trail serving hot drinks and light bites to revive spirits and warm up any chilly fingers! \nTo book tickets – \nEmail: tickets@cambridge.gov.uk
URL:https://cambridge105.co.uk/event/winter-lights-at-the-botanic-garden/
LOCATION:University Botanic Garden\, No 1 Brookside\, Cambridge\, Cambridgeshire\, CB2 1JE
END:VEVENT
END:VCALENDAR