BEGIN:VCALENDAR
VERSION:2.0
PRODID:-//Cambridge Radio - ECPv5.7.0//NONSGML v1.0//EN
CALSCALE:GREGORIAN
METHOD:PUBLISH
X-WR-CALNAME:Cambridge Radio
X-ORIGINAL-URL:https://cambridge105.co.uk
X-WR-CALDESC:Events for Cambridge Radio
BEGIN:VTIMEZONE
TZID:Europe/London
BEGIN:DAYLIGHT
TZOFFSETFROM:+0000
TZOFFSETTO:+0100
TZNAME:BST
DTSTART:20240331T010000
END:DAYLIGHT
BEGIN:STANDARD
TZOFFSETFROM:+0100
TZOFFSETTO:+0000
TZNAME:GMT
DTSTART:20241027T010000
END:STANDARD
END:VTIMEZONE
BEGIN:VEVENT
DTSTART;VALUE=DATE:20241018
DTEND;VALUE=DATE:20241018
DTSTAMP:20260424T104317
CREATED:20240829T080819Z
LAST-MODIFIED:20240829T080819Z
UID:93232-1729209600-1729295999@cambridge105.co.uk
SUMMARY:Tom Ollendorff Quartet at Stapleford Granary
DESCRIPTION:Tom Ollendorff\, guitar | Will Vinson\, saxophone | Conor Chaplin\, bass | Marc Michel\, drums \nTom Ollendorff is fast becoming one of the best-known young guitarists to emerge on the international jazz scene\, admired for his highly distinctive sound which blends virtuosic technique and sophisticated harmony with nuance and sensitivity. \nHis debut album\, A Song For You was released on Fresh Sound Records in 2021 and received international acclaim with The Guardian describing it as ‘traditional but very classy’ and both BBC Music Magazine and Jazz Journal awarding it 4 star reviews. \nTom has performed at many of Europe’s best known jazz clubs\, venues and festivals including Ronnie Scott’s\, Jazz-Hus Montmartre\, Glastonbury Festival\, The Cedars Hall\, London Jazz Festival\, Brecon Jazz Festival and the One Day Jazz Festival in Slovakia. \nTickets £24 / £12 (under 25) \nFor info go to https://www.staplefordgranary.org.uk/whats-on/events/tom-ollendorff-quartet
URL:https://cambridge105.co.uk/event/tom-ollendorff-quartet-at-stapleford-granary/
LOCATION:Stapleford Granary\, Bury Road\, Stapleford\, CB22 5BP
END:VEVENT
END:VCALENDAR