BEGIN:VCALENDAR
VERSION:2.0
PRODID:-//Cambridge Radio - ECPv5.7.0//NONSGML v1.0//EN
CALSCALE:GREGORIAN
METHOD:PUBLISH
X-WR-CALNAME:Cambridge Radio
X-ORIGINAL-URL:https://cambridge105.co.uk
X-WR-CALDESC:Events for Cambridge Radio
BEGIN:VTIMEZONE
TZID:Europe/London
BEGIN:DAYLIGHT
TZOFFSETFROM:+0000
TZOFFSETTO:+0100
TZNAME:BST
DTSTART:20240331T010000
END:DAYLIGHT
BEGIN:STANDARD
TZOFFSETFROM:+0100
TZOFFSETTO:+0000
TZNAME:GMT
DTSTART:20241027T010000
END:STANDARD
END:VTIMEZONE
BEGIN:VEVENT
DTSTART;VALUE=DATE:20240922
DTEND;VALUE=DATE:20240922
DTSTAMP:20260422T151122
CREATED:20240907T082040Z
LAST-MODIFIED:20240907T082040Z
UID:93419-1726963200-1727049599@cambridge105.co.uk
SUMMARY:The Sticky Dance
DESCRIPTION:Three dancers’ shimmy through the audience weaving a tapestry of sticky tape in this tactile dance performance for young children. They invite you to tape\, stick and groove\, to see and feel sound or to be still\, watch and listen. Audiences are encouraged to explore freely\, choosing how they engage\, and turning the rules upside down. \nThe Sticky Dance is an interactive\, engaging and colourful performance installation for children and their families. \nTaking place in J3. \n10.30am-12.30pm (various entry times); 2.30pm & 3.45pm (sensory adapted). \n£15 adult\, £11 child \nFor info go to https://www.junction.co.uk/events/the-sticky-dance/
URL:https://cambridge105.co.uk/event/the-sticky-dance/
LOCATION:Cambridge Junction (J3)\, Clifton Way\, Cambridge\, Cambridgeshire\, CB1 7GX\, United Kingdom
END:VEVENT
END:VCALENDAR