BEGIN:VCALENDAR
VERSION:2.0
PRODID:-//Cambridge Radio - ECPv5.7.0//NONSGML v1.0//EN
CALSCALE:GREGORIAN
METHOD:PUBLISH
X-WR-CALNAME:Cambridge Radio
X-ORIGINAL-URL:https://cambridge105.co.uk
X-WR-CALDESC:Events for Cambridge Radio
BEGIN:VTIMEZONE
TZID:Europe/London
BEGIN:DAYLIGHT
TZOFFSETFROM:+0000
TZOFFSETTO:+0100
TZNAME:BST
DTSTART:20240331T010000
END:DAYLIGHT
BEGIN:STANDARD
TZOFFSETFROM:+0100
TZOFFSETTO:+0000
TZNAME:GMT
DTSTART:20241027T010000
END:STANDARD
END:VTIMEZONE
BEGIN:VEVENT
DTSTART;VALUE=DATE:20240920
DTEND;VALUE=DATE:20240920
DTSTAMP:20260423T060743
CREATED:20240918T091659Z
LAST-MODIFIED:20240918T091659Z
UID:93594-1726790400-1726876799@cambridge105.co.uk
SUMMARY:The Poldark Show Presents El Mistico
DESCRIPTION:The Poldark Show Presents El Mistico at Storey’s Field Centre\, Cambridge\, CB3 1AA from 7.30 p0m \nEl Mistico\, a never-before-seen show\, bringing magic\, mind reading and mesmerising hypnosis. \nMagic Circle Magician\, Angus Baskerville and International Cabaret Stage Hypnotist\, Poldark\, will blow your mind. \nYou choose how you enter the mesmerising world of magic and hypnosis; as a spectator in the audience or as a volunteer onstage. \nSeeing is believing. Come and see. \nTicket price\n£10.00 – £20.00* *booking fee applies \nFor info go to https://www.ticketsource.co.uk/whats-on/cambridge/storeys-field-centre/the-poldark-show-presents-el-mistico/2024-09-20/19:30/t-rpdnrkj
URL:https://cambridge105.co.uk/event/the-poldark-show-presents-el-mistico/
LOCATION:Storeys Field Centre\, Eddington Avenue\, Cambridge\, CB3 1AA
END:VEVENT
END:VCALENDAR