BEGIN:VCALENDAR
VERSION:2.0
PRODID:-//Cambridge Radio - ECPv5.7.0//NONSGML v1.0//EN
CALSCALE:GREGORIAN
METHOD:PUBLISH
X-WR-CALNAME:Cambridge Radio
X-ORIGINAL-URL:https://cambridge105.co.uk
X-WR-CALDESC:Events for Cambridge Radio
BEGIN:VTIMEZONE
TZID:Europe/London
BEGIN:DAYLIGHT
TZOFFSETFROM:+0000
TZOFFSETTO:+0100
TZNAME:BST
DTSTART:20250330T010000
END:DAYLIGHT
BEGIN:STANDARD
TZOFFSETFROM:+0100
TZOFFSETTO:+0000
TZNAME:GMT
DTSTART:20251026T010000
END:STANDARD
END:VTIMEZONE
BEGIN:VEVENT
DTSTART;VALUE=DATE:20250301
DTEND;VALUE=DATE:20250303
DTSTAMP:20260423T165543
CREATED:20250113T095720Z
LAST-MODIFIED:20250113T095720Z
UID:95334-1740790800-1740877199@cambridge105.co.uk
SUMMARY:The Music of Leonard Bernstein: Rob Barron Trio
DESCRIPTION:Rob Barron\, piano | Jeremy Brown\, double bass | Matt Skelton\, drums | Emma Smith\, vocalist \nConductor\, composer\, author\, pianist\, activist\, educator and entertainer\, Leonard Bernstein was one of the titans of music making in the 20th century. His command of multiple musical languages\, daring juxtapositions of style\, and his fluency of invention ensures that his musical reputation is even more elevated today than it was in the years immediately following his death. Rob Barron’s trio\, with guest vocalist Emma Smith\, present their own interpretation of the hits from West Side Story\, plus a range of music from Candide\, On The Town\, Wonderful Town\, A Quiet Place and more. \nDoors & bar 6:00pm | Concert 7:45pm\, ends 9:00pm\, no interval \nTickets £24 / £12 (under 25). \nFor info go to https://www.staplefordgranary.org.uk/whats-on/events/the-music-of-leonard-bernstein-rob-barron-trio
URL:https://cambridge105.co.uk/event/the-music-of-leonard-bernstein-rob-barron-trio/
LOCATION:Stapleford Granary\, Bury Road\, Stapleford\, CB22 5BP
END:VEVENT
END:VCALENDAR