BEGIN:VCALENDAR
VERSION:2.0
PRODID:-//Cambridge Radio - ECPv5.7.0//NONSGML v1.0//EN
CALSCALE:GREGORIAN
METHOD:PUBLISH
X-WR-CALNAME:Cambridge Radio
X-ORIGINAL-URL:https://cambridge105.co.uk
X-WR-CALDESC:Events for Cambridge Radio
BEGIN:VTIMEZONE
TZID:Europe/London
BEGIN:DAYLIGHT
TZOFFSETFROM:+0000
TZOFFSETTO:+0100
TZNAME:BST
DTSTART:20260329T010000
END:DAYLIGHT
BEGIN:STANDARD
TZOFFSETFROM:+0100
TZOFFSETTO:+0000
TZNAME:GMT
DTSTART:20261025T010000
END:STANDARD
END:VTIMEZONE
BEGIN:VEVENT
DTSTART;VALUE=DATE:20260428
DTEND;VALUE=DATE:20260502
DTSTAMP:20260422T205051
CREATED:20260220T091829Z
LAST-MODIFIED:20260220T091829Z
UID:101032-1777334400-1777766399@cambridge105.co.uk
SUMMARY:The Ferryman
DESCRIPTION:The Carneys have farmed their land in County Armagh\, Northern Ireland\, for generations. In August 1981\, Quinn Carney brings in the harvest and everyone looks forward to the traditional feast. But Quinn is a man with a past. Ten years previously\, his younger brother Seamus “disappeared” from the family home\, leaving behind a wife and young son. Several sightings have been reported\, but he has never been found. Now he has. A dead body in a bog just across the Irish border. \nThe consequences re-open many wounds which have never healed. \nAnd then the IRA come to call… \nThis production is suitable for ages 16 and over \nNightly performances at 7.45 pm with a matinee on Saturday at 2.30 pm \nTickets – £13.50 to £19.50 \nFor info go to https://www.adctheatre.com/whats-on/play/the-ferryman/
URL:https://cambridge105.co.uk/event/the-ferryman/
LOCATION:ADC  Theatre\, Park Street\, Cambridge\,  CB5 8AS
END:VEVENT
END:VCALENDAR