BEGIN:VCALENDAR
VERSION:2.0
PRODID:-//Cambridge Radio - ECPv5.7.0//NONSGML v1.0//EN
CALSCALE:GREGORIAN
METHOD:PUBLISH
X-WR-CALNAME:Cambridge Radio
X-ORIGINAL-URL:https://cambridge105.co.uk
X-WR-CALDESC:Events for Cambridge Radio
BEGIN:VTIMEZONE
TZID:Europe/London
BEGIN:DAYLIGHT
TZOFFSETFROM:+0000
TZOFFSETTO:+0100
TZNAME:BST
DTSTART:20250330T010000
END:DAYLIGHT
BEGIN:STANDARD
TZOFFSETFROM:+0100
TZOFFSETTO:+0000
TZNAME:GMT
DTSTART:20251026T010000
END:STANDARD
END:VTIMEZONE
BEGIN:VEVENT
DTSTART;VALUE=DATE:20250422
DTEND;VALUE=DATE:20250426
DTSTAMP:20260424T102138
CREATED:20250328T090131Z
LAST-MODIFIED:20250410T063328Z
UID:96618-1745280000-1745711999@cambridge105.co.uk
SUMMARY:The 2nd International Cambridge Piano Festival
DESCRIPTION:Taking place at various colleges in Cambridge and featuring recitals by distinguished musicians\, including the festival director\, MinJung Baek\,  and Boris Berman\, Ruben Talon\, Pasquale Iannone and Ronan O’ Hora. \nThere will be concerts every evening from 22nd to 26th April at 7.30pm and tickets are £30 for adults and £5 for students.\n\nThe competition final on the 27th is free admission and starts at 10 am.\n\nFor info go to https://linktr.ee/cambridgepianofestival
URL:https://cambridge105.co.uk/event/the-2nd-international-cambridge-piano-festival/
LOCATION:Various\, Cambridge\, Cambridgeshire
END:VEVENT
END:VCALENDAR