BEGIN:VCALENDAR
VERSION:2.0
PRODID:-//Cambridge Radio - ECPv5.7.0//NONSGML v1.0//EN
CALSCALE:GREGORIAN
METHOD:PUBLISH
X-WR-CALNAME:Cambridge Radio
X-ORIGINAL-URL:https://cambridge105.co.uk
X-WR-CALDESC:Events for Cambridge Radio
BEGIN:VTIMEZONE
TZID:Europe/London
BEGIN:DAYLIGHT
TZOFFSETFROM:+0000
TZOFFSETTO:+0100
TZNAME:BST
DTSTART:20250330T010000
END:DAYLIGHT
BEGIN:STANDARD
TZOFFSETFROM:+0100
TZOFFSETTO:+0000
TZNAME:GMT
DTSTART:20251026T010000
END:STANDARD
END:VTIMEZONE
BEGIN:VEVENT
DTSTART;VALUE=DATE:20250621
DTEND;VALUE=DATE:20250621
DTSTAMP:20260426T050034
CREATED:20250618T191706Z
LAST-MODIFIED:20250618T191706Z
UID:98079-1750464000-1750550399@cambridge105.co.uk
SUMMARY:Star Shine Night Walk in Aid of Arthur Rank Hospice Charity
DESCRIPTION:Star Shine 2025 will be taking place on Saturday 21 June 2025. \nRegistrations are OPEN. Adults are £17.50 and children (aged 10 and over) are £9.50. Register by 20 June 2025. \nThere will be a 10- and 5-mile route available\, starting at finishing at Shelford Rugby Club. \nJoin hundreds of walkers who come together\, alongside their friends\, families and colleagues\, to raise money for hospice care in Cambridgeshire. \nYou can choose from the more challenging 10-mile route which will take you all the way into Cambridge and back\, or the slightly easier 5-miler which will be a more localised tree-lined route. \nAs you meander through the beautiful streets of Cambridge\, you’ll know that every step you take will be helping support someone going through a tough time.
URL:https://cambridge105.co.uk/event/star-shine-night-walk-in-aid-of-arthur-rank-hospice-charity/
LOCATION:Shelford Rugby Club\, Cambridge Road\, Great Shelford\,  CB22 5JJ
END:VEVENT
END:VCALENDAR