BEGIN:VCALENDAR
VERSION:2.0
PRODID:-//Cambridge Radio - ECPv5.7.0//NONSGML v1.0//EN
CALSCALE:GREGORIAN
METHOD:PUBLISH
X-WR-CALNAME:Cambridge Radio
X-ORIGINAL-URL:https://cambridge105.co.uk
X-WR-CALDESC:Events for Cambridge Radio
BEGIN:VTIMEZONE
TZID:Europe/London
BEGIN:DAYLIGHT
TZOFFSETFROM:+0000
TZOFFSETTO:+0100
TZNAME:BST
DTSTART:20240331T010000
END:DAYLIGHT
BEGIN:STANDARD
TZOFFSETFROM:+0100
TZOFFSETTO:+0000
TZNAME:GMT
DTSTART:20241027T010000
END:STANDARD
END:VTIMEZONE
BEGIN:VEVENT
DTSTART;VALUE=DATE:20240703
DTEND;VALUE=DATE:20240731
DTSTAMP:20260422T205555
CREATED:20240502T064452Z
LAST-MODIFIED:20240502T064452Z
UID:91736-1719964800-1722470399@cambridge105.co.uk
SUMMARY:Sounds Green at Cambridge Botanic Garden
DESCRIPTION:On Wednesday evenings in July\, Cambridge University Botanic Garden rings to the sound of live music when we present Sounds Green – the best in open-air music. Bring a rug and a picnic. Food\, ice creams and drinks on sale. Open to all ages. Music from 6.15pm. Garden closes at 8.30pm. \nAll paying visitors should buy garden entrance tickets in advance via the Botanic Garden website\, available for purchase from June. Tickets may also be available on the gate\, but this cannot be guaranteed \n  \n3 July – Prime Brass/ 10 July – Annj Ghosh Quintet (Jazz)/ 17 July7 Hannah Horton (Jazz Saxophonist)/ 24 July – Mighty Like the Bluies with Jim Mullen/ 31 July – Latin Rhythms from Cores Do Samba. \nFor info go to Sounds Green Cambridge Summer Music | Cambridge Summer Music
URL:https://cambridge105.co.uk/event/sounds-green-at-cambridge-botanic-garden/
LOCATION:University Botanic Garden\, No 1 Brookside\, Cambridge\, Cambridgeshire\, CB2 1JE
END:VEVENT
END:VCALENDAR