BEGIN:VCALENDAR
VERSION:2.0
PRODID:-//Cambridge Radio - ECPv5.7.0//NONSGML v1.0//EN
CALSCALE:GREGORIAN
METHOD:PUBLISH
X-WR-CALNAME:Cambridge Radio
X-ORIGINAL-URL:https://cambridge105.co.uk
X-WR-CALDESC:Events for Cambridge Radio
BEGIN:VTIMEZONE
TZID:Europe/London
BEGIN:DAYLIGHT
TZOFFSETFROM:+0000
TZOFFSETTO:+0100
TZNAME:BST
DTSTART:20240331T010000
END:DAYLIGHT
BEGIN:STANDARD
TZOFFSETFROM:+0100
TZOFFSETTO:+0000
TZNAME:GMT
DTSTART:20241027T010000
END:STANDARD
END:VTIMEZONE
BEGIN:VEVENT
DTSTART;VALUE=DATE:20240706
DTEND;VALUE=DATE:20240706
DTSTAMP:20260422T001702
CREATED:20240603T081909Z
LAST-MODIFIED:20240603T081909Z
UID:92161-1720224000-1720310399@cambridge105.co.uk
SUMMARY:Showaddywaddy at Cambridge Corn Exchange - 50 Years
DESCRIPTION:This tour celebrates the 50th Anniversary of Showaddywaddy! \n‘The Greatest Rock & Roll Band In The World’ is a bold statement\, but Showaddywaddy have lived up to that title for the last 5 decades! \nFormed in Leicester in 1973 from an amalgamation of several local bands\, Showaddywaddy have gone on to sell more than 20 million records and tour all four corners of the globe. \nTheir 50th Anniversary shows will be dynamic and uplifting\, featuring all their greatest hits\, many of which reached number one in the pop charts across Europe. ‘Under The Moon of Love’\, ‘Three Steps to Heaven’\, ‘Hey Rock & Roll’\, ‘When’\, ‘Blue Moon’\, ‘Pretty Little Angel Eyes’ and many\, many more. \nSo come and join the ‘Dancin’ Party’… ‘You’ve Got What It Takes’! \nTickets: £25\, £30.  All tickets include a £3 booking fee. \nFor info go to https://www.cambridgelive.org.uk/cornex/events/showaddywaddy-%E2%80%93-50th-anniversary-concert-tour
URL:https://cambridge105.co.uk/event/showaddywaddy-at-cambridge-corn-exchange-50-years/
LOCATION:Cambridge Corn Exchange\, 2 Wheeler Street\, Cambridge\, Cambridgeshire\, CB2 3QB\, United Kingdom
END:VEVENT
END:VCALENDAR