BEGIN:VCALENDAR
VERSION:2.0
PRODID:-//Cambridge Radio - ECPv5.7.0//NONSGML v1.0//EN
CALSCALE:GREGORIAN
METHOD:PUBLISH
X-WR-CALNAME:Cambridge Radio
X-ORIGINAL-URL:https://cambridge105.co.uk
X-WR-CALDESC:Events for Cambridge Radio
BEGIN:VTIMEZONE
TZID:Europe/London
BEGIN:DAYLIGHT
TZOFFSETFROM:+0000
TZOFFSETTO:+0100
TZNAME:BST
DTSTART:20250330T010000
END:DAYLIGHT
BEGIN:STANDARD
TZOFFSETFROM:+0100
TZOFFSETTO:+0000
TZNAME:GMT
DTSTART:20251026T010000
END:STANDARD
END:VTIMEZONE
BEGIN:VEVENT
DTSTART;VALUE=DATE:20250222
DTEND;VALUE=DATE:20250224
DTSTAMP:20260423T184521
CREATED:20241230T083252Z
LAST-MODIFIED:20241230T083252Z
UID:95145-1740186000-1740272399@cambridge105.co.uk
SUMMARY:Shostakovich Anniversary Concert
DESCRIPTION:Cambridge musicians come together to celebrate the music of the great composer Shostakovich on the 50th anniversary of his death. The Cambridge University Orchestra joins forces with conductor Alpesh Chauhan – a noted interpreter of Shostakovich’s music – in a programme exploring different aspects of the composer’s orchestral output. \nShostakovich expert and Cambridge Faculty of Music member Prof Marina Frolova-Walker gives a free pre-concert talk. \nBooking via Saffron Hall Box Office. Priority Booking from 10-13 January\, general release from 14 January.\nTickes: £25\, £18\, £12 | Concessions: £22.50\, £16\, £10 | Students and under-18s: £5 \nFor info go to https://www.westroad.org/whats-on/cuo-22feb25
URL:https://cambridge105.co.uk/event/shostakovich-anniversary-concert/
LOCATION:West Road Concert Hall\, 11 West Road\, Cambridge\, Cambridgeshire\, CB3 9DP\, United Kingdom
END:VEVENT
END:VCALENDAR