BEGIN:VCALENDAR
VERSION:2.0
PRODID:-//Cambridge Radio - ECPv5.7.0//NONSGML v1.0//EN
CALSCALE:GREGORIAN
METHOD:PUBLISH
X-WR-CALNAME:Cambridge Radio
X-ORIGINAL-URL:https://cambridge105.co.uk
X-WR-CALDESC:Events for Cambridge Radio
BEGIN:VTIMEZONE
TZID:Europe/London
BEGIN:DAYLIGHT
TZOFFSETFROM:+0000
TZOFFSETTO:+0100
TZNAME:BST
DTSTART:20250330T010000
END:DAYLIGHT
BEGIN:STANDARD
TZOFFSETFROM:+0100
TZOFFSETTO:+0000
TZNAME:GMT
DTSTART:20251026T010000
END:STANDARD
END:VTIMEZONE
BEGIN:VEVENT
DTSTART;VALUE=DATE:20250705
DTEND;VALUE=DATE:20250712
DTSTAMP:20260424T045434
CREATED:20250622T151732Z
LAST-MODIFIED:20250622T151732Z
UID:98143-1751673600-1752364799@cambridge105.co.uk
SUMMARY:Shelford Festival and Feast
DESCRIPTION:The Shelford Festival and Feast goes back to medieval times when it was more likely to have been a festival celebrated around a special day in the calendar. \nTickets are available for online purchase and available in the following local shops now: Barkers\, Days\, Cambridge Building Society\, The Shelford Deli\, Boots\, Great Shelford Local Store and Post Office\, The Plough\, The Side Quest\, The Three Horseshoes and Searle’s Butchers (Sawston). \nThe Shelford Festival and Feast 2025 Weekly ticket is your all-access pass to every event happening inside the Grand Marquee at the Great Shelford Recreation Ground. From live music to tasty treats\, you’ll have the freedom to enjoy a variety of fun activities throughout the week. So grab your ticket\, join the excitement\, and make some unforgettable memories at the Shelford Festival and Feast! \nBeer Festival\nSat 5 Jul 2025 12:00 – 17:00\n\nThe ever-popular beer festival returns to kick off Festival Week 2025\, featuring over 30 different beers and ciders for you to enjoy plus live music during the afternoon. \nWe aim to provide a selection of different styles from porters to pale ales\, showcasing the best from our local breweries and further afield. Food will be available from our food tent and from the popular food van Al Chile \nEntrance to the Beer Festival is free! \nScott Mills\nSat 5 Jul 2025 7:00 pm – 23:00\n\nShelford Festival is pleased to welcome Scott Mills to the Saturday DJ slot! \nThis event is under cover with full club sound and lighting.  Food including burgers\, hot dogs\, bacon rolls\, chips\, baked potatoes and vegetarian stirfry will be available from our food tent\, as well as from Al Chile \nFeast Sunday\nSun 6 Jul 2025 12:00 – 17:00\n\nA celebration of Shelford life with displays from local groups\, stalls around the recreation ground\, bouncy castles\, live music throughout the afternoon and food and drink a-plenty\, including spit-roast lamb\, pork and burgers from our village butchers Barker Bros. and vegetarian food from The Three Horseshoes\, Stapleford. \nCome along to see what the fuss is all about! \nEntrance to the Sunday Feast Day is available on the day by payment of a modest entrance fee. \n\n\n\n 
URL:https://cambridge105.co.uk/event/shelford-festival-and-feast/
LOCATION:Great Shelford Recreation Ground\, Woollards Lane\, Great Shelford\, CB22 5LZ
END:VEVENT
END:VCALENDAR