BEGIN:VCALENDAR
VERSION:2.0
PRODID:-//Cambridge Radio - ECPv5.7.0//NONSGML v1.0//EN
CALSCALE:GREGORIAN
METHOD:PUBLISH
X-WR-CALNAME:Cambridge Radio
X-ORIGINAL-URL:https://cambridge105.co.uk
X-WR-CALDESC:Events for Cambridge Radio
BEGIN:VTIMEZONE
TZID:Europe/London
BEGIN:DAYLIGHT
TZOFFSETFROM:+0000
TZOFFSETTO:+0100
TZNAME:BST
DTSTART:20240331T010000
END:DAYLIGHT
BEGIN:STANDARD
TZOFFSETFROM:+0100
TZOFFSETTO:+0000
TZNAME:GMT
DTSTART:20241027T010000
END:STANDARD
END:VTIMEZONE
BEGIN:VEVENT
DTSTART;VALUE=DATE:20240721
DTEND;VALUE=DATE:20240721
DTSTAMP:20260422T170057
CREATED:20240710T084129Z
LAST-MODIFIED:20240710T084129Z
UID:92726-1721520000-1721606399@cambridge105.co.uk
SUMMARY:RNLI Lifeboats 200th Anniversary Garden Party
DESCRIPTION:Taking place from 2.00 pm to 4.00 pm in the gardens of The Old Vicarage\, Grantchester\, by kind permission of lord and Lady Archer. \nCome and visit these amazing gardens. \nStalls and entertainment. \nAdmission – £3.00 on the gate.  Children free
URL:https://cambridge105.co.uk/event/rnli-lifeboats-200th-anniversary-garden-party/
LOCATION:The Old Vocarage\, 61 Mill Way\, Grantchester
END:VEVENT
END:VCALENDAR