BEGIN:VCALENDAR
VERSION:2.0
PRODID:-//Cambridge Radio - ECPv5.7.0//NONSGML v1.0//EN
CALSCALE:GREGORIAN
METHOD:PUBLISH
X-WR-CALNAME:Cambridge Radio
X-ORIGINAL-URL:https://cambridge105.co.uk
X-WR-CALDESC:Events for Cambridge Radio
BEGIN:VTIMEZONE
TZID:Europe/London
BEGIN:DAYLIGHT
TZOFFSETFROM:+0000
TZOFFSETTO:+0100
TZNAME:BST
DTSTART:20250330T010000
END:DAYLIGHT
BEGIN:STANDARD
TZOFFSETFROM:+0100
TZOFFSETTO:+0000
TZNAME:GMT
DTSTART:20251026T010000
END:STANDARD
END:VTIMEZONE
BEGIN:VEVENT
DTSTART;VALUE=DATE:20250923
DTEND;VALUE=DATE:20251004
DTSTAMP:20260426T023100
CREATED:20250919T062736Z
LAST-MODIFIED:20250923T202751Z
UID:99017-1758585600-1759622399@cambridge105.co.uk
SUMMARY:Rivers of Film - Festival
DESCRIPTION:A new festival is set to flow through Cambridge this autumn\, bringing rivers\, aquatic ecosystems\, and their guardians into the spotlight. The Cambridge Rivers of Film Festival will run from 23rd September to 4th October 2025\, offering twelve days of screenings\, talks\, workshops\, walks\, and creative encounters. \nCurated by filmmaker and cultural producer James Murray-White\, the festival showcases nine newly commissioned short films made in summer 2025\, alongside acclaimed documentaries\, artistic explorations\, and community events. Together\, they invite audiences to celebrate rivers as lifelines of imagination\, ecology\, and action. \nHighlights include: \nWith our wet & scaly hands & feet – creative workshop and screenings at the Museum of Cambridge (23 Sept)\nWater Is Love: Ripples of Regeneration – film and discussion on water scarcity (25 Sept\, Storey’s Field Centre)\nOcean – screening with co-director Keith Scholey\, followed by an ocean conservation panel (26 Sept\, Babbage Lecture Theatre)\nWhat Matters: A Celebration – artist Josh Bilton leads a film and family workshop (27 Sept\, Kettle’s Yard). \nThe Rivers of Film Festival is commissioned by Cambridge Past\, Present & Future as part of the RiverCamCAN (Climate Action Through Nature) project\, and made possible with funding from the National Lottery Community Fund. It is supported by Water Sensitive Cambridge and a network of community organisations\, volunteers\, and artists \nLocation: Venues across Cambridge\, including the Museum of Cambridge\, Storey’s Field Centre\, Kettle’s Yard\, Babbage Lecture Theatre\, Pembroke Auditorium\, and The Leper Chapel. \nFull listings and tickets: cambridgeppf.org/riversoffilm
URL:https://cambridge105.co.uk/event/rivers-of-film-festival/
LOCATION:Various\, Cambridge\, Cambridgeshire
END:VEVENT
END:VCALENDAR