BEGIN:VCALENDAR
VERSION:2.0
PRODID:-//Cambridge Radio - ECPv5.7.0//NONSGML v1.0//EN
CALSCALE:GREGORIAN
METHOD:PUBLISH
X-WR-CALNAME:Cambridge Radio
X-ORIGINAL-URL:https://cambridge105.co.uk
X-WR-CALDESC:Events for Cambridge Radio
BEGIN:VTIMEZONE
TZID:Europe/London
BEGIN:DAYLIGHT
TZOFFSETFROM:+0000
TZOFFSETTO:+0100
TZNAME:BST
DTSTART:20250330T010000
END:DAYLIGHT
BEGIN:STANDARD
TZOFFSETFROM:+0100
TZOFFSETTO:+0000
TZNAME:GMT
DTSTART:20251026T010000
END:STANDARD
END:VTIMEZONE
BEGIN:VEVENT
DTSTART;VALUE=DATE:20250119
DTEND;VALUE=DATE:20250121
DTSTAMP:20260423T184536
CREATED:20250114T092512Z
LAST-MODIFIED:20250114T092512Z
UID:95344-1737248400-1737334799@cambridge105.co.uk
SUMMARY:Psychic Afternoon
DESCRIPTION:Discover the mystical. Come along for an enchanting psychic afternoon hosted by Soulful Gatherings. Explore spiritual insight\, connect with like minded souls and experience a journey beyond the ordinary. \nTaking place at Marleigh Community Centre\, 2 Jubilee Square\, Cambridge. CB5 8BX from 4.00 to 6.00 pm. \nTickets £8.00 to £10.00. Booking advised. \nFor info e-mail Cambridgesoulfulgatherings@gmail.com
URL:https://cambridge105.co.uk/event/psychic-afternoon/
LOCATION:Marleigh Community Centre\, 2 Jubilee Square\, Cambridge\, CB5 8BX
END:VEVENT
END:VCALENDAR