BEGIN:VCALENDAR
VERSION:2.0
PRODID:-//Cambridge Radio - ECPv5.7.0//NONSGML v1.0//EN
CALSCALE:GREGORIAN
METHOD:PUBLISH
X-WR-CALNAME:Cambridge Radio
X-ORIGINAL-URL:https://cambridge105.co.uk
X-WR-CALDESC:Events for Cambridge Radio
BEGIN:VTIMEZONE
TZID:Europe/London
BEGIN:DAYLIGHT
TZOFFSETFROM:+0000
TZOFFSETTO:+0100
TZNAME:BST
DTSTART:20250330T010000
END:DAYLIGHT
BEGIN:STANDARD
TZOFFSETFROM:+0100
TZOFFSETTO:+0000
TZNAME:GMT
DTSTART:20251026T010000
END:STANDARD
END:VTIMEZONE
BEGIN:VEVENT
DTSTART;VALUE=DATE:20250528
DTEND;VALUE=DATE:20250531
DTSTAMP:20260424T084449
CREATED:20250527T081932Z
LAST-MODIFIED:20250527T081932Z
UID:97817-1748390400-1748735999@cambridge105.co.uk
SUMMARY:Over Players - Calendar Girls
DESCRIPTION:Following the death of a much-loved husband\, a group of ordinary women in a small Yorkshire Women’s Institute are prompted to do an extraordinary thing and set about creating a nude calendar to raise money for charity. The story of the Calendar Girls launched a global phenomenon: a million copycat calendars\, a record-breaking movie\, stage play and now a musical written by Gary Barlow and Tim Firth. \nThe Over Players was formed in 1984\, celebrating their 40th anniversary last year. They generally produce two large productions each year – a Spring show in May/June\, and a pantomime in December. Membership starts at age 11 with no upper age limit – and there are a number of members who have been involved since day one! The members are from Over as well as surrounding areas\, including Willingham\, St Ives\, Fenstanton\, Swavesey\, Northstowe and Huntingdon. \nTickets are available from  https://overplayers.uk/ \nTime: 7.30pm \nPrice: £12pp – Parental Guidance advised for children under the age of 14.
URL:https://cambridge105.co.uk/event/over-players-calendar-girls/
LOCATION:Over Community Centre\, Over\, Cambridgeshire\, United Kingdom
END:VEVENT
END:VCALENDAR