BEGIN:VCALENDAR
VERSION:2.0
PRODID:-//Cambridge Radio - ECPv5.7.0//NONSGML v1.0//EN
CALSCALE:GREGORIAN
METHOD:PUBLISH
X-WR-CALNAME:Cambridge Radio
X-ORIGINAL-URL:https://cambridge105.co.uk
X-WR-CALDESC:Events for Cambridge Radio
BEGIN:VTIMEZONE
TZID:Europe/London
BEGIN:DAYLIGHT
TZOFFSETFROM:+0000
TZOFFSETTO:+0100
TZNAME:BST
DTSTART:20260329T010000
END:DAYLIGHT
BEGIN:STANDARD
TZOFFSETFROM:+0100
TZOFFSETTO:+0000
TZNAME:GMT
DTSTART:20261025T010000
END:STANDARD
END:VTIMEZONE
BEGIN:VEVENT
DTSTART;VALUE=DATE:20260421
DTEND;VALUE=DATE:20260425
DTSTAMP:20260422T171719
CREATED:20260220T091322Z
LAST-MODIFIED:20260220T091322Z
UID:101030-1776729600-1777161599@cambridge105.co.uk
SUMMARY:Next to Normal
DESCRIPTION:Next to Normal is an electrifying Tony and Pulitzer Prize-winning rock musical that boldly explores themes of love\, grief\, mental illness and what it means to be ‘normal’. At its heart is Diana Goodman\, a suburban wife and mother living with bipolar disorder and haunted by her past. As her symptoms worsen and successful treatment remains elusive\, Diana struggles to connect with her ambitious\, anxious teenage daughter and her devoted husband. \nWith an unforgettable score by Tom Kitt and poignant book and lyrics by Brian Yorkey\, Next to Normal is an unflinching look at a suburban family struggling with the impact of mental illness. \nThis production is suitable for ages 12 and over. \nNightly performances at 7.45 pm with a matinee at 2.30 0n Saturday. \nTickets – £15.00 to £21.50 \nFor info go to https://www.adctheatre.com/whats-on/musical/next-to-normal/ \n 
URL:https://cambridge105.co.uk/event/next-to-normal/
LOCATION:ADC  Theatre\, Park Street\, Cambridge\,  CB5 8AS
END:VEVENT
END:VCALENDAR