BEGIN:VCALENDAR
VERSION:2.0
PRODID:-//Cambridge Radio - ECPv5.7.0//NONSGML v1.0//EN
CALSCALE:GREGORIAN
METHOD:PUBLISH
X-WR-CALNAME:Cambridge Radio
X-ORIGINAL-URL:https://cambridge105.co.uk
X-WR-CALDESC:Events for Cambridge Radio
BEGIN:VTIMEZONE
TZID:Europe/London
BEGIN:DAYLIGHT
TZOFFSETFROM:+0000
TZOFFSETTO:+0100
TZNAME:BST
DTSTART:20240331T010000
END:DAYLIGHT
BEGIN:STANDARD
TZOFFSETFROM:+0100
TZOFFSETTO:+0000
TZNAME:GMT
DTSTART:20241027T010000
END:STANDARD
END:VTIMEZONE
BEGIN:VEVENT
DTSTART;VALUE=DATE:20240621
DTEND;VALUE=DATE:20240816
DTSTAMP:20260421T203443
CREATED:20240509T071521Z
LAST-MODIFIED:20240509T071801Z
UID:91898-1718928000-1723852799@cambridge105.co.uk
SUMMARY:Newmarket Nights
DESCRIPTION:No other music event offers such great value as Newmarket Nights on the July Course! Music events at Newmarket allow you to enjoy unique evenings of racing and concerts in this incredible and beautiful setting. \nPete Tong’s Ibiza Classics live after evening racing – Friday 21 June 2024 at Newmarket Racecourses\, On the July Course\, \nJLS live after evening racing\, Friday 28 June 2024 at Newmarket Racecourses\, .On the July Course\, Expect to hear all their biggest hits when JLS takes to the Newmarket Nights stage. \nBusted live after evening racing\, Friday 19 July 2024 at Newmarket Racecourses\, On the July Course. \nJames Arthur live after evening racing\, Friday 2 August 2024 at Newmarket Racecourses\, On the July Course. An unforgettable evening of racing and live music. \nBecky Hill live after evening racing\, Friday 9 August 2024 at Newmarket Racecourses. On the July Course. Two-times BRIT Awards winner\, Beckyi Hill is set to make her Newmarket Nights headline debut on Friday 9th August. \nDeacon Blue live after evening racing\, Friday 16 August 2024 at Newmarket Racecourses. On the July Course. They bring their acclaimed ‘All The Old 45s – The Very Best of Deacon Blue’ tour to the July Course. \nFor info go to https://www.thejockeyclub.co.uk/newmarket/events-tickets/newmarket-nights/ \n 
URL:https://cambridge105.co.uk/event/newmarket-nights/
LOCATION:Newmarket Race Course\, Cambridgeshire\, United Kingdom
END:VEVENT
END:VCALENDAR