BEGIN:VCALENDAR
VERSION:2.0
PRODID:-//Cambridge Radio - ECPv5.7.0//NONSGML v1.0//EN
CALSCALE:GREGORIAN
METHOD:PUBLISH
X-WR-CALNAME:Cambridge Radio
X-ORIGINAL-URL:https://cambridge105.co.uk
X-WR-CALDESC:Events for Cambridge Radio
BEGIN:VTIMEZONE
TZID:Europe/London
BEGIN:DAYLIGHT
TZOFFSETFROM:+0000
TZOFFSETTO:+0100
TZNAME:BST
DTSTART:20250330T010000
END:DAYLIGHT
BEGIN:STANDARD
TZOFFSETFROM:+0100
TZOFFSETTO:+0000
TZNAME:GMT
DTSTART:20251026T010000
END:STANDARD
END:VTIMEZONE
BEGIN:VEVENT
DTSTART;VALUE=DATE:20250317
DTEND;VALUE=DATE:20250319
DTSTAMP:20260424T084319
CREATED:20250113T092548Z
LAST-MODIFIED:20250113T092548Z
UID:95322-1742173200-1742259599@cambridge105.co.uk
SUMMARY:Mike and The Mechanics
DESCRIPTION:Mike + The Mechanics will play their hits including ‘Over My Shoulder’\, ‘The Living Years’ and ‘All I Need Is A Miracle’ as well as drift into some of Genesis’s much loved classic tracks. \nMike Rutherford says “It’s exciting to announce that we will be touring The Mechanics again. Getting back on the road with the guys last year was a real pleasure. \nOriginally formed in 1985 by Mike Rutherford “as a side project to Genesis”\, Mike + The Mechanics originally featured Paul Young and Paul Carrack as frontmen\, and together\, they achieved huge commercial success throughout the 80s and 90s achieving number ones all over the world and going on to sell over 10 million albums. \nTime –19:30\n\nTickets – £48.00 – £58.00 (Including booking fee). \nFor info go to https://www.cornex.co.uk/events/mike-and-the-mechanics#ticket-overview
URL:https://cambridge105.co.uk/event/mike-and-the-mechanics/
LOCATION:Cambridge Corn Exchange\, 2 Wheeler Street\, Cambridge\, Cambridgeshire\, CB2 3QB\, United Kingdom
END:VEVENT
END:VCALENDAR