BEGIN:VCALENDAR
VERSION:2.0
PRODID:-//Cambridge Radio - ECPv5.7.0//NONSGML v1.0//EN
CALSCALE:GREGORIAN
METHOD:PUBLISH
X-WR-CALNAME:Cambridge Radio
X-ORIGINAL-URL:https://cambridge105.co.uk
X-WR-CALDESC:Events for Cambridge Radio
BEGIN:VTIMEZONE
TZID:Europe/London
BEGIN:DAYLIGHT
TZOFFSETFROM:+0000
TZOFFSETTO:+0100
TZNAME:BST
DTSTART:20240331T010000
END:DAYLIGHT
BEGIN:STANDARD
TZOFFSETFROM:+0100
TZOFFSETTO:+0000
TZNAME:GMT
DTSTART:20241027T010000
END:STANDARD
END:VTIMEZONE
BEGIN:VEVENT
DTSTART;VALUE=DATE:20240925
DTEND;VALUE=DATE:20240925
DTSTAMP:20260422T171914
CREATED:20240718T072729Z
LAST-MODIFIED:20240922T174324Z
UID:92783-1727222400-1727308799@cambridge105.co.uk
SUMMARY:Michael Palin - There and Back.  The Diary Tour
DESCRIPTION:Best-selling author and comedy legend Michael Palin is going back on the road! \nTen years since his last published diary\, Michael unlocks volume four of his life and times\, from 1999 to 2009. As the centuries change and Michael heads into middle age\, he’s busier than ever. In this new show\, with the help of rarely seen photos and video\, Michael brings these momentous times to life as he talks through this latest Diary to take us backstage on this most productive decade of his life\, whilst always\, in the background\, showing us the wider world\, one of infinite possibilities and new and unimagined dangers. \nHe takes on four new travel series\, and a wide variety of documentaries from art and artists to the last day of the First World War. He watches his family grow and expand at a time of ominous new threats and dangers. The Twin Towers fall\, bombs blast London\, banks collapse\, whole economies teeter on the brink. Tony Blair offers hope with the Good Friday agreement\, then embroils us in Iraq. \nMichael enters his 60s\, and finds grown-up responsibilities come his way. By the end of this diary\, he’s in his first year as President of the Royal Geographical Society. His diary reflects his constant struggle against routine and repetition\, and his irresistible and often nerve-shredding attraction to new challenges. Some work\, some don’t\, but by the end of this volume he’s reached the retirement age of 65. And he’s planning a new journey. \nTickets: £42.50. All tickets include a £3 booking fee \nFor info go to cambridgelive.org.uk
URL:https://cambridge105.co.uk/event/michael-palin-there-and-back-the-diary-tour/
LOCATION:Cambridge Corn Exchange\, 2 Wheeler Street\, Cambridge\, Cambridgeshire\, CB2 3QB\, United Kingdom
END:VEVENT
END:VCALENDAR