BEGIN:VCALENDAR
VERSION:2.0
PRODID:-//Cambridge Radio - ECPv5.7.0//NONSGML v1.0//EN
CALSCALE:GREGORIAN
METHOD:PUBLISH
X-WR-CALNAME:Cambridge Radio
X-ORIGINAL-URL:https://cambridge105.co.uk
X-WR-CALDESC:Events for Cambridge Radio
BEGIN:VTIMEZONE
TZID:Europe/London
BEGIN:DAYLIGHT
TZOFFSETFROM:+0000
TZOFFSETTO:+0100
TZNAME:BST
DTSTART:20250330T010000
END:DAYLIGHT
BEGIN:STANDARD
TZOFFSETFROM:+0100
TZOFFSETTO:+0000
TZNAME:GMT
DTSTART:20251026T010000
END:STANDARD
END:VTIMEZONE
BEGIN:VEVENT
DTSTART;VALUE=DATE:20250614
DTEND;VALUE=DATE:20250614
DTSTAMP:20260424T100407
CREATED:20250407T084007Z
LAST-MODIFIED:20250407T084007Z
UID:96893-1749859200-1749945599@cambridge105.co.uk
SUMMARY:Meet The Cows
DESCRIPTION:From 10.30am-12pm\, at Wandlebury Country Park. \nGentle guided walk to meet the Belted Galloway cows and learn how they improve the meadows for nature. \nPlease wear footwear and clothing for being outdoors.  Meet at the large noticeboard in the car park. \nFree event\, suggested donation £3. \nPlease pay for your car parking on arrival. \nFor info go to https://cambridgepastpresentandfuture.eu.rit.org.uk/Event/meet-the-cows-14june25
URL:https://cambridge105.co.uk/event/meet-the-cows-2/
LOCATION:Wandlebury Country Park\,  Cambridge\, Cambridgeshire\, CB22 3AE\, United Kingdom
END:VEVENT
END:VCALENDAR