BEGIN:VCALENDAR
VERSION:2.0
PRODID:-//Cambridge Radio - ECPv5.7.0//NONSGML v1.0//EN
CALSCALE:GREGORIAN
METHOD:PUBLISH
X-WR-CALNAME:Cambridge Radio
X-ORIGINAL-URL:https://cambridge105.co.uk
X-WR-CALDESC:Events for Cambridge Radio
BEGIN:VTIMEZONE
TZID:Europe/London
BEGIN:DAYLIGHT
TZOFFSETFROM:+0000
TZOFFSETTO:+0100
TZNAME:BST
DTSTART:20240331T010000
END:DAYLIGHT
BEGIN:STANDARD
TZOFFSETFROM:+0100
TZOFFSETTO:+0000
TZNAME:GMT
DTSTART:20241027T010000
END:STANDARD
END:VTIMEZONE
BEGIN:VEVENT
DTSTART;TZID=Europe/London:20240621T100000
DTEND;TZID=Europe/London:20240621T170000
DTSTAMP:20260422T034915
CREATED:20240619T135022Z
LAST-MODIFIED:20240619T135022Z
UID:92402-1718964000-1718989200@cambridge105.co.uk
SUMMARY:Make Music Day 2024
DESCRIPTION:Bring your friends\, colleagues\, children or come solo to enjoy the sounds of the city – this is a community event for all to enjoy! \nCambridge Station Square will be alive with music from 11am – 7pm\, and it’s FREE\, so there’s something to enjoy at all times of day. \nMake Music Day UK is an annual celebration of music-making with events in communities across the world on the 21st of June (to mark the summer solstice) and now takes place in more than 125 countries. \nCambridge 105 Radio will be broadcasting live to bring highlights of the festival to the airwaves. The stage is in Station Square near Gail’s\, visible as you exit the train station. foodPark will be serving up the food and drink – so grab a deckchair and enjoy the show. Expect great tunes\, music for all tastes\, and plenty of friendly faces. \nOur headline act is Cambridge’s very own Mr Griff. A session drummer turned front man\, songwriter and multi instrumentalist\, playing catchy\, soulful and incredibly funky original music\, alongside a live band. \nAny additions to the day will be posted on our Facebook Page so register your interest and stay up to date. \nFull line-up as follows: \n11.00 – Nadya Galbraith – @nadya.galbraith \nOne to watch – a young Cambridge singer with a strong vocal range\, kicking off the day for us. \n11.40 – Emile Bani – @childofchief \nA singer-songwriter whose stunning vocals combined with his use of Rhythm and Blue and Soul styles create an unmissable spectacle. \n12.20 – Georgia Nevada – @georgianevada \nSouthern Rock artist who has played a number of country festivals and venues across the UK. Well composed original music and a captivating performance guaranteed. \n13.00 – Uncle Arthur & The Alley Cat – @unc_arthur \nIn a league of their own when it comes to energy. An impressive blend of genres delivered with style\, don’t miss this incredible duo. \n13.40 – Josh Robins – @josh.robins.music \nRenowned travelling songwriter boasting performances at several big Folk festivals including Cambridge! Expect clever storytelling and articulate playing throughout his set. \n14.20 – Harri Beasley – @harribeasleymusic \nOne of Cambridge’s favourites\, a loop pedal magician\, you’ll be amazed at the depth of sound he can produce as a solo performer. \n15.30 – Beats & Babes – @beats.and.babes \nNew on the scene and creating waves since their debut events. A collective of female musicians empowering and uplifting others within the city\, serious feel good factor incoming. \n16.30 – Dorothea – @dorothea.music \nGreek artist Dorothea has made a deserved name for herself both as an original and covers artist\, come and see what all the hype is about. \n17.45 – Mr Griff – @mrgriffmusic \nOur headliner Mr Griff is an 8 piece wall of sound who deliver the finest funk\, soul and fusion you’ll hear in a long time. They’ll be playing Main Stage at the Cambridge Club Festival this year\, so it’s an honour to have them on our bill. \nMake Music Day is delivered by Cambridge BID\, in partnership with CB1 Community \nWe are grateful for the support of our event sponsor\, FORA
URL:https://cambridge105.co.uk/event/make-music-day-2024/
CATEGORIES:Cambridge Radio Coverage
END:VEVENT
END:VCALENDAR