BEGIN:VCALENDAR
VERSION:2.0
PRODID:-//Cambridge Radio - ECPv5.7.0//NONSGML v1.0//EN
CALSCALE:GREGORIAN
METHOD:PUBLISH
X-WR-CALNAME:Cambridge Radio
X-ORIGINAL-URL:https://cambridge105.co.uk
X-WR-CALDESC:Events for Cambridge Radio
BEGIN:VTIMEZONE
TZID:Europe/London
BEGIN:DAYLIGHT
TZOFFSETFROM:+0000
TZOFFSETTO:+0100
TZNAME:BST
DTSTART:20250330T010000
END:DAYLIGHT
BEGIN:STANDARD
TZOFFSETFROM:+0100
TZOFFSETTO:+0000
TZNAME:GMT
DTSTART:20251026T010000
END:STANDARD
END:VTIMEZONE
BEGIN:VEVENT
DTSTART;TZID=Europe/London:20250116T193000
DTEND;TZID=Europe/London:20250116T223000
DTSTAMP:20260423T184522
CREATED:20241125T092544Z
LAST-MODIFIED:20250112T110259Z
UID:94513-1737055800-1737066600@cambridge105.co.uk
SUMMARY:London Symphonic Rock Orchestra
DESCRIPTION:Boundary breaking pioneers fusing the omnipotent power of the orchestra with innovative technology and the raucous rebellion of rock\, London Symphonic Rock Orchestra deliver iconic rock hits in the most spectacular way. \nDressed as an army of rock warriors\, LSRO perform whilst immersed in a candlelit fantasy forest. The atmosphere is electric\, the musicians are mesmerising and the supersonic\, 100% live\, wall of sound they create leaves the audience instantly captivated. \nExpect re-imagined classic hits from: AC/DC\, Led Zeppelin\, Metallica\, Iron Maiden\, Guns N Roses\, Evanescence\, Motorhead\, Foo Fighters\, Rage against The Machine\, System of a Down and many more. \nTickets: £68\, £48\, £40.50\, £35.50. All tickets include a £3 booking fee. \nFor more information and to book tickets click here
URL:https://cambridge105.co.uk/event/london-symphonic-rock-orchestra/
LOCATION:Cambridge Corn Exchange\, 2 Wheeler Street\, Cambridge\, Cambridgeshire\, CB2 3QB\, United Kingdom
END:VEVENT
END:VCALENDAR