BEGIN:VCALENDAR
VERSION:2.0
PRODID:-//Cambridge Radio - ECPv5.7.0//NONSGML v1.0//EN
CALSCALE:GREGORIAN
METHOD:PUBLISH
X-WR-CALNAME:Cambridge Radio
X-ORIGINAL-URL:https://cambridge105.co.uk
X-WR-CALDESC:Events for Cambridge Radio
BEGIN:VTIMEZONE
TZID:Europe/London
BEGIN:DAYLIGHT
TZOFFSETFROM:+0000
TZOFFSETTO:+0100
TZNAME:BST
DTSTART:20250330T010000
END:DAYLIGHT
BEGIN:STANDARD
TZOFFSETFROM:+0100
TZOFFSETTO:+0000
TZNAME:GMT
DTSTART:20251026T010000
END:STANDARD
END:VTIMEZONE
BEGIN:VEVENT
DTSTART;VALUE=DATE:20250318
DTEND;VALUE=DATE:20250320
DTSTAMP:20260424T084348
CREATED:20250113T092957Z
LAST-MODIFIED:20250113T092957Z
UID:95324-1742259600-1742345999@cambridge105.co.uk
SUMMARY:Kim Wilde at The Corn Exchange
DESCRIPTION:In 2025 Kim Wilde and her band will be embarking on the ‘Closer Tour’. \nPlaying the legendary ‘Close’ album as well as songs from the upcoming ‘Closer’ album and of course her earlier hits. Kim has earned her reputation as a formidable live performer and her band are one the most exciting acts to watch in 2025. Expect to hear – You Came\, You Keep Me Hangin’ On\, Never Trust a Stranger\, Stone\, Chequered Love and of course\, Kids In America! \nTime – 19:30 \nCost – £40.50 – £153.00 (Including booking fee) \nFor info go to https://www.cornex.co.uk/events/kim-wilde
URL:https://cambridge105.co.uk/event/kim-wilde-at-the-corn-exchange/
LOCATION:Cambridge Corn Exchange\, 2 Wheeler Street\, Cambridge\, Cambridgeshire\, CB2 3QB\, United Kingdom
END:VEVENT
END:VCALENDAR