BEGIN:VCALENDAR
VERSION:2.0
PRODID:-//Cambridge Radio - ECPv5.7.0//NONSGML v1.0//EN
CALSCALE:GREGORIAN
METHOD:PUBLISH
X-WR-CALNAME:Cambridge Radio
X-ORIGINAL-URL:https://cambridge105.co.uk
X-WR-CALDESC:Events for Cambridge Radio
BEGIN:VTIMEZONE
TZID:Europe/London
BEGIN:DAYLIGHT
TZOFFSETFROM:+0000
TZOFFSETTO:+0100
TZNAME:BST
DTSTART:20250330T010000
END:DAYLIGHT
BEGIN:STANDARD
TZOFFSETFROM:+0100
TZOFFSETTO:+0000
TZNAME:GMT
DTSTART:20251026T010000
END:STANDARD
END:VTIMEZONE
BEGIN:VEVENT
DTSTART;VALUE=DATE:20250606
DTEND;VALUE=DATE:20250606
DTSTAMP:20260424T054243
CREATED:20250404T085341Z
LAST-MODIFIED:20250404T085415Z
UID:96835-1749168000-1749254399@cambridge105.co.uk
SUMMARY:James Taylor Quartet - Outdoor Concert
DESCRIPTION:An outdoor Jazz concert with Outdoor bar\, Pimms Bar & BBQ open 6:00pm \nSorry – no dogs on site except Guide Dogs \nFollowing their knockout show last summer\, the iconic JTQ return to the Granary with more of the coolest sounds in funky acid jazz. Led by Hammond Organ guru James Taylor\, JTQ are best known and loved for their kitschy-cool melodies including Blow-Up\, Green Onions and Starsky and Hutch. \nConcert 7:30pm\, ending c. 9:30pm (includes an interval) \nTickets £24 / £12 (under 25). BBQ & bar not included in ticket price. Both take cash & cards \nFor info go to https://www.staplefordgranary.org.uk/whats-on/events/james-taylor-quartet-courtyard-concert
URL:https://cambridge105.co.uk/event/james-taylor-quartet-outdoor-concert/
LOCATION:Stapleford Granary\, Bury Road\, Stapleford\, CB22 5BP
END:VEVENT
END:VCALENDAR