BEGIN:VCALENDAR
VERSION:2.0
PRODID:-//Cambridge Radio - ECPv5.7.0//NONSGML v1.0//EN
CALSCALE:GREGORIAN
METHOD:PUBLISH
X-WR-CALNAME:Cambridge Radio
X-ORIGINAL-URL:https://cambridge105.co.uk
X-WR-CALDESC:Events for Cambridge Radio
BEGIN:VTIMEZONE
TZID:Europe/London
BEGIN:DAYLIGHT
TZOFFSETFROM:+0000
TZOFFSETTO:+0100
TZNAME:BST
DTSTART:20250330T010000
END:DAYLIGHT
BEGIN:STANDARD
TZOFFSETFROM:+0100
TZOFFSETTO:+0000
TZNAME:GMT
DTSTART:20251026T010000
END:STANDARD
END:VTIMEZONE
BEGIN:VEVENT
DTSTART;VALUE=DATE:20250621
DTEND;VALUE=DATE:20250622
DTSTAMP:20260426T050046
CREATED:20250618T191136Z
LAST-MODIFIED:20250620T070046Z
UID:98076-1750464000-1750636799@cambridge105.co.uk
SUMMARY:In Steam and Classic Motorcycles Day at Cambridge Museum of Technology
DESCRIPTION:A Fantastic Day Out for the Whole Family! \nExperience the thrill of steam engines in action! The magnificent engines will be running throughout the day following an extensive restoration program\, made possible by thousands of volunteer hours and over £100\,000 in funding from local donations\, the Heritage Lottery Fund\, Historic England\, and the Architectural Heritage Fund. \nThe North Hathorn Davey engine\, fully repaired after a casting failure at our last event\, will be running again—an unmissable sight! A variety of smaller engines will also be in operation across the site. Be sure to check the timetable upon arrival so you don’t miss a moment of the action. \nFood & Drink\nEnjoy craft beer\, wine\, and delicious pizza at Engineers house\, or grab the finest coffee in Cambridge from Kerb Kollective \nMotorcycles \nAlongside our Steam Weekend\, on Sunday 22nd there’s the annual Classic Motorcycles Day! Access to this is included in the price of the ticket\, and the motorcycles will be here between 11-4. \nBook tickets online or on the day.
URL:https://cambridge105.co.uk/event/in-steam-and-classic-motorcycles-day-at-cambridge-museum-of-technology/
LOCATION:Cambridge Museum of Technology\, The Old Pumping Station\, Cheddars Lane \, Cambridge\, Cambridgeshire\, CB5 8LD\, United Kingdom
END:VEVENT
END:VCALENDAR