BEGIN:VCALENDAR
VERSION:2.0
PRODID:-//Cambridge Radio - ECPv5.7.0//NONSGML v1.0//EN
CALSCALE:GREGORIAN
METHOD:PUBLISH
X-WR-CALNAME:Cambridge Radio
X-ORIGINAL-URL:https://cambridge105.co.uk
X-WR-CALDESC:Events for Cambridge Radio
BEGIN:VTIMEZONE
TZID:Europe/London
BEGIN:DAYLIGHT
TZOFFSETFROM:+0000
TZOFFSETTO:+0100
TZNAME:BST
DTSTART:20250330T010000
END:DAYLIGHT
BEGIN:STANDARD
TZOFFSETFROM:+0100
TZOFFSETTO:+0000
TZNAME:GMT
DTSTART:20251026T010000
END:STANDARD
END:VTIMEZONE
BEGIN:VEVENT
DTSTART;VALUE=DATE:20250712
DTEND;VALUE=DATE:20250712
DTSTAMP:20260425T202717
CREATED:20250702T063803Z
LAST-MODIFIED:20250702T063803Z
UID:98234-1752278400-1752364799@cambridge105.co.uk
SUMMARY:Hornby Railway Collectors Association 3 Counties Event
DESCRIPTION:Taking place from 10.00 – 16.00\, at St Andrew’s Church\, Church Street\, Isleham\, CB7 5RX. \nVarious table-top railway collections: O gauge\, 3 and 2 rail & clockwork. \nRefreshments\, cakes\, BBQ & Bring & Buy stall. \n£1 entrance fee\, children under 16\, free. \nFunds raised to support St Andrew’s building fund. \nFor info e-mail catherinedurance@hotmail.com
URL:https://cambridge105.co.uk/event/hornby-railway-collectors-association-3-counties-event/
LOCATION:St Andrews Church Isleham\, Church Street\, Isleham\, CB7 5RX
END:VEVENT
END:VCALENDAR